Workbook

Sheet Register
A1: NEWQUAY & PAR AC JUNIOR SCHOOLS CROSS COUNTRY REGISTER 2022/23
A2: SCHOOL:
A3: Please complete the following but leave the no. Column blank
A4: No | B4: Do Not Touch cells below! | C4: School | D4: forename | E4: Surname | G4: year | I4: B/G | J4: position
A5: 1 | B5: =D5&" "&E5&" "&F5 -> Bella Brewer Y4 G | C5: Gorran | D5: Bella | E5: Brewer | F5: =G5&""&H5&" "&I5 -> Y4 G | G5: Y | H5: 4 | I5: G
A6: 2 | B6: =D6&" "&E6&" "&F6 -> Emily Cornelius Y4 G | C6: Gorran | D6: Emily | E6: Cornelius | F6: =G6&""&H6&" "&I6 -> Y4 G | G6: Y | H6: 4 | I6: G | K6: No publicity please
A7: 3 | B7: =D7&" "&E7&" "&F7 -> Lottie Fletcher Y4 G | C7: Gorran | D7: Lottie | E7: Fletcher | F7: =G7&""&H7&" "&I7 -> Y4 G | G7: Y | H7: 4 | I7: G
A8: 4 | B8: =D8&" "&E8&" "&F8 -> Alice Grimmett Y4 G | C8: Gorran | D8: Alice | E8: Grimmett | F8: =G8&""&H8&" "&I8 -> Y4 G | G8: Y | H8: 4 | I8: G
A9: 5 | B9: =D9&" "&E9&" "&F9 -> Chloe Mackrory Y4 G | C9: Gorran | D9: Chloe | E9: Mackrory | F9: =G9&""&H9&" "&I9 -> Y4 G | G9: Y | H9: 4 | I9: G
A10: 6 | B10: =D10&" "&E10&" "&F10 -> Zara Stewart Y4 G | C10: Gorran | D10: Zara | E10: Stewart | F10: =G10&""&H10&" "&I10 -> Y4 G | G10: Y | H10: 4 | I10: G | K10: No publicity please
A11: 7 | B11: =D11&" "&E11&" "&F11 -> Elsie Brown Y4 G | C11: Gorran | D11: Elsie | E11: Brown | F11: =G11&""&H11&" "&I11 -> Y4 G | G11: Y | H11: 4 | I11: G
A12: 8 | B12: =D12&" "&E12&" "&F12 -> Freddie Brown Y4 B | C12: Gorran | D12: Freddie | E12: Brown | F12: =G12&""&H12&" "&I12 -> Y4 B | G12: Y | H12: 4 | I12: B
A13: 9 | B13: =D13&" "&E13&" "&F13 -> Wilf Smejkal Y4 B | C13: Gorran | D13: Wilf | E13: Smejkal | F13: =G13&""&H13&" "&I13 -> Y4 B | G13: Y | H13: 4 | I13: B
A14: 10 | B14: =D14&" "&E14&" "&F14 -> Harry Crowe Y5 B | C14: Gorran | D14: Harry | E14: Crowe | F14: =G14&""&H14&" "&I14 -> Y5 B | G14: Y | H14: 5 | I14: B
A15: 11 | B15: =D15&" "&E15&" "&F15 -> Ruan Flack Y5 B | C15: Gorran | D15: Ruan | E15: Flack | F15: =G15&""&H15&" "&I15 -> Y5 B | G15: Y | H15: 5 | I15: B
A16: 12 | B16: =D16&" "&E16&" "&F16 -> JoJo Fraser Y5 B | C16: Gorran | D16: JoJo | E16: Fraser | F16: =G16&""&H16&" "&I16 -> Y5 B | G16: Y | H16: 5 | I16: B
A17: 13 | B17: =D17&" "&E17&" "&F17 -> Bertie Fraser Y5 B | C17: Gorran | D17: Bertie | E17: Fraser | F17: =G17&""&H17&" "&I17 -> Y5 B | G17: Y | H17: 5 | I17: B
A18: 14 | B18: =D18&" "&E18&" "&F18 -> William Talen Y5 B | C18: Gorran | D18: William | E18: Talen | F18: =G18&""&H18&" "&I18 -> Y5 B | G18: Y | H18: 5 | I18: B
A19: 15 | B19: =D19&" "&E19&" "&F19 -> Theia Stewart Y6 G | C19: Gorran | D19: Theia | E19: Stewart | F19: =G19&""&H19&" "&I19 -> Y6 G | G19: Y | H19: 6 | I19: G | K19: No publicity please
A20: 16 | B20: =D20&" "&E20&" "&F20 -> Guy Spencer Y6 B | C20: Gorran | D20: Guy | E20: Spencer | F20: =G20&""&H20&" "&I20 -> Y6 B | G20: Y | H20: 6 | I20: B
A21: 17 | B21: =D21&" "&E21&" "&F21 -> Harry Wilder Y6 B | C21: Gorran | D21: Harry | E21: Wilder | F21: =G21&""&H21&" "&I21 -> Y6 B | G21: Y | H21: 6 | I21: B
A22: 18 | B22: =D22&" "&E22&" "&F22 -> Y | C22: Gorran | F22: =G22&""&H22&" "&I22 -> Y | G22: Y
A23: 19 | B23: =D23&" "&E23&" "&F23 -> Y | C23: Gorran | F23: =G23&""&H23&" "&I23 -> Y | G23: Y
A24: 20 | B24: =D24&" "&E24&" "&F24 -> Y | C24: Gorran | F24: =G24&""&H24&" "&I24 -> Y | G24: Y
A25: 21 | B25: =D25&" "&E25&" "&F25 -> Y | C25: Gorran | F25: =G25&""&H25&" "&I25 -> Y | G25: Y
A26: 22 | B26: =D26&" "&E26&" "&F26 -> Y | C26: Gorran | F26: =G26&""&H26&" "&I26 -> Y | G26: Y
A27: 23 | B27: =D27&" "&E27&" "&F27 -> Y | C27: Gorran | F27: =G27&""&H27&" "&I27 -> Y | G27: Y
A28: 24 | B28: =D28&" "&E28&" "&F28 -> Y | C28: Gorran | F28: =G28&""&H28&" "&I28 -> Y | G28: Y
A29: 25 | B29: =D29&" "&E29&" "&F29 -> Y | C29: Gorran | F29: =G29&""&H29&" "&I29 -> Y | G29: Y
A30: 26 | B30: =D30&" "&E30&" "&F30 -> Y | C30: Gorran | F30: =G30&""&H30&" "&I30 -> Y | G30: Y
A31: 27 | B31: =D31&" "&E31&" "&F31 -> Y | C31: Gorran | F31: =G31&""&H31&" "&I31 -> Y | G31: Y
A32: 28 | B32: =D32&" "&E32&" "&F32 -> Y | C32: Gorran | F32: =G32&""&H32&" "&I32 -> Y | G32: Y
A33: 29 | B33: =D33&" "&E33&" "&F33 -> Y | C33: Gorran | F33: =G33&""&H33&" "&I33 -> Y | G33: Y
A34: 30 | B34: =D34&" "&E34&" "&F34 -> Y | C34: Gorran | F34: =G34&""&H34&" "&I34 -> Y | G34: Y
A35: 41 | B35: =D35&" "&E35&" "&F35 -> Henry Denning Y6 B | C35: Ladock CE School | D35: Henry | E35: Denning | F35: =G35&""&H35&" "&I35 -> Y6 B | G35: Y | H35: 6 | I35: B
A36: 42 | B36: =D36&" "&E36&" "&F36 -> Jude Egford Y6 B | C36: Ladock CE School | D36: Jude | E36: Egford | F36: =G36&""&H36&" "&I36 -> Y6 B | G36: Y | H36: 6 | I36: B | K36: No surname or photos
A37: 43 | B37: =D37&" "&E37&" "&F37 -> Harry Hogbin Y6 B | C37: Ladock CE School | D37: Harry | E37: Hogbin | F37: =G37&""&H37&" "&I37 -> Y6 B | G37: Y | H37: 6 | I37: B | K37: No surname
A38: 44 | B38: =D38&" "&E38&" "&F38 -> Darcey Lee Y6 G | C38: Ladock CE School | D38: Darcey | E38: Lee | F38: =G38&""&H38&" "&I38 -> Y6 G | G38: Y | H38: 6 | I38: G
A39: 45 | B39: =D39&" "&E39&" "&F39 -> Ted King Y5 B | C39: Ladock CE School | D39: Ted | E39: King | F39: =G39&""&H39&" "&I39 -> Y5 B | G39: Y | H39: 5 | I39: B
A40: 46 | B40: =D40&" "&E40&" "&F40 -> Adam Friggieri Haggerty Y6 B | C40: Ladock CE School | D40: Adam | E40: Friggieri Haggerty | F40: =G40&""&H40&" "&I40 -> Y6 B | G40: Y | H40: 6 | I40: B | K40: No surname
A41: 47 | B41: =D41&" "&E41&" "&F41 -> Mowenna Murray Y6 G | C41: Ladock CE School | D41: Mowenna | E41: Murray | F41: =G41&""&H41&" "&I41 -> Y6 G | G41: Y | H41: 6 | I41: G | K41: No surname
A42: 48 | B42: =D42&" "&E42&" "&F42 -> Y | C42: Ladock CE School | F42: =G42&""&H42&" "&I42 -> Y | G42: Y
A43: 49 | B43: =D43&" "&E43&" "&F43 -> Y | C43: Ladock CE School | F43: =G43&""&H43&" "&I43 -> Y | G43: Y
A44: 50 | B44: =D44&" "&E44&" "&F44 -> Y | C44: Ladock CE School | F44: =G44&""&H44&" "&I44 -> Y | G44: Y
A45: 61 | B45: =D45&" "&E45&" "&F45 -> Charlie Sinfield Y6 B | C45: St Petroc's, Bodmin | D45: Charlie | E45: Sinfield | F45: =G45&""&H45&" "&I45 -> Y6 B | G45: Y | H45: 6 | I45: B
A46: 62 | B46: =D46&" "&E46&" "&F46 -> Thomas Rowe Y6 B | C46: St Petroc's, Bodmin | D46: Thomas | E46: Rowe | F46: =G46&""&H46&" "&I46 -> Y6 B | G46: Y | H46: 6 | I46: B
A47: 63 | B47: =D47&" "&E47&" "&F47 -> Finley Whitmill Y6 B | C47: St Petroc's, Bodmin | D47: Finley | E47: Whitmill | F47: =G47&""&H47&" "&I47 -> Y6 B | G47: Y | H47: 6 | I47: B
A48: 64 | B48: =D48&" "&E48&" "&F48 -> Layla Blamey Y6 G | C48: St Petroc's, Bodmin | D48: Layla | E48: Blamey | F48: =G48&""&H48&" "&I48 -> Y6 G | G48: Y | H48: 6 | I48: G
A49: 65 | B49: =D49&" "&E49&" "&F49 -> Annie-Rose Teague Y6 G | C49: St Petroc's, Bodmin | D49: Annie-Rose | E49: Teague | F49: =G49&""&H49&" "&I49 -> Y6 G | G49: Y | H49: 6 | I49: G
A50: 66 | B50: =D50&" "&E50&" "&F50 -> Macey Collins Y6 G | C50: St Petroc's, Bodmin | D50: Macey | E50: Collins | F50: =G50&""&H50&" "&I50 -> Y6 G | G50: Y | H50: 6 | I50: G
A51: 67 | B51: =D51&" "&E51&" "&F51 -> Isobel Rowe Y4 G | C51: St Petroc's, Bodmin | D51: Isobel | E51: Rowe | F51: =G51&""&H51&" "&I51 -> Y4 G | G51: Y | H51: 4 | I51: G
A52: 68 | B52: =D52&" "&E52&" "&F52 -> Lucy Powesland Y4 G | C52: St Petroc's, Bodmin | D52: Lucy | E52: Powesland | F52: =G52&""&H52&" "&I52 -> Y4 G | G52: Y | H52: 4 | I52: G
A53: 69 | B53: =D53&" "&E53&" "&F53 -> Y | C53: St Petroc's, Bodmin | F53: =G53&""&H53&" "&I53 -> Y | G53: Y
A54: 70 | B54: =D54&" "&E54&" "&F54 -> Y | C54: St Petroc's, Bodmin | F54: =G54&""&H54&" "&I54 -> Y | G54: Y
A55: 71 | B55: =D55&" "&E55&" "&F55 -> Y | C55: St Petroc's, Bodmin | F55: =G55&""&H55&" "&I55 -> Y | G55: Y
A56: 72 | B56: =D56&" "&E56&" "&F56 -> Y | C56: St Petroc's, Bodmin | F56: =G56&""&H56&" "&I56 -> Y | G56: Y
A57: 73 | B57: =D57&" "&E57&" "&F57 -> Y | C57: St Petroc's, Bodmin | F57: =G57&""&H57&" "&I57 -> Y | G57: Y
A58: 74 | B58: =D58&" "&E58&" "&F58 -> Y | C58: St Petroc's, Bodmin | F58: =G58&""&H58&" "&I58 -> Y | G58: Y
A59: 75 | B59: =D59&" "&E59&" "&F59 -> Y | C59: St Petroc's, Bodmin | F59: =G59&""&H59&" "&I59 -> Y | G59: Y
A60: 86 | B60: =D60&" "&E60&" "&F60 -> Kohan Lambert O'Donahue Y5 B | C60: Tywardreath | D60: Kohan | E60: Lambert O'Donahue | F60: =G60&""&H60&" "&I60 -> Y5 B | G60: Y | H60: 5 | I60: B
A61: 87 | B61: =D61&" "&E61&" "&F61 -> Max Rees Y5 B | C61: Tywardreath | D61: Max | E61: Rees | F61: =G61&""&H61&" "&I61 -> Y5 B | G61: Y | H61: 5 | I61: B
A62: 88 | B62: =D62&" "&E62&" "&F62 -> Seb Empell Newman Y5 B | C62: Tywardreath | D62: Seb | E62: Empell Newman | F62: =G62&""&H62&" "&I62 -> Y5 B | G62: Y | H62: 5 | I62: B
A63: 89 | B63: =D63&" "&E63&" "&F63 -> Noah Grigg Y5 B | C63: Tywardreath | D63: Noah | E63: Grigg | F63: =G63&""&H63&" "&I63 -> Y5 B | G63: Y | H63: 5 | I63: B
A64: 90 | B64: =D64&" "&E64&" "&F64 -> Miles Pemberton Y5 B | C64: Tywardreath | D64: Miles | E64: Pemberton | F64: =G64&""&H64&" "&I64 -> Y5 B | G64: Y | H64: 5 | I64: B
A65: 91 | B65: =D65&" "&E65&" "&F65 -> Isaac Brown Y5 B | C65: Tywardreath | D65: Isaac | E65: Brown | F65: =G65&""&H65&" "&I65 -> Y5 B | G65: Y | H65: 5 | I65: B
A66: 92 | B66: =D66&" "&E66&" "&F66 -> Thomas Turner Y5 B | C66: Tywardreath | D66: Thomas | E66: Turner | F66: =G66&""&H66&" "&I66 -> Y5 B | G66: Y | H66: 5 | I66: B
A67: 93 | B67: =D67&" "&E67&" "&F67 -> Stanley Robinson Y5 B | C67: Tywardreath | D67: Stanley | E67: Robinson | F67: =G67&""&H67&" "&I67 -> Y5 B | G67: Y | H67: 5 | I67: B
A68: 94 | B68: =D68&" "&E68&" "&F68 -> Kaitlyn Best Y5 G | C68: Tywardreath | D68: Kaitlyn | E68: Best | F68: =G68&""&H68&" "&I68 -> Y5 G | G68: Y | H68: 5 | I68: G
A69: 95 | B69: =D69&" "&E69&" "&F69 -> Isla Mather Y5 G | C69: Tywardreath | D69: Isla | E69: Mather | F69: =G69&""&H69&" "&I69 -> Y5 G | G69: Y | H69: 5 | I69: G
A70: 96 | B70: =D70&" "&E70&" "&F70 -> Sophia Vercoe Y5 G | C70: Tywardreath | D70: Sophia | E70: Vercoe | F70: =G70&""&H70&" "&I70 -> Y5 G | G70: Y | H70: 5 | I70: G
A71: 97 | B71: =D71&" "&E71&" "&F71 -> Hope Y5 G | C71: Tywardreath | D71: Hope | F71: =G71&""&H71&" "&I71 -> Y5 G | G71: Y | H71: 5 | I71: G
A72: 98 | B72: =D72&" "&E72&" "&F72 -> Harry Kirwan Y6 B | C72: Tywardreath | D72: Harry | E72: Kirwan | F72: =G72&""&H72&" "&I72 -> Y6 B | G72: Y | H72: 6 | I72: B
A73: 99 | B73: =D73&" "&E73&" "&F73 -> Reubyn Howes Y6 B | C73: Tywardreath | D73: Reubyn | E73: Howes | F73: =G73&""&H73&" "&I73 -> Y6 B | G73: Y | H73: 6 | I73: B
A74: 100 | B74: =D74&" "&E74&" "&F74 -> Toby Greet Y6 B | C74: Tywardreath | D74: Toby | E74: Greet | F74: =G74&""&H74&" "&I74 -> Y6 B | G74: Y | H74: 6 | I74: B
A75: 101 | B75: =D75&" "&E75&" "&F75 -> Imogen Monroe Y6 G | C75: Tywardreath | D75: Imogen | E75: Monroe | F75: =G75&""&H75&" "&I75 -> Y6 G | G75: Y | H75: 6 | I75: G
A76: 102 | B76: =D76&" "&E76&" "&F76 -> Eadie-Mae Munn Y6 G | C76: Tywardreath | D76: Eadie-Mae | E76: Munn | F76: =G76&""&H76&" "&I76 -> Y6 G | G76: Y | H76: 6 | I76: G
A77: 103 | B77: =D77&" "&E77&" "&F77 -> Anouk Topps Y6 G | C77: Tywardreath | D77: Anouk | E77: Topps | F77: =G77&""&H77&" "&I77 -> Y6 G | G77: Y | H77: 6 | I77: G
A78: 104 | B78: =D78&" "&E78&" "&F78 -> Y | C78: Tywardreath | F78: =G78&""&H78&" "&I78 -> Y | G78: Y
A79: 105 | B79: =D79&" "&E79&" "&F79 -> Y | C79: Tywardreath | F79: =G79&""&H79&" "&I79 -> Y | G79: Y
A80: 120 | B80: =D80&" "&E80&" "&F80 -> Lyvie Cooper Y5 G | C80: Biscovey | D80: Lyvie | E80: Cooper | F80: =G80&""&H80&" "&I80 -> Y5 G | G80: Y | H80: 5 | I80: G
A81: 121 | B81: =D81&" "&E81&" "&F81 -> Maya Wishart Y5 G | C81: Biscovey | D81: Maya | E81: Wishart | F81: =G81&""&H81&" "&I81 -> Y5 G | G81: Y | H81: 5 | I81: G
A82: 122 | B82: =D82&" "&E82&" "&F82 -> Indi Mackenzie Y5 G | C82: Biscovey | D82: Indi | E82: Mackenzie | F82: =G82&""&H82&" "&I82 -> Y5 G | G82: Y | H82: 5 | I82: G
A83: 123 | B83: =D83&" "&E83&" "&F83 -> Bethanie Lelo Y5 G | C83: Biscovey | D83: Bethanie | E83: Lelo | F83: =G83&""&H83&" "&I83 -> Y5 G | G83: Y | H83: 5 | I83: G
A84: 124 | B84: =D84&" "&E84&" "&F84 -> Sienna Hannaford Y5 G | C84: Biscovey | D84: Sienna | E84: Hannaford | F84: =G84&""&H84&" "&I84 -> Y5 G | G84: Y | H84: 5 | I84: G
A85: 125 | B85: =D85&" "&E85&" "&F85 -> Tommy Grose Y5 B | C85: Biscovey | D85: Tommy | E85: Grose | F85: =G85&""&H85&" "&I85 -> Y5 B | G85: Y | H85: 5 | I85: B
A86: 126 | B86: =D86&" "&E86&" "&F86 -> Riley Newton Y5 B | C86: Biscovey | D86: Riley | E86: Newton | F86: =G86&""&H86&" "&I86 -> Y5 B | G86: Y | H86: 5 | I86: B
A87: 127 | B87: =D87&" "&E87&" "&F87 -> James Sleeman Y5 B | C87: Biscovey | D87: James | E87: Sleeman | F87: =G87&""&H87&" "&I87 -> Y5 B | G87: Y | H87: 5 | I87: B
A88: 128 | B88: =D88&" "&E88&" "&F88 -> Riley Cornelius Y5 B | C88: Biscovey | D88: Riley | E88: Cornelius | F88: =G88&""&H88&" "&I88 -> Y5 B | G88: Y | H88: 5 | I88: B
A89: 129 | B89: =D89&" "&E89&" "&F89 -> Finley Rowe Y5 B | C89: Biscovey | D89: Finley | E89: Rowe | F89: =G89&""&H89&" "&I89 -> Y5 B | G89: Y | H89: 5 | I89: B
A90: 130 | B90: =D90&" "&E90&" "&F90 -> Max Turner Y5 B | C90: Biscovey | D90: Max | E90: Turner | F90: =G90&""&H90&" "&I90 -> Y5 B | G90: Y | H90: 5 | I90: B
A91: 131 | B91: =D91&" "&E91&" "&F91 -> Harvey Doyle Y5 B | C91: Biscovey | D91: Harvey | E91: Doyle | F91: =G91&""&H91&" "&I91 -> Y5 B | G91: Y | H91: 5 | I91: B
... A114: 154 | B114: =D114&" "&E114&" "&F114 -> Phoebe Kaye Y5 G | C114: Biscovey | D114: Phoebe | E114: Kaye | F114: =G114&""&H114&" "&I114 -> Y5 G | G114: Y | H114: 5 | I114: G
A115: 155 | B115: =D115&" "&E115&" "&F115 -> Y | C115: Biscovey | F115: =G115&""&H115&" "&I115 -> Y | G115: Y
B116: =D116&" "&E116&" "&F116 -> Y | C116: Biscovey | F116: =G116&""&H116&" "&I116 -> Y | G116: Y
A117: 156 | B117: =D117&" "&E117&" "&F117 -> Millie Thomas Y4 G | C117: Treverbyn | D117: Millie | E117: Thomas | F117: =G117&""&H117&" "&I117 -> Y4 G | G117: Y | H117: 4 | I117: G
A118: 157 | B118: =D118&" "&E118&" "&F118 -> Athena Jefferies Y5 G | C118: Treverbyn | D118: Athena | E118: Jefferies | F118: =G118&""&H118&" "&I118 -> Y5 G | G118: Y | H118: 5 | I118: G
A119: 158 | B119: =D119&" "&E119&" "&F119 -> Finn Martyn Y5 B | C119: Treverbyn | D119: Finn | E119: Martyn | F119: =G119&""&H119&" "&I119 -> Y5 B | G119: Y | H119: 5 | I119: B
A120: 159 | B120: =D120&" "&E120&" "&F120 -> Sonny Needham Y5 B | C120: Treverbyn | D120: Sonny | E120: Needham | F120: =G120&""&H120&" "&I120 -> Y5 B | G120: Y | H120: 5 | I120: B
A121: 160 | B121: =D121&" "&E121&" "&F121 -> Ava-Lily Bissett Y6 G | C121: Treverbyn | D121: Ava-Lily | E121: Bissett | F121: =G121&""&H121&" "&I121 -> Y6 G | G121: Y | H121: 6 | I121: G
A122: 161 | B122: =D122&" "&E122&" "&F122 -> Senara Dunn Y6 G | C122: Treverbyn | D122: Senara | E122: Dunn | F122: =G122&""&H122&" "&I122 -> Y6 G | G122: Y | H122: 6 | I122: G
...

Sheet Yr5 actual
A1: NEWQUAY & PAR AC JUNIOR SCHOOLS CROSS COUNTRY 2023/24
A2: Results for Year 5 Boys & Girls combined 17 Jan 2024
A4: Pos | B4: No | C4: forename | D4: School | E4: time | F4: B | G4: G
A5: 1 | B5: 125 | C5: =IF(B5=0,0,VLOOKUP(B5,Register!$A$1:$B$1631,2,FALSE)) -> Tommy Grose Y5 B | D5: =IF(B5=0,0,VLOOKUP(C5,Register!$B$1:$C$1631,2,FALSE)) -> Biscovey | E5: 7.05 | F5: B
A6: 2 | B6: 10 | C6: =IF(B6=0,0,VLOOKUP(B6,Register!$A$1:$B$1631,2,FALSE)) -> Harry Crowe Y5 B | D6: =IF(B6=0,0,VLOOKUP(C6,Register!$B$1:$C$1631,2,FALSE)) -> Gorran | E6: 7.09 | F6: B
A7: 3 | B7: 159 | C7: =IF(B7=0,0,VLOOKUP(B7,Register!$A$1:$B$1631,2,FALSE)) -> Sonny Needham Y5 B | D7: =IF(B7=0,0,VLOOKUP(C7,Register!$B$1:$C$1631,2,FALSE)) -> Treverbyn | E7: 7.09 | F7: B
A8: 4 | B8: 14 | C8: =IF(B8=0,0,VLOOKUP(B8,Register!$A$1:$B$1631,2,FALSE)) -> William Talen Y5 B | D8: =IF(B8=0,0,VLOOKUP(C8,Register!$B$1:$C$1631,2,FALSE)) -> Gorran | E8: 7.11 | F8: B
A9: 5 | B9: 197 | C9: =IF(B9=0,0,VLOOKUP(B9,Register!$A$1:$B$1631,2,FALSE)) -> Douglas Kennard Y5 B | D9: =IF(B9=0,0,VLOOKUP(C9,Register!$B$1:$C$1631,2,FALSE)) -> St Wenn | E9: 7.11 | F9: B
A10: 6 | B10: 195 | C10: =IF(B10=0,0,VLOOKUP(B10,Register!$A$1:$B$1631,2,FALSE)) -> Otis Foley Y5 B | D10: =IF(B10=0,0,VLOOKUP(C10,Register!$B$1:$C$1631,2,FALSE)) -> St Wenn | E10: 7.14 | F10: B
A11: 7 | B11: 12 | C11: =IF(B11=0,0,VLOOKUP(B11,Register!$A$1:$B$1631,2,FALSE)) -> JoJo Fraser Y5 B | D11: =IF(B11=0,0,VLOOKUP(C11,Register!$B$1:$C$1631,2,FALSE)) -> Gorran | E11: 7.18 | F11: B
A12: 8 | B12: 130 | C12: =IF(B12=0,0,VLOOKUP(B12,Register!$A$1:$B$1631,2,FALSE)) -> Max Turner Y5 B | D12: =IF(B12=0,0,VLOOKUP(C12,Register!$B$1:$C$1631,2,FALSE)) -> Biscovey | E12: 7.2 | F12: B
A13: 9 | B13: 158 | C13: =IF(B13=0,0,VLOOKUP(B13,Register!$A$1:$B$1631,2,FALSE)) -> Finn Martyn Y5 B | D13: =IF(B13=0,0,VLOOKUP(C13,Register!$B$1:$C$1631,2,FALSE)) -> Treverbyn | E13: 7.34 | F13: B
A14: 10 | B14: 127 | C14: =IF(B14=0,0,VLOOKUP(B14,Register!$A$1:$B$1631,2,FALSE)) -> James Sleeman Y5 B | D14: =IF(B14=0,0,VLOOKUP(C14,Register!$B$1:$C$1631,2,FALSE)) -> Biscovey | E14: 7.35 | F14: B
A15: 11 | B15: 11 | C15: =IF(B15=0,0,VLOOKUP(B15,Register!$A$1:$B$1631,2,FALSE)) -> Ruan Flack Y5 B | D15: =IF(B15=0,0,VLOOKUP(C15,Register!$B$1:$C$1631,2,FALSE)) -> Gorran | E15: 7.4 | F15: B
A16: 12 | B16: 131 | C16: =IF(B16=0,0,VLOOKUP(B16,Register!$A$1:$B$1631,2,FALSE)) -> Harvey Doyle Y5 B | D16: =IF(B16=0,0,VLOOKUP(C16,Register!$B$1:$C$1631,2,FALSE)) -> Biscovey | E16: 7.4 | F16: B
... A35: 31 | B35: 92 | C35: =IF(B35=0,0,VLOOKUP(B35,Register!$A$1:$B$1631,2,FALSE)) -> Thomas Turner Y5 B | D35: =IF(B35=0,0,VLOOKUP(C35,Register!$B$1:$C$1631,2,FALSE)) -> Tywardreath | E35: 10.25 | F35: B
A36: 32 | B36: 157 | C36: =IF(B36=0,0,VLOOKUP(B36,Register!$A$1:$B$1631,2,FALSE)) -> Athena Jefferies Y5 G | D36: =IF(B36=0,0,VLOOKUP(C36,Register!$B$1:$C$1631,2,FALSE)) -> Treverbyn | E36: 7.22 | G36: G
A37: 33 | B37: 120 | C37: =IF(B37=0,0,VLOOKUP(B37,Register!$A$1:$B$1631,2,FALSE)) -> Lyvie Cooper Y5 G | D37: =IF(B37=0,0,VLOOKUP(C37,Register!$B$1:$C$1631,2,FALSE)) -> Biscovey | E37: 7.26 | G37: G
A38: 34 | B38: 124 | C38: =IF(B38=0,0,VLOOKUP(B38,Register!$A$1:$B$1631,2,FALSE)) -> Sienna Hannaford Y5 G | D38: =IF(B38=0,0,VLOOKUP(C38,Register!$B$1:$C$1631,2,FALSE)) -> Biscovey | E38: 7.4 | G38: G
A39: 35 | B39: 67 | C39: =IF(B39=0,0,VLOOKUP(B39,Register!$A$1:$B$1631,2,FALSE)) -> Isobel Rowe Y4 G | D39: =IF(B39=0,0,VLOOKUP(C39,Register!$B$1:$C$1631,2,FALSE)) -> St Petroc's, Bodmin | E39: 8.04 | G39: G
A40: 36 | B40: 68 | C40: =IF(B40=0,0,VLOOKUP(B40,Register!$A$1:$B$1631,2,FALSE)) -> Lucy Powesland Y4 G | D40: =IF(B40=0,0,VLOOKUP(C40,Register!$B$1:$C$1631,2,FALSE)) -> St Petroc's, Bodmin | E40: 8.05 | G40: G
A41: 37 | B41: 121 | C41: =IF(B41=0,0,VLOOKUP(B41,Register!$A$1:$B$1631,2,FALSE)) -> Maya Wishart Y5 G | D41: =IF(B41=0,0,VLOOKUP(C41,Register!$B$1:$C$1631,2,FALSE)) -> Biscovey | E41: 8.31 | G41: G
A42: 38 | B42: 122 | C42: =IF(B42=0,0,VLOOKUP(B42,Register!$A$1:$B$1631,2,FALSE)) -> Indi Mackenzie Y5 G | D42: =IF(B42=0,0,VLOOKUP(C42,Register!$B$1:$C$1631,2,FALSE)) -> Biscovey | E42: 8.34 | G42: G
A43: 39 | B43: 192 | C43: =IF(B43=0,0,VLOOKUP(B43,Register!$A$1:$B$1631,2,FALSE)) -> Marcy Bushell Y4 G | D43: =IF(B43=0,0,VLOOKUP(C43,Register!$B$1:$C$1631,2,FALSE)) -> St Wenn | E43: 8.43 | G43: G
A44: 40 | B44: 156 | C44: =IF(B44=0,0,VLOOKUP(B44,Register!$A$1:$B$1631,2,FALSE)) -> Millie Thomas Y4 G | D44: =IF(B44=0,0,VLOOKUP(C44,Register!$B$1:$C$1631,2,FALSE)) -> Treverbyn | E44: 8.46 | G44: G
A45: 41 | B45: 6 | C45: =IF(B45=0,0,VLOOKUP(B45,Register!$A$1:$B$1631,2,FALSE)) -> Zara Stewart Y4 G | D45: =IF(B45=0,0,VLOOKUP(C45,Register!$B$1:$C$1631,2,FALSE)) -> Gorran | E45: 9.15 | G45: G
A46: 42 | B46: 154 | C46: =IF(B46=0,0,VLOOKUP(B46,Register!$A$1:$B$1631,2,FALSE)) -> Phoebe Kaye Y5 G | D46: =IF(B46=0,0,VLOOKUP(C46,Register!$B$1:$C$1631,2,FALSE)) -> Biscovey | E46: 9.42 | G46: G
A47: 43 | B47: 123 | C47: =IF(B47=0,0,VLOOKUP(B47,Register!$A$1:$B$1631,2,FALSE)) -> Bethanie Lelo Y5 G | D47: =IF(B47=0,0,VLOOKUP(C47,Register!$B$1:$C$1631,2,FALSE)) -> Biscovey | E47: 9.45 | G47: G
... A52: 48 | B52: 194 | C52: =IF(B52=0,0,VLOOKUP(B52,Register!$A$1:$B$1631,2,FALSE)) -> Harper Opie Y4 G | D52: =IF(B52=0,0,VLOOKUP(C52,Register!$B$1:$C$1631,2,FALSE)) -> St Wenn | E52: 10.44 | G52: G
C53: =IF(B53=0,0,VLOOKUP(B53,Register!$A$1:$B$1631,2,FALSE)) -> 0 | D53: =IF(B53=0,0,VLOOKUP(C53,Register!$B$1:$C$1631,2,FALSE)) -> 0
C54: =IF(B54=0,0,VLOOKUP(B54,Register!$A$1:$B$1631,2,FALSE)) -> 0 | D54: =IF(B54=0,0,VLOOKUP(C54,Register!$B$1:$C$1631,2,FALSE)) -> 0
C55: =IF(B55=0,0,VLOOKUP(B55,Register!$A$1:$B$1631,2,FALSE)) -> 0 | D55: =IF(B55=0,0,VLOOKUP(C55,Register!$B$1:$C$1631,2,FALSE)) -> 0
C56: =IF(B56=0,0,VLOOKUP(B56,Register!$A$1:$B$1631,2,FALSE)) -> 0 | D56: =IF(B56=0,0,VLOOKUP(C56,Register!$B$1:$C$1631,2,FALSE)) -> 0
C57: =IF(B57=0,0,VLOOKUP(B57,Register!$A$1:$B$1631,2,FALSE)) -> 0 | D57: =IF(B57=0,0,VLOOKUP(C57,Register!$B$1:$C$1631,2,FALSE)) -> 0
C58: =IF(B58=0,0,VLOOKUP(B58,Register!$A$1:$B$1631,2,FALSE)) -> 0 | D58: =IF(B58=0,0,VLOOKUP(C58,Register!$B$1:$C$1631,2,FALSE)) -> 0
C59: =IF(B59=0,0,VLOOKUP(B59,Register!$A$1:$B$1631,2,FALSE)) -> 0 | D59: =IF(B59=0,0,VLOOKUP(C59,Register!$B$1:$C$1631,2,FALSE)) -> 0
C60: =IF(B60=0,0,VLOOKUP(B60,Register!$A$1:$B$1631,2,FALSE)) -> 0 | D60: =IF(B60=0,0,VLOOKUP(C60,Register!$B$1:$C$1631,2,FALSE)) -> 0
C61: =IF(B61=0,0,VLOOKUP(B61,Register!$A$1:$B$1631,2,FALSE)) -> 0 | D61: =IF(B61=0,0,VLOOKUP(C61,Register!$B$1:$C$1631,2,FALSE)) -> 0
C62: =IF(B62=0,0,VLOOKUP(B62,Register!$A$1:$B$1631,2,FALSE)) -> 0 | D62: =IF(B62=0,0,VLOOKUP(C62,Register!$B$1:$C$1631,2,FALSE)) -> 0
C63: =IF(B63=0,0,VLOOKUP(B63,Register!$A$1:$B$1631,2,FALSE)) -> 0 | D63: =IF(B63=0,0,VLOOKUP(C63,Register!$B$1:$C$1631,2,FALSE)) -> 0
C64: =IF(B64=0,0,VLOOKUP(B64,Register!$A$1:$B$1631,2,FALSE)) -> 0 | D64: =IF(B64=0,0,VLOOKUP(C64,Register!$B$1:$C$1631,2,FALSE)) -> 0
... C100: =IF(B100=0,0,VLOOKUP(B100,Register!$A$1:$B$1631,2,FALSE)) -> 0 | D100: =IF(B100=0,0,VLOOKUP(C100,Register!$B$1:$C$1631,2,FALSE)) -> 0
D101: =IF(B101=0,0,VLOOKUP(C101,Register!$B$1:$C$1631,2,FALSE)) -> 0

Sheet Yr5 Boys& Girls
A1: NEWQUAY & PAR AC JUNIOR SCHOOLS CROSS COUNTRY 2023/24 | G1: points | H1: team points | J1: NEWQUAY & PAR AC JUNIOR SCHOOLS CROSS COUNTRY 2023/24 | P1: points | Q1: team points
A2: Results for Year 5 Boys 17 Jan 2024 | J2: Results for Year 5 Girls 17 Jan 2024
A3: Course Record: Harry Hogbin Ladock CE 7m.27s 1 Mar 2023 | J3: Course Record: Lyvie Cooper Biscovey 8m.29s 1 Mar 2023
A4: Pos | B4: No | C4: forename | D4: School | E4: time | F4: scorer | J4: Pos | K4: No | L4: forename | M4: School | N4: time | O4: scorer
A5: 1 | B5: 125 | C5: =IF(B5=0,0,VLOOKUP(B5,Register!$A$1:$B$1631,2,FALSE)) -> Tommy Grose Y5 B | D5: =IF(B5=0,0,VLOOKUP(C5,Register!$B$1:$C$1631,2,FALSE)) -> Biscovey | E5: 7.05 | F5: A1 | G5: 100 | J5: 1 | K5: 157 | L5: =IF(K5=0,0,VLOOKUP(K5,Register!$A$1:$B$1631,2,FALSE)) -> Athena Jefferies Y5 G | M5: =IF(K5=0,0,VLOOKUP(L5,Register!$B$1:$C$1631,2,FALSE)) -> Treverbyn | N5: 7.22 | O5: A1 | P5: 100
A6: 2 | B6: 10 | C6: =IF(B6=0,0,VLOOKUP(B6,Register!$A$1:$B$1631,2,FALSE)) -> Harry Crowe Y5 B | D6: =IF(B6=0,0,VLOOKUP(C6,Register!$B$1:$C$1631,2,FALSE)) -> Gorran | E6: 7.09 | F6: B1 | G6: 99 | J6: 2 | K6: 120 | L6: =IF(K6=0,0,VLOOKUP(K6,Register!$A$1:$B$1631,2,FALSE)) -> Lyvie Cooper Y5 G | M6: =IF(K6=0,0,VLOOKUP(L6,Register!$B$1:$C$1631,2,FALSE)) -> Biscovey | N6: 7.26 | O6: B1 | P6: 99
A7: 3 | B7: 159 | C7: =IF(B7=0,0,VLOOKUP(B7,Register!$A$1:$B$1631,2,FALSE)) -> Sonny Needham Y5 B | D7: =IF(B7=0,0,VLOOKUP(C7,Register!$B$1:$C$1631,2,FALSE)) -> Treverbyn | E7: 7.09 | F7: C1 | G7: 98 | J7: 3 | K7: 124 | L7: =IF(K7=0,0,VLOOKUP(K7,Register!$A$1:$B$1631,2,FALSE)) -> Sienna Hannaford Y5 G | M7: =IF(K7=0,0,VLOOKUP(L7,Register!$B$1:$C$1631,2,FALSE)) -> Biscovey | N7: 7.4 | O7: B2 | P7: 98
A8: 4 | B8: 14 | C8: =IF(B8=0,0,VLOOKUP(B8,Register!$A$1:$B$1631,2,FALSE)) -> William Talen Y5 B | D8: =IF(B8=0,0,VLOOKUP(C8,Register!$B$1:$C$1631,2,FALSE)) -> Gorran | E8: 7.11 | F8: B2 | G8: 97 | J8: 4 | K8: 67 | L8: =IF(K8=0,0,VLOOKUP(K8,Register!$A$1:$B$1631,2,FALSE)) -> Isobel Rowe Y4 G | M8: =IF(K8=0,0,VLOOKUP(L8,Register!$B$1:$C$1631,2,FALSE)) -> St Petroc's, Bodmin | N8: 8.04 | O8: C1 | P8: 97
A9: 5 | B9: 197 | C9: =IF(B9=0,0,VLOOKUP(B9,Register!$A$1:$B$1631,2,FALSE)) -> Douglas Kennard Y5 B | D9: =IF(B9=0,0,VLOOKUP(C9,Register!$B$1:$C$1631,2,FALSE)) -> St Wenn | E9: 7.11 | F9: D1 | G9: 96 | J9: 5 | K9: 68 | L9: =IF(K9=0,0,VLOOKUP(K9,Register!$A$1:$B$1631,2,FALSE)) -> Lucy Powesland Y4 G | M9: =IF(K9=0,0,VLOOKUP(L9,Register!$B$1:$C$1631,2,FALSE)) -> St Petroc's, Bodmin | N9: 8.05 | O9: C2 | P9: 96 | Q9: 193
A10: 6 | B10: 195 | C10: =IF(B10=0,0,VLOOKUP(B10,Register!$A$1:$B$1631,2,FALSE)) -> Otis Foley Y5 B | D10: =IF(B10=0,0,VLOOKUP(C10,Register!$B$1:$C$1631,2,FALSE)) -> St Wenn | E10: 7.14 | F10: D2 | G10: 95 | J10: 6 | K10: 121 | L10: =IF(K10=0,0,VLOOKUP(K10,Register!$A$1:$B$1631,2,FALSE)) -> Maya Wishart Y5 G | M10: =IF(K10=0,0,VLOOKUP(L10,Register!$B$1:$C$1631,2,FALSE)) -> Biscovey | N10: 8.31 | O10: B3 | P10: 95 | Q10: 292
A11: 7 | B11: 12 | C11: =IF(B11=0,0,VLOOKUP(B11,Register!$A$1:$B$1631,2,FALSE)) -> JoJo Fraser Y5 B | D11: =IF(B11=0,0,VLOOKUP(C11,Register!$B$1:$C$1631,2,FALSE)) -> Gorran | E11: 7.18 | F11: B3 | G11: 94 | H11: 290 | J11: 7 | K11: 122 | L11: =IF(K11=0,0,VLOOKUP(K11,Register!$A$1:$B$1631,2,FALSE)) -> Indi Mackenzie Y5 G | M11: =IF(K11=0,0,VLOOKUP(L11,Register!$B$1:$C$1631,2,FALSE)) -> Biscovey | N11: 8.34 | O11: B4 | P11: 94
A12: 8 | B12: 130 | C12: =IF(B12=0,0,VLOOKUP(B12,Register!$A$1:$B$1631,2,FALSE)) -> Max Turner Y5 B | D12: =IF(B12=0,0,VLOOKUP(C12,Register!$B$1:$C$1631,2,FALSE)) -> Biscovey | E12: 7.2 | F12: A2 | G12: 93 | J12: 8 | K12: 192 | L12: =IF(K12=0,0,VLOOKUP(K12,Register!$A$1:$B$1631,2,FALSE)) -> Marcy Bushell Y4 G | M12: =IF(K12=0,0,VLOOKUP(L12,Register!$B$1:$C$1631,2,FALSE)) -> St Wenn | N12: 8.43 | O12: D1 | P12: 93
A13: 9 | B13: 158 | C13: =IF(B13=0,0,VLOOKUP(B13,Register!$A$1:$B$1631,2,FALSE)) -> Finn Martyn Y5 B | D13: =IF(B13=0,0,VLOOKUP(C13,Register!$B$1:$C$1631,2,FALSE)) -> Treverbyn | E13: 7.34 | F13: C2 | G13: 92 | H13: 190 | J13: 9 | K13: 156 | L13: =IF(K13=0,0,VLOOKUP(K13,Register!$A$1:$B$1631,2,FALSE)) -> Millie Thomas Y4 G | M13: =IF(K13=0,0,VLOOKUP(L13,Register!$B$1:$C$1631,2,FALSE)) -> Treverbyn | N13: 8.46 | O13: A2 | P13: 92 | Q13: 192
A14: 10 | B14: 127 | C14: =IF(B14=0,0,VLOOKUP(B14,Register!$A$1:$B$1631,2,FALSE)) -> James Sleeman Y5 B | D14: =IF(B14=0,0,VLOOKUP(C14,Register!$B$1:$C$1631,2,FALSE)) -> Biscovey | E14: 7.35 | F14: A3 | G14: 91 | H14: 284 | J14: 10 | K14: 6 | L14: =IF(K14=0,0,VLOOKUP(K14,Register!$A$1:$B$1631,2,FALSE)) -> Zara Stewart Y4 G | M14: =IF(K14=0,0,VLOOKUP(L14,Register!$B$1:$C$1631,2,FALSE)) -> Gorran | N14: 9.15 | O14: E1 | P14: 91
A15: 11 | B15: 11 | C15: =IF(B15=0,0,VLOOKUP(B15,Register!$A$1:$B$1631,2,FALSE)) -> Ruan Flack Y5 B | D15: =IF(B15=0,0,VLOOKUP(C15,Register!$B$1:$C$1631,2,FALSE)) -> Gorran | E15: 7.4 | G15: 90 | J15: 11 | K15: 154 | L15: =IF(K15=0,0,VLOOKUP(K15,Register!$A$1:$B$1631,2,FALSE)) -> Phoebe Kaye Y5 G | M15: =IF(K15=0,0,VLOOKUP(L15,Register!$B$1:$C$1631,2,FALSE)) -> Biscovey | N15: 9.42 | O15: B5 | P15: 90
A16: 12 | B16: 131 | C16: =IF(B16=0,0,VLOOKUP(B16,Register!$A$1:$B$1631,2,FALSE)) -> Harvey Doyle Y5 B | D16: =IF(B16=0,0,VLOOKUP(C16,Register!$B$1:$C$1631,2,FALSE)) -> Biscovey | E16: 7.4 | F16: A4 | G16: 89 | J16: 12 | K16: 123 | L16: =IF(K16=0,0,VLOOKUP(K16,Register!$A$1:$B$1631,2,FALSE)) -> Bethanie Lelo Y5 G | M16: =IF(K16=0,0,VLOOKUP(L16,Register!$B$1:$C$1631,2,FALSE)) -> Biscovey | N16: 9.45 | O16: B6 | P16: 89 | Q16: 273
A17: 13 | B17: 132 | C17: =IF(B17=0,0,VLOOKUP(B17,Register!$A$1:$B$1631,2,FALSE)) -> Seth Pickles Y5 B | D17: =IF(B17=0,0,VLOOKUP(C17,Register!$B$1:$C$1631,2,FALSE)) -> Biscovey | E17: 7.48 | F17: A5 | G17: 88 | J17: 13 | K17: 94 | L17: =IF(K17=0,0,VLOOKUP(K17,Register!$A$1:$B$1631,2,FALSE)) -> Kaitlyn Best Y5 G | M17: =IF(K17=0,0,VLOOKUP(L17,Register!$B$1:$C$1631,2,FALSE)) -> Tywardreath | N17: 10.3 | O17: F1 | P17: 88
A18: 14 | B18: 129 | C18: =IF(B18=0,0,VLOOKUP(B18,Register!$A$1:$B$1631,2,FALSE)) -> Finley Rowe Y5 B | D18: =IF(B18=0,0,VLOOKUP(C18,Register!$B$1:$C$1631,2,FALSE)) -> Biscovey | E18: 7.5 | F18: A6 | G18: 87 | H18: 264 | J18: 14 | K18: 96 | L18: =IF(K18=0,0,VLOOKUP(K18,Register!$A$1:$B$1631,2,FALSE)) -> Sophia Vercoe Y5 G | M18: =IF(K18=0,0,VLOOKUP(L18,Register!$B$1:$C$1631,2,FALSE)) -> Tywardreath | N18: 10.35 | O18: F2 | P18: 87 | Q18: 175
A19: 15 | B19: 173 | C19: =IF(B19=0,0,VLOOKUP(B19,Register!$A$1:$B$1631,2,FALSE)) -> Oliver Sanders Y5 B | D19: =IF(B19=0,0,VLOOKUP(C19,Register!$B$1:$C$1631,2,FALSE)) -> Probus | E19: 7.5 | G19: 86 | J19: 15 | K19: 5 | L19: =IF(K19=0,0,VLOOKUP(K19,Register!$A$1:$B$1631,2,FALSE)) -> Chloe Mackrory Y4 G | M19: =IF(K19=0,0,VLOOKUP(L19,Register!$B$1:$C$1631,2,FALSE)) -> Gorran | N19: 10.38 | O19: E2 | P19: 86
A20: 16 | B20: 135 | C20: =IF(B20=0,0,VLOOKUP(B20,Register!$A$1:$B$1631,2,FALSE)) -> Heath Clark Y5 B | D20: =IF(B20=0,0,VLOOKUP(C20,Register!$B$1:$C$1631,2,FALSE)) -> Biscovey | E20: 7.56 | F20: A7 | G20: 85 | J20: 16 | K20: 2 | L20: =IF(K20=0,0,VLOOKUP(K20,Register!$A$1:$B$1631,2,FALSE)) -> Emily Cornelius Y4 G | M20: =IF(K20=0,0,VLOOKUP(L20,Register!$B$1:$C$1631,2,FALSE)) -> Gorran | N20: 10.38 | O20: E3 | P20: 85 | Q20: 262
A21: 17 | B21: 196 | C21: =IF(B21=0,0,VLOOKUP(B21,Register!$A$1:$B$1631,2,FALSE)) -> William Mcnee Y5 B | D21: =IF(B21=0,0,VLOOKUP(C21,Register!$B$1:$C$1631,2,FALSE)) -> St Wenn | E21: 7.58 | F21: D3 | G21: 84 | H21: 275 | J21: 17 | K21: 194 | L21: =IF(K21=0,0,VLOOKUP(K21,Register!$A$1:$B$1631,2,FALSE)) -> Harper Opie Y4 G | M21: =IF(K21=0,0,VLOOKUP(L21,Register!$B$1:$C$1631,2,FALSE)) -> St Wenn | N21: 10.44 | O21: D2 | P21: 84 | Q21: 177
A22: 18 | B22: 91 | C22: =IF(B22=0,0,VLOOKUP(B22,Register!$A$1:$B$1631,2,FALSE)) -> Isaac Brown Y5 B | D22: =IF(B22=0,0,VLOOKUP(C22,Register!$B$1:$C$1631,2,FALSE)) -> Tywardreath | E22: 8 | F22: E1 | G22: 83 | L22: =IF(K22=0,0,VLOOKUP(K22,Register!$A$1:$B$1631,2,FALSE)) -> 0 | M22: =IF(K22=0,0,VLOOKUP(L22,Register!$B$1:$C$1631,2,FALSE)) -> 0
A23: 19 | B23: 134 | C23: =IF(B23=0,0,VLOOKUP(B23,Register!$A$1:$B$1631,2,FALSE)) -> Tyler Nicholls Y5 B | D23: =IF(B23=0,0,VLOOKUP(C23,Register!$B$1:$C$1631,2,FALSE)) -> Biscovey | E23: 8.08 | F23: A8 | G23: 82 | L23: =IF(K23=0,0,VLOOKUP(K23,Register!$A$1:$B$1631,2,FALSE)) -> 0 | M23: =IF(K23=0,0,VLOOKUP(L23,Register!$B$1:$C$1631,2,FALSE)) -> 0
A24: 20 | B24: 89 | C24: =IF(B24=0,0,VLOOKUP(B24,Register!$A$1:$B$1631,2,FALSE)) -> Noah Grigg Y5 B | D24: =IF(B24=0,0,VLOOKUP(C24,Register!$B$1:$C$1631,2,FALSE)) -> Tywardreath | E24: 8.1 | F24: E2 | G24: 81 | L24: =IF(K24=0,0,VLOOKUP(K24,Register!$A$1:$B$1631,2,FALSE)) -> 0 | M24: =IF(K24=0,0,VLOOKUP(L24,Register!$B$1:$C$1631,2,FALSE)) -> 0
A25: 21 | B25: 172 | C25: =IF(B25=0,0,VLOOKUP(B25,Register!$A$1:$B$1631,2,FALSE)) -> Roman Dryzmala Y5 B | D25: =IF(B25=0,0,VLOOKUP(C25,Register!$B$1:$C$1631,2,FALSE)) -> Probus | E25: 8.28 | G25: 80 | L25: =IF(K25=0,0,VLOOKUP(K25,Register!$A$1:$B$1631,2,FALSE)) -> 0 | M25: =IF(K25=0,0,VLOOKUP(L25,Register!$B$1:$C$1631,2,FALSE)) -> 0
A26: 22 | B26: 136 | C26: =IF(B26=0,0,VLOOKUP(B26,Register!$A$1:$B$1631,2,FALSE)) -> Oliver Robinson Y5 B | D26: =IF(B26=0,0,VLOOKUP(C26,Register!$B$1:$C$1631,2,FALSE)) -> Biscovey | E26: 8.44 | F26: A9 | G26: 79 | H26: 246 | L26: =IF(K26=0,0,VLOOKUP(K26,Register!$A$1:$B$1631,2,FALSE)) -> 0 | M26: =IF(K26=0,0,VLOOKUP(L26,Register!$B$1:$C$1631,2,FALSE)) -> 0
A27: 23 | B27: 90 | C27: =IF(B27=0,0,VLOOKUP(B27,Register!$A$1:$B$1631,2,FALSE)) -> Miles Pemberton Y5 B | D27: =IF(B27=0,0,VLOOKUP(C27,Register!$B$1:$C$1631,2,FALSE)) -> Tywardreath | E27: 9.04 | F27: E3 | G27: 78 | H27: 242 | L27: =IF(K27=0,0,VLOOKUP(K27,Register!$A$1:$B$1631,2,FALSE)) -> 0 | M27: =IF(K27=0,0,VLOOKUP(L27,Register!$B$1:$C$1631,2,FALSE)) -> 0
A28: 24 | B28: 88 | C28: =IF(B28=0,0,VLOOKUP(B28,Register!$A$1:$B$1631,2,FALSE)) -> Seb Empell Newman Y5 B | D28: =IF(B28=0,0,VLOOKUP(C28,Register!$B$1:$C$1631,2,FALSE)) -> Tywardreath | E28: 9.12 | F28: E4 | G28: 77 | L28: =IF(K28=0,0,VLOOKUP(K28,Register!$A$1:$B$1631,2,FALSE)) -> 0 | M28: =IF(K28=0,0,VLOOKUP(L28,Register!$B$1:$C$1631,2,FALSE)) -> 0
A29: 25 | B29: 93 | C29: =IF(B29=0,0,VLOOKUP(B29,Register!$A$1:$B$1631,2,FALSE)) -> Stanley Robinson Y5 B | D29: =IF(B29=0,0,VLOOKUP(C29,Register!$B$1:$C$1631,2,FALSE)) -> Tywardreath | E29: 9.19 | F29: E5 | G29: 76 | L29: =IF(K29=0,0,VLOOKUP(K29,Register!$A$1:$B$1631,2,FALSE)) -> 0 | M29: =IF(K29=0,0,VLOOKUP(L29,Register!$B$1:$C$1631,2,FALSE)) -> 0
A30: 26 | B30: 87 | C30: =IF(B30=0,0,VLOOKUP(B30,Register!$A$1:$B$1631,2,FALSE)) -> Max Rees Y5 B | D30: =IF(B30=0,0,VLOOKUP(C30,Register!$B$1:$C$1631,2,FALSE)) -> Tywardreath | E30: 9.33 | F30: E6 | G30: 75 | H30: 228 | L30: =IF(K30=0,0,VLOOKUP(K30,Register!$A$1:$B$1631,2,FALSE)) -> 0 | M30: =IF(K30=0,0,VLOOKUP(L30,Register!$B$1:$C$1631,2,FALSE)) -> 0
A31: 27 | B31: 126 | C31: =IF(B31=0,0,VLOOKUP(B31,Register!$A$1:$B$1631,2,FALSE)) -> Riley Newton Y5 B | D31: =IF(B31=0,0,VLOOKUP(C31,Register!$B$1:$C$1631,2,FALSE)) -> Biscovey | E31: 9.4 | G31: 74 | L31: =IF(K31=0,0,VLOOKUP(K31,Register!$A$1:$B$1631,2,FALSE)) -> 0 | M31: =IF(K31=0,0,VLOOKUP(L31,Register!$B$1:$C$1631,2,FALSE)) -> 0
A32: 28 | B32: 198 | C32: =IF(B32=0,0,VLOOKUP(B32,Register!$A$1:$B$1631,2,FALSE)) -> Jasper Kent Y5 B | D32: =IF(B32=0,0,VLOOKUP(C32,Register!$B$1:$C$1631,2,FALSE)) -> St Wenn | E32: 9.42 | G32: 73 | L32: =IF(K32=0,0,VLOOKUP(K32,Register!$A$1:$B$1631,2,FALSE)) -> 0 | M32: =IF(K32=0,0,VLOOKUP(L32,Register!$B$1:$C$1631,2,FALSE)) -> 0
A33: 29 | B33: 191 | C33: =IF(B33=0,0,VLOOKUP(B33,Register!$A$1:$B$1631,2,FALSE)) -> Jack Barrett Y4 B | D33: =IF(B33=0,0,VLOOKUP(C33,Register!$B$1:$C$1631,2,FALSE)) -> St Wenn | E33: 9.59 | G33: 72 | L33: =IF(K33=0,0,VLOOKUP(K33,Register!$A$1:$B$1631,2,FALSE)) -> 0 | M33: =IF(K33=0,0,VLOOKUP(L33,Register!$B$1:$C$1631,2,FALSE)) -> 0
A34: 30 | B34: 133 | C34: =IF(B34=0,0,VLOOKUP(B34,Register!$A$1:$B$1631,2,FALSE)) -> Oliver Baker Y5 B | D34: =IF(B34=0,0,VLOOKUP(C34,Register!$B$1:$C$1631,2,FALSE)) -> Biscovey | E34: 10.22 | G34: 71 | L34: =IF(K34=0,0,VLOOKUP(K34,Register!$A$1:$B$1631,2,FALSE)) -> 0 | M34: =IF(K34=0,0,VLOOKUP(L34,Register!$B$1:$C$1631,2,FALSE)) -> 0
A35: 31 | B35: 92 | C35: =IF(B35=0,0,VLOOKUP(B35,Register!$A$1:$B$1631,2,FALSE)) -> Thomas Turner Y5 B | D35: =IF(B35=0,0,VLOOKUP(C35,Register!$B$1:$C$1631,2,FALSE)) -> Tywardreath | E35: 10.25 | G35: 70 | L35: =IF(K35=0,0,VLOOKUP(K35,Register!$A$1:$B$1631,2,FALSE)) -> 0 | M35: =IF(K35=0,0,VLOOKUP(L35,Register!$B$1:$C$1631,2,FALSE)) -> 0
C36: =IF(B36=0,0,VLOOKUP(B36,Register!$A$1:$B$1631,2,FALSE)) -> 0 | D36: =IF(B36=0,0,VLOOKUP(C36,Register!$B$1:$C$1631,2,FALSE)) -> 0 | L36: =IF(K36=0,0,VLOOKUP(K36,Register!$A$1:$B$1631,2,FALSE)) -> 0 | M36: =IF(K36=0,0,VLOOKUP(L36,Register!$B$1:$C$1631,2,FALSE)) -> 0
C37: =IF(B37=0,0,VLOOKUP(B37,Register!$A$1:$B$1631,2,FALSE)) -> 0 | D37: =IF(B37=0,0,VLOOKUP(C37,Register!$B$1:$C$1631,2,FALSE)) -> 0 | L37: =IF(K37=0,0,VLOOKUP(K37,Register!$A$1:$B$1631,2,FALSE)) -> 0 | M37: =IF(K37=0,0,VLOOKUP(L37,Register!$B$1:$C$1631,2,FALSE)) -> 0
C38: =IF(B38=0,0,VLOOKUP(B38,Register!$A$1:$B$1631,2,FALSE)) -> 0 | D38: =IF(B38=0,0,VLOOKUP(C38,Register!$B$1:$C$1631,2,FALSE)) -> 0 | L38: =IF(K38=0,0,VLOOKUP(K38,Register!$A$1:$B$1631,2,FALSE)) -> 0 | M38: =IF(K38=0,0,VLOOKUP(L38,Register!$B$1:$C$1631,2,FALSE)) -> 0
C39: =IF(B39=0,0,VLOOKUP(B39,Register!$A$1:$B$1631,2,FALSE)) -> 0 | D39: =IF(B39=0,0,VLOOKUP(C39,Register!$B$1:$C$1631,2,FALSE)) -> 0 | L39: =IF(K39=0,0,VLOOKUP(K39,Register!$A$1:$B$1631,2,FALSE)) -> 0 | M39: =IF(K39=0,0,VLOOKUP(L39,Register!$B$1:$C$1631,2,FALSE)) -> 0
C40: =IF(B40=0,0,VLOOKUP(B40,Register!$A$1:$B$1631,2,FALSE)) -> 0 | D40: =IF(B40=0,0,VLOOKUP(C40,Register!$B$1:$C$1631,2,FALSE)) -> 0 | L40: =IF(K40=0,0,VLOOKUP(K40,Register!$A$1:$B$1631,2,FALSE)) -> 0 | M40: =IF(K40=0,0,VLOOKUP(L40,Register!$B$1:$C$1631,2,FALSE)) -> 0
C41: =IF(B41=0,0,VLOOKUP(B41,Register!$A$1:$B$1631,2,FALSE)) -> 0 | D41: =IF(B41=0,0,VLOOKUP(C41,Register!$B$1:$C$1631,2,FALSE)) -> 0 | L41: =IF(K41=0,0,VLOOKUP(K41,Register!$A$1:$B$1631,2,FALSE)) -> 0 | M41: =IF(K41=0,0,VLOOKUP(L41,Register!$B$1:$C$1631,2,FALSE)) -> 0
C42: =IF(B42=0,0,VLOOKUP(B42,Register!$A$1:$B$1631,2,FALSE)) -> 0 | D42: =IF(B42=0,0,VLOOKUP(C42,Register!$B$1:$C$1631,2,FALSE)) -> 0 | L42: =IF(K42=0,0,VLOOKUP(K42,Register!$A$1:$B$1631,2,FALSE)) -> 0 | M42: =IF(K42=0,0,VLOOKUP(L42,Register!$B$1:$C$1631,2,FALSE)) -> 0
C43: =IF(B43=0,0,VLOOKUP(B43,Register!$A$1:$B$1631,2,FALSE)) -> 0 | D43: =IF(B43=0,0,VLOOKUP(C43,Register!$B$1:$C$1631,2,FALSE)) -> 0 | L43: =IF(K43=0,0,VLOOKUP(K43,Register!$A$1:$B$1631,2,FALSE)) -> 0 | M43: =IF(K43=0,0,VLOOKUP(L43,Register!$B$1:$C$1631,2,FALSE)) -> 0
C44: =IF(B44=0,0,VLOOKUP(B44,Register!$A$1:$B$1631,2,FALSE)) -> 0 | D44: =IF(B44=0,0,VLOOKUP(C44,Register!$B$1:$C$1631,2,FALSE)) -> 0 | L44: =IF(K44=0,0,VLOOKUP(K44,Register!$A$1:$B$1631,2,FALSE)) -> 0 | M44: =IF(K44=0,0,VLOOKUP(L44,Register!$B$1:$C$1631,2,FALSE)) -> 0
C45: =IF(B45=0,0,VLOOKUP(B45,Register!$A$1:$B$1631,2,FALSE)) -> 0 | D45: =IF(B45=0,0,VLOOKUP(C45,Register!$B$1:$C$1631,2,FALSE)) -> 0 | L45: =IF(K45=0,0,VLOOKUP(K45,Register!$A$1:$B$1631,2,FALSE)) -> 0 | M45: =IF(K45=0,0,VLOOKUP(L45,Register!$B$1:$C$1631,2,FALSE)) -> 0
C46: =IF(B46=0,0,VLOOKUP(B46,Register!$A$1:$B$1631,2,FALSE)) -> 0 | D46: =IF(B46=0,0,VLOOKUP(C46,Register!$B$1:$C$1631,2,FALSE)) -> 0 | L46: =IF(K46=0,0,VLOOKUP(K46,Register!$A$1:$B$1631,2,FALSE)) -> 0 | M46: =IF(K46=0,0,VLOOKUP(L46,Register!$B$1:$C$1631,2,FALSE)) -> 0
C47: =IF(B47=0,0,VLOOKUP(B47,Register!$A$1:$B$1631,2,FALSE)) -> 0 | D47: =IF(B47=0,0,VLOOKUP(C47,Register!$B$1:$C$1631,2,FALSE)) -> 0 | L47: =IF(K47=0,0,VLOOKUP(K47,Register!$A$1:$B$1631,2,FALSE)) -> 0 | M47: =IF(K47=0,0,VLOOKUP(L47,Register!$B$1:$C$1631,2,FALSE)) -> 0
... C97: =IF(B97=0,0,VLOOKUP(B97,Register!$A$1:$B$1631,2,FALSE)) -> 0 | D97: =IF(B97=0,0,VLOOKUP(C97,Register!$B$1:$C$1631,2,FALSE)) -> 0 | L97: =IF(K97=0,0,VLOOKUP(K97,Register!$A$1:$B$1631,2,FALSE)) -> 0 | M97: =IF(K97=0,0,VLOOKUP(L97,Register!$B$1:$C$1631,2,FALSE)) -> 0
D98: =IF(B98=0,0,VLOOKUP(C98,Register!$B$1:$C$1631,2,FALSE)) -> 0

Sheet Yr6 actual
A1: NEWQUAY & PAR AC JUNIOR SCHOOLS CROSS COUNTRY 2023/24
A2: Results for Year 6 Boys & Girls combined 17 Jan 2024
A4: Pos | B4: No | C4: forename | D4: School | E4: time | F4: B | G4: G
A5: 1 | B5: 43 | C5: =IF(B5=0,0,VLOOKUP(B5,Register!$A$1:$B$1631,2,FALSE)) -> Harry Hogbin Y6 B | D5: =IF(B5=0,0,VLOOKUP(C5,Register!$B$1:$C$1631,2,FALSE)) -> Ladock CE School | E5: 8.58 | F5: B
A6: 2 | B6: 99 | C6: =IF(B6=0,0,VLOOKUP(B6,Register!$A$1:$B$1631,2,FALSE)) -> Reubyn Howes Y6 B | D6: =IF(B6=0,0,VLOOKUP(C6,Register!$B$1:$C$1631,2,FALSE)) -> Tywardreath | E6: 9.02 | F6: B
A7: 3 | B7: 176 | C7: =IF(B7=0,0,VLOOKUP(B7,Register!$A$1:$B$1631,2,FALSE)) -> Jem Sullivan Y6 B | D7: =IF(B7=0,0,VLOOKUP(C7,Register!$B$1:$C$1631,2,FALSE)) -> Probus | E7: 9.16 | F7: B
A8: 4 | B8: 41 | C8: =IF(B8=0,0,VLOOKUP(B8,Register!$A$1:$B$1631,2,FALSE)) -> Henry Denning Y6 B | D8: =IF(B8=0,0,VLOOKUP(C8,Register!$B$1:$C$1631,2,FALSE)) -> Ladock CE School | E8: 9.23 | F8: B
A9: 5 | B9: 175 | C9: =IF(B9=0,0,VLOOKUP(B9,Register!$A$1:$B$1631,2,FALSE)) -> Tom Bowen Y6 B | D9: =IF(B9=0,0,VLOOKUP(C9,Register!$B$1:$C$1631,2,FALSE)) -> Probus | E9: 9.26 | F9: B
A10: 6 | B10: 62 | C10: =IF(B10=0,0,VLOOKUP(B10,Register!$A$1:$B$1631,2,FALSE)) -> Thomas Rowe Y6 B | D10: =IF(B10=0,0,VLOOKUP(C10,Register!$B$1:$C$1631,2,FALSE)) -> St Petroc's, Bodmin | E10: 9.43 | F10: B
A11: 7 | B11: 42 | C11: =IF(B11=0,0,VLOOKUP(B11,Register!$A$1:$B$1631,2,FALSE)) -> Jude Egford Y6 B | D11: =IF(B11=0,0,VLOOKUP(C11,Register!$B$1:$C$1631,2,FALSE)) -> Ladock CE School | E11: 9.53 | F11: B
A12: 8 | B12: 146 | C12: =IF(B12=0,0,VLOOKUP(B12,Register!$A$1:$B$1631,2,FALSE)) -> Johan Putt Y6 B | D12: =IF(B12=0,0,VLOOKUP(C12,Register!$B$1:$C$1631,2,FALSE)) -> Biscovey | E12: 9.53 | F12: B
A13: 9 | B13: 147 | C13: =IF(B13=0,0,VLOOKUP(B13,Register!$A$1:$B$1631,2,FALSE)) -> Brody Slater Y6 B | D13: =IF(B13=0,0,VLOOKUP(C13,Register!$B$1:$C$1631,2,FALSE)) -> Biscovey | E13: 10.24 | F13: B
A14: 10 | B14: 174 | C14: =IF(B14=0,0,VLOOKUP(B14,Register!$A$1:$B$1631,2,FALSE)) -> Calan Davey Y6 B | D14: =IF(B14=0,0,VLOOKUP(C14,Register!$B$1:$C$1631,2,FALSE)) -> Probus | E14: 10.29 | F14: B
A15: 11 | B15: 167 | C15: =IF(B15=0,0,VLOOKUP(B15,Register!$A$1:$B$1631,2,FALSE)) -> Harlow Hill Y6 B | D15: =IF(B15=0,0,VLOOKUP(C15,Register!$B$1:$C$1631,2,FALSE)) -> Treverbyn | E15: 10.37 | F15: B
A16: 12 | B16: 17 | C16: =IF(B16=0,0,VLOOKUP(B16,Register!$A$1:$B$1631,2,FALSE)) -> Harry Wilder Y6 B | D16: =IF(B16=0,0,VLOOKUP(C16,Register!$B$1:$C$1631,2,FALSE)) -> Gorran | E16: 10.52 | F16: B
... A27: 23 | B27: 152 | C27: =IF(B27=0,0,VLOOKUP(B27,Register!$A$1:$B$1631,2,FALSE)) -> Brooklyn Parnell Y6 B | D27: =IF(B27=0,0,VLOOKUP(C27,Register!$B$1:$C$1631,2,FALSE)) -> Biscovey | E27: 13.47 | F27: B
A28: 24 | B28: 178 | C28: =IF(B28=0,0,VLOOKUP(B28,Register!$A$1:$B$1631,2,FALSE)) -> Violet Durber Y6 G | D28: =IF(B28=0,0,VLOOKUP(C28,Register!$B$1:$C$1631,2,FALSE)) -> Probus | E28: 9.49 | G28: G
A29: 25 | B29: 103 | C29: =IF(B29=0,0,VLOOKUP(B29,Register!$A$1:$B$1631,2,FALSE)) -> Anouk Topps Y6 G | D29: =IF(B29=0,0,VLOOKUP(C29,Register!$B$1:$C$1631,2,FALSE)) -> Tywardreath | E29: 10 | G29: G
A30: 26 | B30: 179 | C30: =IF(B30=0,0,VLOOKUP(B30,Register!$A$1:$B$1631,2,FALSE)) -> Megan Perry Y6 G | D30: =IF(B30=0,0,VLOOKUP(C30,Register!$B$1:$C$1631,2,FALSE)) -> Probus | E30: 10.06 | G30: G
A31: 27 | B31: 182 | C31: =IF(B31=0,0,VLOOKUP(B31,Register!$A$1:$B$1631,2,FALSE)) -> Eden Carlton Y6 G | D31: =IF(B31=0,0,VLOOKUP(C31,Register!$B$1:$C$1631,2,FALSE)) -> Probus | E31: 10.17 | G31: G
A32: 28 | B32: 177 | C32: =IF(B32=0,0,VLOOKUP(B32,Register!$A$1:$B$1631,2,FALSE)) -> Astrid Cain Y6 G | D32: =IF(B32=0,0,VLOOKUP(C32,Register!$B$1:$C$1631,2,FALSE)) -> Probus | E32: 10.47 | G32: G
A33: 29 | B33: 102 | C33: =IF(B33=0,0,VLOOKUP(B33,Register!$A$1:$B$1631,2,FALSE)) -> Eadie-Mae Munn Y6 G | D33: =IF(B33=0,0,VLOOKUP(C33,Register!$B$1:$C$1631,2,FALSE)) -> Tywardreath | E33: 11 | G33: G
A34: 30 | B34: 145 | C34: =IF(B34=0,0,VLOOKUP(B34,Register!$A$1:$B$1631,2,FALSE)) -> Rachel Emms Y6 G | D34: =IF(B34=0,0,VLOOKUP(C34,Register!$B$1:$C$1631,2,FALSE)) -> Biscovey | E34: 11.38 | G34: G
A35: 31 | B35: 137 | C35: =IF(B35=0,0,VLOOKUP(B35,Register!$A$1:$B$1631,2,FALSE)) -> Millie Megson Y6 G | D35: =IF(B35=0,0,VLOOKUP(C35,Register!$B$1:$C$1631,2,FALSE)) -> Biscovey | E35: 11.52 | G35: G
A36: 32 | B36: 66 | C36: =IF(B36=0,0,VLOOKUP(B36,Register!$A$1:$B$1631,2,FALSE)) -> Macey Collins Y6 G | D36: =IF(B36=0,0,VLOOKUP(C36,Register!$B$1:$C$1631,2,FALSE)) -> St Petroc's, Bodmin | E36: 12.05 | G36: G
A37: 33 | B37: 180 | C37: =IF(B37=0,0,VLOOKUP(B37,Register!$A$1:$B$1631,2,FALSE)) -> Ella Martin Y6 G | D37: =IF(B37=0,0,VLOOKUP(C37,Register!$B$1:$C$1631,2,FALSE)) -> Probus | E37: 12.16 | G37: G
A38: 34 | B38: 163 | C38: =IF(B38=0,0,VLOOKUP(B38,Register!$A$1:$B$1631,2,FALSE)) -> Lola Stockwell Y6 G | D38: =IF(B38=0,0,VLOOKUP(C38,Register!$B$1:$C$1631,2,FALSE)) -> Treverbyn | E38: 12.17 | G38: G
A39: 35 | B39: 138 | C39: =IF(B39=0,0,VLOOKUP(B39,Register!$A$1:$B$1631,2,FALSE)) -> Esmee Perks Y6 G | D39: =IF(B39=0,0,VLOOKUP(C39,Register!$B$1:$C$1631,2,FALSE)) -> Biscovey | E39: 12.25 | G39: G
... A50: 46 | B50: 144 | C50: =IF(B50=0,0,VLOOKUP(B50,Register!$A$1:$B$1631,2,FALSE)) -> Millie Cox Y6 G | D50: =IF(B50=0,0,VLOOKUP(C50,Register!$B$1:$C$1631,2,FALSE)) -> Biscovey | E50: 15.36 | G50: G
C51: =IF(B51=0,0,VLOOKUP(B51,Register!$A$1:$B$1631,2,FALSE)) -> 0 | D51: =IF(B51=0,0,VLOOKUP(C51,Register!$B$1:$C$1631,2,FALSE)) -> 0
C52: =IF(B52=0,0,VLOOKUP(B52,Register!$A$1:$B$1631,2,FALSE)) -> 0 | D52: =IF(B52=0,0,VLOOKUP(C52,Register!$B$1:$C$1631,2,FALSE)) -> 0
C53: =IF(B53=0,0,VLOOKUP(B53,Register!$A$1:$B$1631,2,FALSE)) -> 0 | D53: =IF(B53=0,0,VLOOKUP(C53,Register!$B$1:$C$1631,2,FALSE)) -> 0
C54: =IF(B54=0,0,VLOOKUP(B54,Register!$A$1:$B$1631,2,FALSE)) -> 0 | D54: =IF(B54=0,0,VLOOKUP(C54,Register!$B$1:$C$1631,2,FALSE)) -> 0
C55: =IF(B55=0,0,VLOOKUP(B55,Register!$A$1:$B$1631,2,FALSE)) -> 0 | D55: =IF(B55=0,0,VLOOKUP(C55,Register!$B$1:$C$1631,2,FALSE)) -> 0
C56: =IF(B56=0,0,VLOOKUP(B56,Register!$A$1:$B$1631,2,FALSE)) -> 0 | D56: =IF(B56=0,0,VLOOKUP(C56,Register!$B$1:$C$1631,2,FALSE)) -> 0
C57: =IF(B57=0,0,VLOOKUP(B57,Register!$A$1:$B$1631,2,FALSE)) -> 0 | D57: =IF(B57=0,0,VLOOKUP(C57,Register!$B$1:$C$1631,2,FALSE)) -> 0
C58: =IF(B58=0,0,VLOOKUP(B58,Register!$A$1:$B$1631,2,FALSE)) -> 0 | D58: =IF(B58=0,0,VLOOKUP(C58,Register!$B$1:$C$1631,2,FALSE)) -> 0
C59: =IF(B59=0,0,VLOOKUP(B59,Register!$A$1:$B$1631,2,FALSE)) -> 0 | D59: =IF(B59=0,0,VLOOKUP(C59,Register!$B$1:$C$1631,2,FALSE)) -> 0
C60: =IF(B60=0,0,VLOOKUP(B60,Register!$A$1:$B$1631,2,FALSE)) -> 0 | D60: =IF(B60=0,0,VLOOKUP(C60,Register!$B$1:$C$1631,2,FALSE)) -> 0
C61: =IF(B61=0,0,VLOOKUP(B61,Register!$A$1:$B$1631,2,FALSE)) -> 0 | D61: =IF(B61=0,0,VLOOKUP(C61,Register!$B$1:$C$1631,2,FALSE)) -> 0
C62: =IF(B62=0,0,VLOOKUP(B62,Register!$A$1:$B$1631,2,FALSE)) -> 0 | D62: =IF(B62=0,0,VLOOKUP(C62,Register!$B$1:$C$1631,2,FALSE)) -> 0
... C102: =IF(B102=0,0,VLOOKUP(B102,Register!$A$1:$B$1631,2,FALSE)) -> 0 | D102: =IF(B102=0,0,VLOOKUP(C102,Register!$B$1:$C$1631,2,FALSE)) -> 0

Sheet Yr6 Boys& Girls
A1: NEWQUAY & PAR AC JUNIOR SCHOOLS CROSS COUNTRY 2023/24 | G1: points | H1: team points | J1: NEWQUAY & PAR AC JUNIOR SCHOOLS CROSS COUNTRY 2023/24 | P1: points | Q1: team points
A2: Results for Year 6 Boys 17 Jan 2024 | J2: Results for Year 6 Girls 17 Jan 2024
A3: Course Record: Reuben Wallace Tywardreath 9m.40s 8 Feb 2023 | J3: Course Record: Daisy Roberts St Petroc's 10m.49s 8 Feb 2023
A4: Pos | B4: No | C4: forename | D4: School | E4: time | F4: scorer | J4: Pos | K4: Pos | L4: forename | M4: School | N4: time | O4: scorer
A5: 1 | B5: 43 | C5: =IF(B5=0,0,VLOOKUP(B5,Register!$A$1:$B$1631,2,FALSE)) -> Harry Hogbin Y6 B | D5: =IF(B5=0,0,VLOOKUP(C5,Register!$B$1:$C$1631,2,FALSE)) -> Ladock CE School | E5: 8.58 | F5: A1 | G5: 100 | J5: 1 | K5: 178 | L5: =IF(K5=0,0,VLOOKUP(K5,Register!$A$1:$B$1631,2,FALSE)) -> Violet Durber Y6 G | M5: =IF(K5=0,0,VLOOKUP(L5,Register!$B$1:$C$1631,2,FALSE)) -> Probus | N5: 9.49 | O5: A1 | P5: 100
A6: 2 | B6: 99 | C6: =IF(B6=0,0,VLOOKUP(B6,Register!$A$1:$B$1631,2,FALSE)) -> Reubyn Howes Y6 B | D6: =IF(B6=0,0,VLOOKUP(C6,Register!$B$1:$C$1631,2,FALSE)) -> Tywardreath | E6: 9.02 | F6: B1 | G6: 99 | J6: 2 | K6: 103 | L6: =IF(K6=0,0,VLOOKUP(K6,Register!$A$1:$B$1631,2,FALSE)) -> Anouk Topps Y6 G | M6: =IF(K6=0,0,VLOOKUP(L6,Register!$B$1:$C$1631,2,FALSE)) -> Tywardreath | N6: 10 | O6: B1 | P6: 99
A7: 3 | B7: 176 | C7: =IF(B7=0,0,VLOOKUP(B7,Register!$A$1:$B$1631,2,FALSE)) -> Jem Sullivan Y6 B | D7: =IF(B7=0,0,VLOOKUP(C7,Register!$B$1:$C$1631,2,FALSE)) -> Probus | E7: 9.16 | F7: C1 | G7: 98 | J7: 3 | K7: 179 | L7: =IF(K7=0,0,VLOOKUP(K7,Register!$A$1:$B$1631,2,FALSE)) -> Megan Perry Y6 G | M7: =IF(K7=0,0,VLOOKUP(L7,Register!$B$1:$C$1631,2,FALSE)) -> Probus | N7: 10.06 | O7: A2 | P7: 98
A8: 4 | B8: 41 | C8: =IF(B8=0,0,VLOOKUP(B8,Register!$A$1:$B$1631,2,FALSE)) -> Henry Denning Y6 B | D8: =IF(B8=0,0,VLOOKUP(C8,Register!$B$1:$C$1631,2,FALSE)) -> Ladock CE School | E8: 9.23 | F8: A2 | G8: 97 | J8: 4 | K8: 182 | L8: =IF(K8=0,0,VLOOKUP(K8,Register!$A$1:$B$1631,2,FALSE)) -> Eden Carlton Y6 G | M8: =IF(K8=0,0,VLOOKUP(L8,Register!$B$1:$C$1631,2,FALSE)) -> Probus | N8: 10.17 | O8: A3 | P8: 97 | Q8: 295
A9: 5 | B9: 175 | C9: =IF(B9=0,0,VLOOKUP(B9,Register!$A$1:$B$1631,2,FALSE)) -> Tom Bowen Y6 B | D9: =IF(B9=0,0,VLOOKUP(C9,Register!$B$1:$C$1631,2,FALSE)) -> Probus | E9: 9.26 | F9: C2 | G9: 96 | J9: 5 | K9: 177 | L9: =IF(K9=0,0,VLOOKUP(K9,Register!$A$1:$B$1631,2,FALSE)) -> Astrid Cain Y6 G | M9: =IF(K9=0,0,VLOOKUP(L9,Register!$B$1:$C$1631,2,FALSE)) -> Probus | N9: 10.47 | O9: A4 | P9: 96
A10: 6 | B10: 62 | C10: =IF(B10=0,0,VLOOKUP(B10,Register!$A$1:$B$1631,2,FALSE)) -> Thomas Rowe Y6 B | D10: =IF(B10=0,0,VLOOKUP(C10,Register!$B$1:$C$1631,2,FALSE)) -> St Petroc's, Bodmin | E10: 9.43 | F10: D1 | G10: 95 | J10: 6 | K10: 102 | L10: =IF(K10=0,0,VLOOKUP(K10,Register!$A$1:$B$1631,2,FALSE)) -> Eadie-Mae Munn Y6 G | M10: =IF(K10=0,0,VLOOKUP(L10,Register!$B$1:$C$1631,2,FALSE)) -> Tywardreath | N10: 11 | O10: B2 | P10: 95 | Q10: 194
A11: 7 | B11: 42 | C11: =IF(B11=0,0,VLOOKUP(B11,Register!$A$1:$B$1631,2,FALSE)) -> Jude Egford Y6 B | D11: =IF(B11=0,0,VLOOKUP(C11,Register!$B$1:$C$1631,2,FALSE)) -> Ladock CE School | E11: 9.53 | F11: A3 | G11: 94 | H11: 291 | J11: 7 | K11: 145 | L11: =IF(K11=0,0,VLOOKUP(K11,Register!$A$1:$B$1631,2,FALSE)) -> Rachel Emms Y6 G | M11: =IF(K11=0,0,VLOOKUP(L11,Register!$B$1:$C$1631,2,FALSE)) -> Biscovey | N11: 11.38 | O11: C1 | P11: 94
A12: 8 | B12: 146 | C12: =IF(B12=0,0,VLOOKUP(B12,Register!$A$1:$B$1631,2,FALSE)) -> Johan Putt Y6 B | D12: =IF(B12=0,0,VLOOKUP(C12,Register!$B$1:$C$1631,2,FALSE)) -> Biscovey | E12: 9.53 | F12: E1 | G12: 93 | J12: 8 | K12: 137 | L12: =IF(K12=0,0,VLOOKUP(K12,Register!$A$1:$B$1631,2,FALSE)) -> Millie Megson Y6 G | M12: =IF(K12=0,0,VLOOKUP(L12,Register!$B$1:$C$1631,2,FALSE)) -> Biscovey | N12: 11.52 | O12: C2 | P12: 93
A13: 9 | B13: 147 | C13: =IF(B13=0,0,VLOOKUP(B13,Register!$A$1:$B$1631,2,FALSE)) -> Brody Slater Y6 B | D13: =IF(B13=0,0,VLOOKUP(C13,Register!$B$1:$C$1631,2,FALSE)) -> Biscovey | E13: 10.24 | F13: E2 | G13: 92 | J13: 9 | K13: 66 | L13: =IF(K13=0,0,VLOOKUP(K13,Register!$A$1:$B$1631,2,FALSE)) -> Macey Collins Y6 G | M13: =IF(K13=0,0,VLOOKUP(L13,Register!$B$1:$C$1631,2,FALSE)) -> St Petroc's, Bodmin | N13: 12.05 | O13: D1 | P13: 92 | Q13: 92
A14: 10 | B14: 174 | C14: =IF(B14=0,0,VLOOKUP(B14,Register!$A$1:$B$1631,2,FALSE)) -> Calan Davey Y6 B | D14: =IF(B14=0,0,VLOOKUP(C14,Register!$B$1:$C$1631,2,FALSE)) -> Probus | E14: 10.29 | F14: C3 | G14: 91 | H14: 285 | J14: 10 | K14: 180 | L14: =IF(K14=0,0,VLOOKUP(K14,Register!$A$1:$B$1631,2,FALSE)) -> Ella Martin Y6 G | M14: =IF(K14=0,0,VLOOKUP(L14,Register!$B$1:$C$1631,2,FALSE)) -> Probus | N14: 12.16 | O14: A5 | P14: 91 | Q14: 187
A15: 11 | B15: 167 | C15: =IF(B15=0,0,VLOOKUP(B15,Register!$A$1:$B$1631,2,FALSE)) -> Harlow Hill Y6 B | D15: =IF(B15=0,0,VLOOKUP(C15,Register!$B$1:$C$1631,2,FALSE)) -> Treverbyn | E15: 10.37 | F15: F1 | G15: 90 | J15: 11 | K15: 163 | L15: =IF(K15=0,0,VLOOKUP(K15,Register!$A$1:$B$1631,2,FALSE)) -> Lola Stockwell Y6 G | M15: =IF(K15=0,0,VLOOKUP(L15,Register!$B$1:$C$1631,2,FALSE)) -> Treverbyn | N15: 12.17 | O15: E1 | P15: 90
A16: 12 | B16: 17 | C16: =IF(B16=0,0,VLOOKUP(B16,Register!$A$1:$B$1631,2,FALSE)) -> Harry Wilder Y6 B | D16: =IF(B16=0,0,VLOOKUP(C16,Register!$B$1:$C$1631,2,FALSE)) -> Gorran | E16: 10.52 | F16: G1 | G16: 89 | H16: 89 | J16: 12 | K16: 138 | L16: =IF(K16=0,0,VLOOKUP(K16,Register!$A$1:$B$1631,2,FALSE)) -> Esmee Perks Y6 G | M16: =IF(K16=0,0,VLOOKUP(L16,Register!$B$1:$C$1631,2,FALSE)) -> Biscovey | N16: 12.25 | O16: C3 | P16: 89 | Q16: 276
A17: 13 | B17: 100 | C17: =IF(B17=0,0,VLOOKUP(B17,Register!$A$1:$B$1631,2,FALSE)) -> Toby Greet Y6 B | D17: =IF(B17=0,0,VLOOKUP(C17,Register!$B$1:$C$1631,2,FALSE)) -> Tywardreath | E17: 10.55 | F17: B2 | G17: 88 | J17: 13 | K17: 164 | L17: =IF(K17=0,0,VLOOKUP(K17,Register!$A$1:$B$1631,2,FALSE)) -> Josie Potter Y6 G | M17: =IF(K17=0,0,VLOOKUP(L17,Register!$B$1:$C$1631,2,FALSE)) -> Treverbyn | N17: 13.16 | O17: E2 | P17: 88
A18: 14 | B18: 98 | C18: =IF(B18=0,0,VLOOKUP(B18,Register!$A$1:$B$1631,2,FALSE)) -> Harry Kirwan Y6 B | D18: =IF(B18=0,0,VLOOKUP(C18,Register!$B$1:$C$1631,2,FALSE)) -> Tywardreath | E18: 11.03 | F18: B3 | G18: 87 | H18: 274 | J18: 14 | K18: 140 | L18: =IF(K18=0,0,VLOOKUP(K18,Register!$A$1:$B$1631,2,FALSE)) -> Ella Aldridge Y6 G | M18: =IF(K18=0,0,VLOOKUP(L18,Register!$B$1:$C$1631,2,FALSE)) -> Biscovey | N18: 13.19 | O18: C4 | P18: 87
A19: 15 | B19: 61 | C19: =IF(B19=0,0,VLOOKUP(B19,Register!$A$1:$B$1631,2,FALSE)) -> Charlie Sinfield Y6 B | D19: =IF(B19=0,0,VLOOKUP(C19,Register!$B$1:$C$1631,2,FALSE)) -> St Petroc's, Bodmin | E19: 11.06 | F19: D2 | G19: 86 | J19: 15 | K19: 47 | L19: =IF(K19=0,0,VLOOKUP(K19,Register!$A$1:$B$1631,2,FALSE)) -> Mowenna Murray Y6 G | M19: =IF(K19=0,0,VLOOKUP(L19,Register!$B$1:$C$1631,2,FALSE)) -> Ladock CE School | N19: 13.43 | O19: F1 | P19: 86
A20: 16 | B20: 148 | C20: =IF(B20=0,0,VLOOKUP(B20,Register!$A$1:$B$1631,2,FALSE)) -> Aston Hall Y6 B | D20: =IF(B20=0,0,VLOOKUP(C20,Register!$B$1:$C$1631,2,FALSE)) -> Biscovey | E20: 11.16 | F20: E3 | G20: 85 | H20: 270 | J20: 16 | K20: 201 | L20: =IF(K20=0,0,VLOOKUP(K20,Register!$A$1:$B$1631,2,FALSE)) -> Isobel Ward Y6 G | M20: =IF(K20=0,0,VLOOKUP(L20,Register!$B$1:$C$1631,2,FALSE)) -> St Wenn | N20: 13.48 | O20: G1 | P20: 85 | Q20: 85
A21: 17 | B21: 149 | C21: =IF(B21=0,0,VLOOKUP(B21,Register!$A$1:$B$1631,2,FALSE)) -> Kian McCarthy Y6 B | D21: =IF(B21=0,0,VLOOKUP(C21,Register!$B$1:$C$1631,2,FALSE)) -> Biscovey | E21: 11.17 | F21: E4 | G21: 84 | J21: 17 | K21: 44 | L21: =IF(K21=0,0,VLOOKUP(K21,Register!$A$1:$B$1631,2,FALSE)) -> Darcey Lee Y6 G | M21: =IF(K21=0,0,VLOOKUP(L21,Register!$B$1:$C$1631,2,FALSE)) -> Ladock CE School | N21: 14.02 | O21: F2 | P21: 84 | Q21: 170
A22: 18 | B22: 63 | C22: =IF(B22=0,0,VLOOKUP(B22,Register!$A$1:$B$1631,2,FALSE)) -> Finley Whitmill Y6 B | D22: =IF(B22=0,0,VLOOKUP(C22,Register!$B$1:$C$1631,2,FALSE)) -> St Petroc's, Bodmin | E22: 11.23 | F22: D3 | G22: 83 | H22: 264 | J22: 18 | K22: 160 | L22: =IF(K22=0,0,VLOOKUP(K22,Register!$A$1:$B$1631,2,FALSE)) -> Ava-Lily Bissett Y6 G | M22: =IF(K22=0,0,VLOOKUP(L22,Register!$B$1:$C$1631,2,FALSE)) -> Treverbyn | N22: 14.1 | O22: E3 | P22: 83 | Q22: 261
A23: 19 | B23: 166 | C23: =IF(B23=0,0,VLOOKUP(B23,Register!$A$1:$B$1631,2,FALSE)) -> Kyle Wegg Y6 B | D23: =IF(B23=0,0,VLOOKUP(C23,Register!$B$1:$C$1631,2,FALSE)) -> Treverbyn | E23: 11.28 | F23: F2 | G23: 82 | H23: 172 | J23: 19 | K23: 162 | L23: =IF(K23=0,0,VLOOKUP(K23,Register!$A$1:$B$1631,2,FALSE)) -> Courtney Beagley Y6 G | M23: =IF(K23=0,0,VLOOKUP(L23,Register!$B$1:$C$1631,2,FALSE)) -> Treverbyn | N23: 14.11 | O23: E4 | P23: 82
A24: 20 | B24: 151 | C24: =IF(B24=0,0,VLOOKUP(B24,Register!$A$1:$B$1631,2,FALSE)) -> Bradley Morcom-Ankers Y6 B | D24: =IF(B24=0,0,VLOOKUP(C24,Register!$B$1:$C$1631,2,FALSE)) -> Biscovey | E24: 11.45 | F24: E5 | G24: 81 | J24: 20 | K24: 143 | L24: =IF(K24=0,0,VLOOKUP(K24,Register!$A$1:$B$1631,2,FALSE)) -> Lily Overson Y6 G | M24: =IF(K24=0,0,VLOOKUP(L24,Register!$B$1:$C$1631,2,FALSE)) -> Biscovey | N24: 14.18 | O24: C5 | P24: 81
A25: 21 | B25: 153 | C25: =IF(B25=0,0,VLOOKUP(B25,Register!$A$1:$B$1631,2,FALSE)) -> Cameron Taylor Y6 B | D25: =IF(B25=0,0,VLOOKUP(C25,Register!$B$1:$C$1631,2,FALSE)) -> Biscovey | E25: 11.58 | F25: E6 | G25: 80 | H25: 245 | J25: 21 | K25: 161 | L25: =IF(K25=0,0,VLOOKUP(K25,Register!$A$1:$B$1631,2,FALSE)) -> Senara Dunn Y6 G | M25: =IF(K25=0,0,VLOOKUP(L25,Register!$B$1:$C$1631,2,FALSE)) -> Treverbyn | N25: 14.26 | O25: E5 | P25: 80 | Q25: 162
A26: 22 | B26: 150 | C26: =IF(B26=0,0,VLOOKUP(B26,Register!$A$1:$B$1631,2,FALSE)) -> Logan Reid Y6 B | D26: =IF(B26=0,0,VLOOKUP(C26,Register!$B$1:$C$1631,2,FALSE)) -> Biscovey | E26: 13.12 | G26: 79 | J26: 22 | K26: 142 | L26: =IF(K26=0,0,VLOOKUP(K26,Register!$A$1:$B$1631,2,FALSE)) -> Mia Armstrong Y6 G | M26: =IF(K26=0,0,VLOOKUP(L26,Register!$B$1:$C$1631,2,FALSE)) -> Biscovey | N26: 15.25 | O26: C6 | P26: 79 | Q26: 247
A27: 23 | B27: 152 | C27: =IF(B27=0,0,VLOOKUP(B27,Register!$A$1:$B$1631,2,FALSE)) -> Brooklyn Parnell Y6 B | D27: =IF(B27=0,0,VLOOKUP(C27,Register!$B$1:$C$1631,2,FALSE)) -> Biscovey | E27: 13.47 | G27: 78 | J27: 23 | K27: 144 | L27: =IF(K27=0,0,VLOOKUP(K27,Register!$A$1:$B$1631,2,FALSE)) -> Millie Cox Y6 G | M27: =IF(K27=0,0,VLOOKUP(L27,Register!$B$1:$C$1631,2,FALSE)) -> Biscovey | N27: 15.36 | P27: 78
C28: =IF(B28=0,0,VLOOKUP(B28,Register!$A$1:$B$1631,2,FALSE)) -> 0 | D28: =IF(B28=0,0,VLOOKUP(C28,Register!$B$1:$C$1631,2,FALSE)) -> 0 | L28: =IF(K28=0,0,VLOOKUP(K28,Register!$A$1:$B$1631,2,FALSE)) -> 0 | M28: =IF(K28=0,0,VLOOKUP(L28,Register!$B$1:$C$1631,2,FALSE)) -> 0
C29: =IF(B29=0,0,VLOOKUP(B29,Register!$A$1:$B$1631,2,FALSE)) -> 0 | D29: =IF(B29=0,0,VLOOKUP(C29,Register!$B$1:$C$1631,2,FALSE)) -> 0 | L29: =IF(K29=0,0,VLOOKUP(K29,Register!$A$1:$B$1631,2,FALSE)) -> 0 | M29: =IF(K29=0,0,VLOOKUP(L29,Register!$B$1:$C$1631,2,FALSE)) -> 0
C30: =IF(B30=0,0,VLOOKUP(B30,Register!$A$1:$B$1631,2,FALSE)) -> 0 | D30: =IF(B30=0,0,VLOOKUP(C30,Register!$B$1:$C$1631,2,FALSE)) -> 0 | L30: =IF(K30=0,0,VLOOKUP(K30,Register!$A$1:$B$1631,2,FALSE)) -> 0 | M30: =IF(K30=0,0,VLOOKUP(L30,Register!$B$1:$C$1631,2,FALSE)) -> 0
C31: =IF(B31=0,0,VLOOKUP(B31,Register!$A$1:$B$1631,2,FALSE)) -> 0 | D31: =IF(B31=0,0,VLOOKUP(C31,Register!$B$1:$C$1631,2,FALSE)) -> 0 | L31: =IF(K31=0,0,VLOOKUP(K31,Register!$A$1:$B$1631,2,FALSE)) -> 0 | M31: =IF(K31=0,0,VLOOKUP(L31,Register!$B$1:$C$1631,2,FALSE)) -> 0
C32: =IF(B32=0,0,VLOOKUP(B32,Register!$A$1:$B$1631,2,FALSE)) -> 0 | D32: =IF(B32=0,0,VLOOKUP(C32,Register!$B$1:$C$1631,2,FALSE)) -> 0 | L32: =IF(K32=0,0,VLOOKUP(K32,Register!$A$1:$B$1631,2,FALSE)) -> 0 | M32: =IF(K32=0,0,VLOOKUP(L32,Register!$B$1:$C$1631,2,FALSE)) -> 0
C33: =IF(B33=0,0,VLOOKUP(B33,Register!$A$1:$B$1631,2,FALSE)) -> 0 | D33: =IF(B33=0,0,VLOOKUP(C33,Register!$B$1:$C$1631,2,FALSE)) -> 0 | L33: =IF(K33=0,0,VLOOKUP(K33,Register!$A$1:$B$1631,2,FALSE)) -> 0 | M33: =IF(K33=0,0,VLOOKUP(L33,Register!$B$1:$C$1631,2,FALSE)) -> 0
C34: =IF(B34=0,0,VLOOKUP(B34,Register!$A$1:$B$1631,2,FALSE)) -> 0 | D34: =IF(B34=0,0,VLOOKUP(C34,Register!$B$1:$C$1631,2,FALSE)) -> 0 | L34: =IF(K34=0,0,VLOOKUP(K34,Register!$A$1:$B$1631,2,FALSE)) -> 0 | M34: =IF(K34=0,0,VLOOKUP(L34,Register!$B$1:$C$1631,2,FALSE)) -> 0
C35: =IF(B35=0,0,VLOOKUP(B35,Register!$A$1:$B$1631,2,FALSE)) -> 0 | D35: =IF(B35=0,0,VLOOKUP(C35,Register!$B$1:$C$1631,2,FALSE)) -> 0 | L35: =IF(K35=0,0,VLOOKUP(K35,Register!$A$1:$B$1631,2,FALSE)) -> 0 | M35: =IF(K35=0,0,VLOOKUP(L35,Register!$B$1:$C$1631,2,FALSE)) -> 0
C36: =IF(B36=0,0,VLOOKUP(B36,Register!$A$1:$B$1631,2,FALSE)) -> 0 | D36: =IF(B36=0,0,VLOOKUP(C36,Register!$B$1:$C$1631,2,FALSE)) -> 0 | L36: =IF(K36=0,0,VLOOKUP(K36,Register!$A$1:$B$1631,2,FALSE)) -> 0 | M36: =IF(K36=0,0,VLOOKUP(L36,Register!$B$1:$C$1631,2,FALSE)) -> 0
C37: =IF(B37=0,0,VLOOKUP(B37,Register!$A$1:$B$1631,2,FALSE)) -> 0 | D37: =IF(B37=0,0,VLOOKUP(C37,Register!$B$1:$C$1631,2,FALSE)) -> 0 | L37: =IF(K37=0,0,VLOOKUP(K37,Register!$A$1:$B$1631,2,FALSE)) -> 0 | M37: =IF(K37=0,0,VLOOKUP(L37,Register!$B$1:$C$1631,2,FALSE)) -> 0
C38: =IF(B38=0,0,VLOOKUP(B38,Register!$A$1:$B$1631,2,FALSE)) -> 0 | D38: =IF(B38=0,0,VLOOKUP(C38,Register!$B$1:$C$1631,2,FALSE)) -> 0 | L38: =IF(K38=0,0,VLOOKUP(K38,Register!$A$1:$B$1631,2,FALSE)) -> 0 | M38: =IF(K38=0,0,VLOOKUP(L38,Register!$B$1:$C$1631,2,FALSE)) -> 0
C39: =IF(B39=0,0,VLOOKUP(B39,Register!$A$1:$B$1631,2,FALSE)) -> 0 | D39: =IF(B39=0,0,VLOOKUP(C39,Register!$B$1:$C$1631,2,FALSE)) -> 0 | L39: =IF(K39=0,0,VLOOKUP(K39,Register!$A$1:$B$1631,2,FALSE)) -> 0 | M39: =IF(K39=0,0,VLOOKUP(L39,Register!$B$1:$C$1631,2,FALSE)) -> 0
... C100: =IF(B100=0,0,VLOOKUP(B100,Register!$A$1:$B$1631,2,FALSE)) -> 0 | D100: =IF(B100=0,0,VLOOKUP(C100,Register!$B$1:$C$1631,2,FALSE)) -> 0 | L100: =IF(K100=0,0,VLOOKUP(K100,Register!$A$1:$B$1631,2,FALSE)) -> 0 | M100: =IF(K100=0,0,VLOOKUP(L100,Register!$B$1:$C$1631,2,FALSE)) -> 0

Sheet Yr5 Boys& Girls oa
A1: NEWQUAY & PAR AC JUNIOR SCHOOLS CROSS COUNTRY 2023/24 | I1: overall points | J1: best four scores | L1: NEWQUAY & PAR AC JUNIOR SCHOOLS CROSS COUNTRY 2023/24 | T1: overall points | U1: best four scores
A2: Overall Results for Year 5 Boys | L2: Overall Results for Year 5 Girls
B4: name | C4: School | D4: R1 | E4: R2 | F4: R3 | G4: R4 | H4: R5 | M4: name | N4: School | O4: R1 | P4: R2 | Q4: R3 | R4: R4 | S4: R5
A5: 1 | B5: Tommy Grose Y5 B | C5: Biscovey | D5: 100 | E5: 100 | F5: 100 | G5: 100 | I5: =SUM(D5:H5) -> 400 | J5: =SUM(D5:H5)-0 -> 400 | L5: 1 | M5: Athena Jefferies Y5 G | N5: Treverbyn | O5: 100 | P5: 100 | Q5: 100 | R5: 100 | T5: =SUM(O5:S5) -> 400 | U5: =SUM(O5:S5)-0 -> 400
A6: 2 | B6: Harry Crowe Y5 B | C6: Gorran | D6: 97 | E6: 99 | F6: 99 | G6: 99 | I6: =SUM(D6:H6) -> 394 | J6: =SUM(D6:H6)-0 -> 394 | L6: 2 | M6: Lyvie Cooper Y5 G | N6: Biscovey | O6: 99 | P6: 99 | Q6: 99 | R6: 99 | T6: =SUM(O6:S6) -> 396 | U6: =SUM(O6:S6)-0 -> 396
A7: 3 | B7: William Talen Y5 B | C7: Gorran | D7: 96 | E7: 94 | F7: 98 | G7: 97 | I7: =SUM(D7:H7) -> 385 | J7: =SUM(D7:H7)-0 -> 385 | L7: 3 | M7: Maya Wishart Y5 G | N7: Biscovey | O7: 96 | P7: 96 | Q7: 97 | R7: 95 | T7: =SUM(O7:S7) -> 384 | U7: =SUM(O7:S7)-0 -> 384
A8: 4 | B8: Sonny Needham Y5 B | C8: Treverbyn | D8: 94 | E8: 96 | F8: 97 | G8: 98 | I8: =SUM(D8:H8) -> 385 | J8: =SUM(D8:H8)-0 -> 385 | L8: 4 | M8: Indi Mackenzie Y5 G | N8: Biscovey | O8: 97 | P8: 97 | Q8: 93 | R8: 94 | T8: =SUM(O8:S8) -> 381 | U8: =SUM(O8:S8)-0 -> 381
A9: 5 | B9: JoJo Fraser Y5 B | C9: Gorran | D9: 92 | E9: 92 | F9: 94 | G9: 94 | I9: =SUM(D9:H9) -> 372 | J9: =SUM(D9:H9)-0 -> 372 | L9: 5 | M9: Marcy Bushell Y4 G | N9: St Wenn | O9: 94 | P9: 95 | Q9: 96 | R9: 93 | T9: =SUM(O9:S9) -> 378 | U9: =SUM(O9:S9)-0 -> 378
A10: 6 | B10: Finn Martyn Y5 B | C10: Treverbyn | D10: 88 | E10: 93 | F10: 96 | G10: 92 | I10: =SUM(D10:H10) -> 369 | J10: =SUM(D10:H10)-0 -> 369 | L10: 6 | M10: Bethanie Lelo Y5 G | N10: Biscovey | O10: 93 | P10: 94 | Q10: 94 | R10: 89 | T10: =SUM(O10:S10) -> 370 | U10: =SUM(O10:S10)-0 -> 370
A11: 7 | B11: Ruan Flack Y5 B | C11: Gorran | D11: 89 | E11: 90 | F11: 95 | G11: 90 | I11: =SUM(D11:H11) -> 364 | J11: =SUM(D11:H11)-0 -> 364 | L11: 7 | M11: Sophia Vercoe Y5 G | N11: Tywardreath | O11: 87 | P11: 91 | Q11: 91 | R11: 87 | T11: =SUM(O11:S11) -> 356 | U11: =SUM(O11:S11)-0 -> 356
A12: 8 | B12: Finley Rowe Y5 B | C12: Biscovey | D12: 87 | E12: 82 | F12: 89 | G12: 87 | I12: =SUM(D12:H12) -> 345 | J12: =SUM(D12:H12)-0 -> 345 | L12: 8 | M12: Kaitlyn Best Y5 G | N12: Tywardreath | O12: 86 | P12: 90 | Q12: 90 | R12: 88 | T12: =SUM(O12:S12) -> 354 | U12: =SUM(O12:S12)-0 -> 354
A13: 9 | B13: Noah Grigg Y5 B | C13: Tywardreath | D13: 83 | E13: 85 | F13: 90 | G13: 81 | I13: =SUM(D13:H13) -> 339 | J13: =SUM(D13:H13)-0 -> 339 | L13: 9 | M13: Harper Opie Y4 G | N13: St Wenn | O13: 88 | P13: 89 | Q13: 92 | R13: 84 | T13: =SUM(O13:S13) -> 353 | U13: =SUM(O13:S13)-0 -> 353
A14: 9 | B14: William Mcnee Y5 B | C14: St Wenn | D14: 85 | E14: 81 | F14: 82 | G14: 84 | I14: =SUM(D14:H14) -> 332 | J14: =SUM(D14:H14)-0 -> 332 | L14: 10 | M14: Sienna Hannaford Y5 G | N14: Biscovey | O14: 98 | P14: 98 | R14: 98 | T14: =SUM(O14:S14) -> 294 | U14: =SUM(O14:S14)-0 -> 294
A15: 11 | B15: Miles Pemberton Y5 B | C15: Tywardreath | D15: 80 | E15: 73 | F15: 78 | G15: 78 | I15: =SUM(D15:H15) -> 309 | J15: =SUM(D15:H15)-0 -> 309 | L15: 11 | M15: Isla Mather Y5 G | N15: Tywardreath | O15: 92 | P15: 93 | Q15: 95 | T15: =SUM(O15:S15) -> 280 | U15: =SUM(O15:S15)-0 -> 280
A16: 12 | B16: Seb Empell Newman Y5 B | C16: Tywardreath | D16: 82 | E16: 76 | F16: 73 | G16: 77 | I16: =SUM(D16:H16) -> 308 | J16: =SUM(D16:H16)-0 -> 308 | L16: 12 | M16: Emily Cornelius Y4 G | N16: Gorran | O16: 89 | P16: 88 | R16: 85 | T16: =SUM(O16:S16) -> 262 | U16: =SUM(O16:S16)-0 -> 262
A17: 13 | B17: Jasper Kent Y5 B | C17: St Wenn | D17: 81 | E17: 78 | F17: 75 | G17: 73 | I17: =SUM(D17:H17) -> 307 | J17: =SUM(D17:H17)-0 -> 307 | L17: 13 | M17: Chloe Mackrory Y4 G | N17: Gorran | O17: 90 | P17: 86 | R17: 86 | T17: =SUM(O17:S17) -> 262 | U17: =SUM(O17:S17)-0 -> 262
A18: 14 | B18: Stanley Robinson Y5 B | C18: Tywardreath | D18: 78 | E18: 74 | F18: 79 | G18: 76 | I18: =SUM(D18:H18) -> 307 | J18: =SUM(D18:H18)-0 -> 307 | L18: 14 | M18: Zara Stewart Y4 G | N18: Gorran | O18: 83 | P18: 87 | R18: 91 | T18: =SUM(O18:S18) -> 261 | U18: =SUM(O18:S18)-0 -> 261
A19: 14 | B19: Riley Newton Y5 B | C19: Biscovey | D19: 79 | E19: 75 | F19: 77 | G19: 74 | I19: =SUM(D19:H19) -> 305 | J19: =SUM(D19:H19)-0 -> 305 | L19: 15 | M19: Millie Thomas Y4 G | N19: Treverbyn | Q19: 98 | R19: 93 | T19: =SUM(O19:S19) -> 191 | U19: =SUM(O19:S19)-0 -> 191
A20: 14 | B20: Douglas Kennard Y5 B | C20: St Wenn | D20: 99 | E20: 98 | G20: 96 | I20: =SUM(D20:H20) -> 293 | J20: =SUM(D20:H20)-0 -> 293 | L20: 16 | M20: Lottie Fletcher Y4 G | N20: Gorran | O20: 95 | P20: 92 | T20: =SUM(O20:S20) -> 187 | U20: =SUM(O20:S20)-0 -> 187
A21: 14 | B21: Max Turner Y5 B | C21: Biscovey | D21: 98 | E21: 97 | G21: 93 | I21: =SUM(D21:H21) -> 288 | J21: =SUM(D21:H21)-0 -> 288 | L21: 17 | M21: Bella Brewer Y4 G | N21: Gorran | O21: 84 | P21: 85 | T21: =SUM(O21:S21) -> 169 | U21: =SUM(O21:S21)-0 -> 169
A22: 18 | B22: Otis Foley Y5 B | C22: St Wenn | D22: 95 | E22: 95 | G22: 95 | I22: =SUM(D22:H22) -> 285 | J22: =SUM(D22:H22)-0 -> 285 | L22: 18 | M22: Isobel Rowe Y4 G | N22: St Petroc's, Bodmin | R22: 97 | T22: =SUM(O22:S22) -> 97 | U22: =SUM(O22:S22)-0 -> 97
A23: 19 | B23: Oliver Sanders Y5 B | C23: Probus | E23: 91 | F23: 93 | G23: 86 | I23: =SUM(D23:H23) -> 270 | J23: =SUM(D23:H23)-0 -> 270 | L23: 19 | M23: Lucy Powesland Y4 G | N23: St Petroc's, Bodmin | R23: 96 | T23: =SUM(O23:S23) -> 96 | U23: =SUM(O23:S23)-0 -> 96
A24: 20 | B24: Harvey Doyle Y5 B | C24: Biscovey | E24: 87 | F24: 92 | G24: 89 | I24: =SUM(D24:H24) -> 268 | J24: =SUM(D24:H24)-0 -> 268 | L24: 20 | M24: Tegan Hawkey Y5 G | N24: St Wenn | O24: 91 | T24: =SUM(O24:S24) -> 91 | U24: =SUM(O24:S24)-0 -> 91
A25: 21 | B25: Seth Pickles Y5 B | C25: Biscovey | E25: 88 | F25: 91 | G25: 88 | I25: =SUM(D25:H25) -> 267 | J25: =SUM(D25:H25)-0 -> 267 | L25: 21 | M25: Phoebe Kaye Y5 G | N25: Biscovey | R25: 90 | T25: =SUM(O25:S25) -> 90 | U25: =SUM(O25:S25)-0 -> 90
A26: 22 | B26: James Sleeman Y5 B | C26: Biscovey | D26: 93 | E26: 83 | G26: 91 | I26: =SUM(D26:H26) -> 267 | J26: =SUM(D26:H26)-0 -> 267 | L26: 22 | M26: Lerryn H Y4 G | N26: Treverbyn | Q26: 89 | T26: =SUM(O26:S26) -> 89 | U26: =SUM(O26:S26)-0 -> 89
A27: 23 | B27: Ted King Y5 B | C27: Ladock CE School | D27: 90 | E27: 84 | F27: 86 | I27: =SUM(D27:H27) -> 260 | J27: =SUM(D27:H27)-0 -> 260 | L27: 23 | M27: Alice Grimmett Y4 G | N27: Gorran | O27: 85 | T27: =SUM(O27:S27) -> 85 | U27: =SUM(O27:S27)-0 -> 85
A28: 23 | B28: Isaac Brown Y5 B | C28: Tywardreath | E28: 86 | F28: 87 | G28: 82 | I28: =SUM(D28:H28) -> 255 | J28: =SUM(D28:H28)-0 -> 255 | L28: 24 | M28: Elsie Brown Y4 G | N28: Gorran | P28: 84 | T28: =SUM(O28:S28) -> 84 | U28: =SUM(O28:S28)-0 -> 84
A29: 25 | B29: Bertie Fraser Y5 B | C29: Gorran | D29: 86 | E29: 80 | F29: 83 | I29: =SUM(D29:H29) -> 249 | J29: =SUM(D29:H29)-0 -> 249 | L29: 25 | T29: =SUM(O29:S29) -> 0 | U29: =SUM(O29:S29)-0 -> 0
A30: 26 | B30: Roman Dryzmala Y5 B | C30: Probus | E30: 79 | F30: 88 | G30: 80 | I30: =SUM(D30:H30) -> 247 | J30: =SUM(D30:H30)-0 -> 247 | L30: 26 | T30: =SUM(O30:S30) -> 0 | U30: =SUM(O30:S30)-0 -> 0
A31: 27 | B31: Max Rees Y5 B | C31: Tywardreath | D31: 84 | E31: 77 | G31: 75 | I31: =SUM(D31:H31) -> 236 | J31: =SUM(D31:H31)-0 -> 236 | L31: 27 | T31: =SUM(O31:S31) -> 0 | U31: =SUM(O31:S31)-0 -> 0
A32: 28 | B32: Thomas Turner Y5 B | C32: Tywardreath | E32: 72 | F32: 74 | G32: 70 | I32: =SUM(D32:H32) -> 216 | J32: =SUM(D32:H32)-0 -> 216 | L32: 28 | T32: =SUM(O32:S32) -> 0 | U32: =SUM(O32:S32)-0 -> 0
A33: 29 | B33: Wilf Smejkal Y4 B | C33: Gorran | D33: 91 | E33: 89 | I33: =SUM(D33:H33) -> 180 | J33: =SUM(D33:H33)-0 -> 180 | L33: 29 | T33: =SUM(O33:S33) -> 0 | U33: =SUM(O33:S33)-0 -> 0
A34: 30 | B34: Heath Clark Y5 B | C34: Biscovey | F34: 85 | G34: 85 | I34: =SUM(D34:H34) -> 170 | J34: =SUM(D34:H34)-0 -> 170 | L34: 30 | T34: =SUM(O34:S34) -> 0 | U34: =SUM(O34:S34)-0 -> 0
A35: 31 | B35: Tyler Nicholls Y5 B | C35: Biscovey | F35: 84 | G35: 82 | I35: =SUM(D35:H35) -> 166 | J35: =SUM(D35:H35)-0 -> 166 | L35: 31 | U35: =SUM(O35:S35)-0 -> 0
A36: 32 | B36: Oliver Robinson Y5 B | C36: Biscovey | F36: 81 | G36: 79 | I36: =SUM(D36:H36) -> 160 | J36: =SUM(D36:H36)-0 -> 160 | L36: =RANK(T$36,T$5:T$100) -> 25 | T36: =SUM(O36:S36) -> 0 | U36: =SUM(O36:S36)-0 -> 0
A37: 33 | B37: Jack Barrett Y4 B | C37: St Wenn | D37: 77 | F37: 76 | I37: =SUM(D37:H37) -> 153 | J37: =SUM(D37:H37)-0 -> 153 | L37: =RANK(T$37,T$5:T$100) -> 25 | T37: =SUM(O37:S37) -> 0 | U37: =SUM(O37:S37)-0 -> 0
A38: 34 | B38: Oliver Baker Y5 B | C38: Biscovey | F38: 80 | G38: 71 | I38: =SUM(D38:H38) -> 151 | J38: =SUM(D38:H38)-0 -> 151 | L38: =RANK(T$38,T$5:T$100) -> 25 | T38: =SUM(O38:S38) -> 0 | U38: =SUM(O38:S38)-0 -> 0
A39: 35 | B39: Kohan Lambert O'Donahue Y5 B | C39: Tywardreath | E39: 71 | F39: 72 | I39: =SUM(D39:H39) -> 143 | J39: =SUM(D39:H39)-0 -> 143 | L39: =RANK(T$39,T$5:T$100) -> 25 | T39: =SUM(O39:S39) -> 0 | U39: =SUM(O39:S39)-0 -> 0
A40: 36 | B40: Jack Barrett Y4 B | C40: St Wenn | E40: 70 | G40: 72 | I40: =SUM(D40:H40) -> 142 | J40: =SUM(D40:H40)-0 -> 142 | L40: =RANK(T$40,T$5:T$100) -> 25 | T40: =SUM(O40:S40) -> 0 | U40: =SUM(O40:S40)-0 -> 0
A41: 37 | B41: Freddie Brown Y4 B | C41: Gorran | D41: 76 | I41: =SUM(D41:H41) -> 76 | J41: =SUM(D41:H41)-0 -> 76 | L41: =RANK(T$41,T$5:T$100) -> 25 | T41: =SUM(O41:S41) -> 0 | U41: =SUM(O41:S41)-0 -> 0
A42: =RANK(I$42,I$5:I$100) -> 38 | B42: ='Yr5 Boys& Girls'!C39 -> 0 | C42: ='Yr5 Boys& Girls'!D39 -> 0 | I42: =SUM(D42:H42) -> 0 | J42: =SUM(D42:H42)-0 -> 0 | L42: =RANK(T$42,T$5:T$100) -> 25 | T42: =SUM(O42:S42) -> 0 | U42: =SUM(O42:S42)-0 -> 0
A43: =RANK(I$43,I$5:I$100) -> 38 | B43: ='Yr5 Boys& Girls'!C40 -> 0 | C43: ='Yr5 Boys& Girls'!D40 -> 0 | I43: =SUM(D43:H43) -> 0 | J43: =SUM(D43:H43)-0 -> 0 | L43: =RANK(T$43,T$5:T$100) -> 25 | M43: ='Yr5 Boys& Girls'!L40 -> 0 | N43: ='Yr5 Boys& Girls'!M40 -> 0 | T43: =SUM(O43:S43) -> 0 | U43: =SUM(O43:S43)-0 -> 0
A44: =RANK(I$44,I$5:I$100) -> 38 | B44: ='Yr5 Boys& Girls'!C41 -> 0 | C44: ='Yr5 Boys& Girls'!D41 -> 0 | I44: =SUM(D44:H44) -> 0 | J44: =SUM(D44:H44)-0 -> 0 | L44: =RANK(T$44,T$5:T$100) -> 25 | M44: ='Yr5 Boys& Girls'!L41 -> 0 | N44: ='Yr5 Boys& Girls'!M41 -> 0 | T44: =SUM(O44:S44) -> 0 | U44: =SUM(O44:S44)-0 -> 0
A45: =RANK(I$45,I$5:I$100) -> 38 | B45: ='Yr5 Boys& Girls'!C42 -> 0 | C45: ='Yr5 Boys& Girls'!D42 -> 0 | I45: =SUM(D45:H45) -> 0 | J45: =SUM(D45:H45)-0 -> 0 | L45: =RANK(T$45,T$5:T$100) -> 25 | M45: ='Yr5 Boys& Girls'!L42 -> 0 | N45: ='Yr5 Boys& Girls'!M42 -> 0 | T45: =SUM(O45:S45) -> 0 | U45: =SUM(O45:S45)-0 -> 0
A46: =RANK(I$46,I$5:I$100) -> 38 | B46: ='Yr5 Boys& Girls'!C43 -> 0 | C46: ='Yr5 Boys& Girls'!D43 -> 0 | I46: =SUM(D46:H46) -> 0 | J46: =SUM(D46:H46)-0 -> 0 | L46: =RANK(T$46,T$5:T$100) -> 25 | M46: ='Yr5 Boys& Girls'!L43 -> 0 | N46: ='Yr5 Boys& Girls'!M43 -> 0 | T46: =SUM(O46:S46) -> 0 | U46: =SUM(O46:S46)-0 -> 0
A47: =RANK(I$47,I$5:I$100) -> 38 | B47: ='Yr5 Boys& Girls'!C44 -> 0 | C47: ='Yr5 Boys& Girls'!D44 -> 0 | I47: =SUM(D47:H47) -> 0 | J47: =SUM(D47:H47)-0 -> 0 | L47: =RANK(T$47,T$5:T$100) -> 25 | M47: ='Yr5 Boys& Girls'!L44 -> 0 | N47: ='Yr5 Boys& Girls'!M44 -> 0 | T47: =SUM(O47:S47) -> 0 | U47: =SUM(O47:S47)-0 -> 0
A48: =RANK(I$48,I$5:I$100) -> 38 | B48: ='Yr5 Boys& Girls'!C45 -> 0 | C48: ='Yr5 Boys& Girls'!D45 -> 0 | I48: =SUM(D48:H48) -> 0 | J48: =SUM(D48:H48)-0 -> 0 | L48: =RANK(T$48,T$5:T$100) -> 25 | M48: ='Yr5 Boys& Girls'!L45 -> 0 | N48: ='Yr5 Boys& Girls'!M45 -> 0 | T48: =SUM(O48:S48) -> 0 | U48: =SUM(O48:S48)-0 -> 0
A49: =RANK(I$49,I$5:I$100) -> 38 | B49: ='Yr5 Boys& Girls'!C46 -> 0 | C49: ='Yr5 Boys& Girls'!D46 -> 0 | I49: =SUM(D49:H49) -> 0 | J49: =SUM(D49:H49)-0 -> 0 | L49: =RANK(T$49,T$5:T$100) -> 25 | M49: ='Yr5 Boys& Girls'!L46 -> 0 | N49: ='Yr5 Boys& Girls'!M46 -> 0 | T49: =SUM(O49:S49) -> 0 | U49: =SUM(O49:S49)-0 -> 0
A50: =RANK(I$50,I$5:I$100) -> 38 | B50: ='Yr5 Boys& Girls'!C47 -> 0 | C50: ='Yr5 Boys& Girls'!D47 -> 0 | I50: =SUM(D50:H50) -> 0 | J50: =SUM(D50:H50)-0 -> 0 | L50: =RANK(T$50,T$5:T$100) -> 25 | M50: ='Yr5 Boys& Girls'!L47 -> 0 | N50: ='Yr5 Boys& Girls'!M47 -> 0 | T50: =SUM(O50:S50) -> 0 | U50: =SUM(O50:S50)-0 -> 0
A51: =RANK(I$51,I$5:I$100) -> 38 | B51: ='Yr5 Boys& Girls'!C48 -> 0 | C51: ='Yr5 Boys& Girls'!D48 -> 0 | I51: =SUM(D51:H51) -> 0 | J51: =SUM(D51:H51)-0 -> 0 | L51: =RANK(T$51,T$5:T$100) -> 25 | M51: ='Yr5 Boys& Girls'!L48 -> 0 | N51: ='Yr5 Boys& Girls'!M48 -> 0 | T51: =SUM(O51:S51) -> 0 | U51: =SUM(O51:S51)-0 -> 0
A52: =RANK(I$52,I$5:I$100) -> 38 | B52: ='Yr5 Boys& Girls'!C49 -> 0 | C52: ='Yr5 Boys& Girls'!D49 -> 0 | I52: =SUM(D52:H52) -> 0 | J52: =SUM(D52:H52)-0 -> 0 | L52: =RANK(T$52,T$5:T$100) -> 25 | M52: ='Yr5 Boys& Girls'!L49 -> 0 | N52: ='Yr5 Boys& Girls'!M49 -> 0 | T52: =SUM(O52:S52) -> 0 | U52: =SUM(O52:S52)-0 -> 0
A53: =RANK(I$53,I$5:I$100) -> 38 | B53: ='Yr5 Boys& Girls'!C50 -> 0 | C53: ='Yr5 Boys& Girls'!D50 -> 0 | I53: =SUM(D53:H53) -> 0 | J53: =SUM(D53:H53)-0 -> 0 | L53: =RANK(T$53,T$5:T$100) -> 25 | M53: ='Yr5 Boys& Girls'!L50 -> 0 | N53: ='Yr5 Boys& Girls'!M50 -> 0 | T53: =SUM(O53:S53) -> 0 | U53: =SUM(O53:S53)-0 -> 0
A54: =RANK(I$54,I$5:I$100) -> 38 | B54: ='Yr5 Boys& Girls'!C51 -> 0 | C54: ='Yr5 Boys& Girls'!D51 -> 0 | I54: =SUM(D54:H54) -> 0 | J54: =SUM(D54:H54)-0 -> 0 | L54: =RANK(T$54,T$5:T$100) -> 25 | M54: ='Yr5 Boys& Girls'!L51 -> 0 | N54: ='Yr5 Boys& Girls'!M51 -> 0 | T54: =SUM(O54:S54) -> 0 | U54: =SUM(O54:S54)-0 -> 0
A55: =RANK(I$55,I$5:I$100) -> 38 | B55: ='Yr5 Boys& Girls'!C52 -> 0 | C55: ='Yr5 Boys& Girls'!D52 -> 0 | I55: =SUM(D55:H55) -> 0 | J55: =SUM(D55:H55)-0 -> 0 | L55: =RANK(T$55,T$5:T$100) -> 25 | M55: ='Yr5 Boys& Girls'!L52 -> 0 | N55: ='Yr5 Boys& Girls'!M52 -> 0 | T55: =SUM(O55:S55) -> 0 | U55: =SUM(O55:S55)-0 -> 0
A56: =RANK(I$56,I$5:I$100) -> 38 | B56: ='Yr5 Boys& Girls'!C53 -> 0 | C56: ='Yr5 Boys& Girls'!D53 -> 0 | I56: =SUM(D56:H56) -> 0 | J56: =SUM(D56:H56)-0 -> 0 | L56: =RANK(T$56,T$5:T$100) -> 25 | M56: ='Yr5 Boys& Girls'!L53 -> 0 | N56: ='Yr5 Boys& Girls'!M53 -> 0 | T56: =SUM(O56:S56) -> 0 | U56: =SUM(O56:S56)-0 -> 0
A57: =RANK(I$57,I$5:I$100) -> 38 | B57: ='Yr5 Boys& Girls'!C54 -> 0 | C57: ='Yr5 Boys& Girls'!D54 -> 0 | I57: =SUM(D57:H57) -> 0 | J57: =SUM(D57:H57)-0 -> 0 | L57: =RANK(T$57,T$5:T$100) -> 25 | M57: ='Yr5 Boys& Girls'!L54 -> 0 | N57: ='Yr5 Boys& Girls'!M54 -> 0 | T57: =SUM(O57:S57) -> 0 | U57: =SUM(O57:S57)-0 -> 0
A58: =RANK(I$58,I$5:I$100) -> 38 | B58: ='Yr5 Boys& Girls'!C55 -> 0 | C58: ='Yr5 Boys& Girls'!D55 -> 0 | I58: =SUM(D58:H58) -> 0 | J58: =SUM(D58:H58)-0 -> 0 | L58: =RANK(T$58,T$5:T$100) -> 25 | M58: ='Yr5 Boys& Girls'!P55 -> 0 | N58: ='Yr5 Boys& Girls'!M55 -> 0 | T58: =SUM(O58:S58) -> 0 | U58: =SUM(O58:S58)-0 -> 0
A59: =RANK(I$59,I$5:I$100) -> 38 | B59: ='Yr5 Boys& Girls'!C56 -> 0 | C59: ='Yr5 Boys& Girls'!D56 -> 0 | I59: =SUM(D59:H59) -> 0 | J59: =SUM(D59:H59)-0 -> 0 | L59: =RANK(T$59,T$5:T$100) -> 25 | M59: ='Yr5 Boys& Girls'!P56 -> 0 | N59: ='Yr5 Boys& Girls'!M56 -> 0 | T59: =SUM(O59:S59) -> 0 | U59: =SUM(O59:S59)-0 -> 0
A60: =RANK(I$60,I$5:I$100) -> 38 | B60: ='Yr5 Boys& Girls'!C57 -> 0 | C60: ='Yr5 Boys& Girls'!D57 -> 0 | I60: =SUM(D60:H60) -> 0 | J60: =SUM(D60:H60)-0 -> 0 | L60: =RANK(T$60,T$5:T$100) -> 25 | M60: ='Yr5 Boys& Girls'!P57 -> 0 | N60: ='Yr5 Boys& Girls'!M57 -> 0 | T60: =SUM(O60:S60) -> 0 | U60: =SUM(O60:S60)-0 -> 0
A61: =RANK(I$61,I$5:I$100) -> 38 | B61: ='Yr5 Boys& Girls'!C58 -> 0 | C61: ='Yr5 Boys& Girls'!D58 -> 0 | I61: =SUM(D61:H61) -> 0 | J61: =SUM(D61:H61)-0 -> 0 | L61: =RANK(T$61,T$5:T$100) -> 25 | M61: ='Yr5 Boys& Girls'!P58 -> 0 | N61: ='Yr5 Boys& Girls'!M58 -> 0 | T61: =SUM(O61:S61) -> 0 | U61: =SUM(O61:S61)-0 -> 0
A62: =RANK(I$62,I$5:I$100) -> 38 | B62: ='Yr5 Boys& Girls'!C59 -> 0 | C62: ='Yr5 Boys& Girls'!D59 -> 0 | I62: =SUM(D62:H62) -> 0 | J62: =SUM(D62:H62)-0 -> 0 | L62: =RANK(T$62,T$5:T$100) -> 25 | M62: ='Yr5 Boys& Girls'!P59 -> 0 | N62: ='Yr5 Boys& Girls'!M59 -> 0 | T62: =SUM(O62:S62) -> 0 | U62: =SUM(O62:S62)-0 -> 0
A63: =RANK(I$63,I$5:I$100) -> 38 | B63: ='Yr5 Boys& Girls'!C60 -> 0 | C63: ='Yr5 Boys& Girls'!D60 -> 0 | I63: =SUM(D63:H63) -> 0 | J63: =SUM(D63:H63)-0 -> 0 | L63: =RANK(T$63,T$5:T$100) -> 25 | M63: ='Yr5 Boys& Girls'!P60 -> 0 | N63: ='Yr5 Boys& Girls'!M60 -> 0 | T63: =SUM(O63:S63) -> 0 | U63: =SUM(O63:S63)-0 -> 0
A64: =RANK(I$64,I$5:I$100) -> 38 | B64: ='Yr5 Boys& Girls'!C61 -> 0 | C64: ='Yr5 Boys& Girls'!D61 -> 0 | I64: =SUM(D64:H64) -> 0 | J64: =SUM(D64:H64)-0 -> 0 | L64: =RANK(T$64,T$5:T$100) -> 25 | M64: ='Yr5 Boys& Girls'!P61 -> 0 | N64: ='Yr5 Boys& Girls'!M61 -> 0 | T64: =SUM(O64:S64) -> 0 | U64: =SUM(O64:S64)-0 -> 0
A65: =RANK(I$65,I$5:I$100) -> 38 | B65: ='Yr5 Boys& Girls'!C62 -> 0 | C65: ='Yr5 Boys& Girls'!D62 -> 0 | I65: =SUM(D65:H65) -> 0 | J65: =SUM(D65:H65)-0 -> 0 | L65: =RANK(T$65,T$5:T$100) -> 25 | M65: ='Yr5 Boys& Girls'!P62 -> 0 | N65: ='Yr5 Boys& Girls'!M62 -> 0 | T65: =SUM(O65:S65) -> 0 | U65: =SUM(O65:S65)-0 -> 0
A66: =RANK(I$66,I$5:I$100) -> 38 | B66: ='Yr5 Boys& Girls'!C63 -> 0 | C66: ='Yr5 Boys& Girls'!D63 -> 0 | I66: =SUM(D66:H66) -> 0 | J66: =SUM(D66:H66)-0 -> 0 | L66: =RANK(T$66,T$5:T$100) -> 25 | M66: ='Yr5 Boys& Girls'!P63 -> 0 | N66: ='Yr5 Boys& Girls'!M63 -> 0 | T66: =SUM(O66:S66) -> 0 | U66: =SUM(O66:S66)-0 -> 0
A67: =RANK(I$67,I$5:I$100) -> 38 | B67: ='Yr5 Boys& Girls'!C64 -> 0 | C67: ='Yr5 Boys& Girls'!D64 -> 0 | I67: =SUM(D67:H67) -> 0 | J67: =SUM(D67:H67)-0 -> 0 | L67: =RANK(T$67,T$5:T$100) -> 25 | M67: ='Yr5 Boys& Girls'!P64 -> 0 | N67: ='Yr5 Boys& Girls'!M64 -> 0 | T67: =SUM(O67:S67) -> 0 | U67: =SUM(O67:S67)-0 -> 0
A68: =RANK(I$68,I$5:I$100) -> 38 | B68: ='Yr5 Boys& Girls'!C65 -> 0 | C68: ='Yr5 Boys& Girls'!D65 -> 0 | I68: =SUM(D68:H68) -> 0 | J68: =SUM(D68:H68)-0 -> 0 | L68: =RANK(T$68,T$5:T$100) -> 25 | M68: ='Yr5 Boys& Girls'!P65 -> 0 | N68: ='Yr5 Boys& Girls'!M65 -> 0 | T68: =SUM(O68:S68) -> 0 | U68: =SUM(O68:S68)-0 -> 0
A69: =RANK(I$69,I$5:I$100) -> 38 | B69: ='Yr5 Boys& Girls'!C66 -> 0 | C69: ='Yr5 Boys& Girls'!D66 -> 0 | I69: =SUM(D69:H69) -> 0 | J69: =SUM(D69:H69)-0 -> 0 | L69: =RANK(T$69,T$5:T$100) -> 25 | M69: ='Yr5 Boys& Girls'!P66 -> 0 | N69: ='Yr5 Boys& Girls'!M66 -> 0 | T69: =SUM(O69:S69) -> 0 | U69: =SUM(O69:S69)-0 -> 0
A70: =RANK(I$70,I$5:I$100) -> 38 | B70: ='Yr5 Boys& Girls'!C67 -> 0 | C70: ='Yr5 Boys& Girls'!D67 -> 0 | I70: =SUM(D70:H70) -> 0 | J70: =SUM(D70:H70)-0 -> 0 | L70: =RANK(T$70,T$5:T$100) -> 25 | M70: ='Yr5 Boys& Girls'!P67 -> 0 | N70: ='Yr5 Boys& Girls'!M67 -> 0 | T70: =SUM(O70:S70) -> 0 | U70: =SUM(O70:S70)-0 -> 0
A71: =RANK(I$71,I$5:I$100) -> 38 | B71: ='Yr5 Boys& Girls'!C68 -> 0 | C71: ='Yr5 Boys& Girls'!D68 -> 0 | I71: =SUM(D71:H71) -> 0 | L71: =RANK(T$71,T$5:T$100) -> 25 | M71: ='Yr5 Boys& Girls'!P68 -> 0 | N71: ='Yr5 Boys& Girls'!M68 -> 0 | T71: =SUM(O71:S71) -> 0 | U71: =SUM(O71:S71)-0 -> 0
A72: =RANK(I$72,I$5:I$100) -> 38 | B72: ='Yr5 Boys& Girls'!C69 -> 0 | C72: ='Yr5 Boys& Girls'!D69 -> 0 | I72: =SUM(D72:H72) -> 0 | L72: =RANK(T$72,T$5:T$100) -> 25 | M72: ='Yr5 Boys& Girls'!P69 -> 0 | N72: ='Yr5 Boys& Girls'!M69 -> 0 | T72: =SUM(O72:S72) -> 0 | U72: =SUM(O72:S72)-0 -> 0
A73: =RANK(I$73,I$5:I$100) -> 38 | B73: ='Yr5 Boys& Girls'!C70 -> 0 | C73: ='Yr5 Boys& Girls'!D70 -> 0 | I73: =SUM(D73:H73) -> 0 | L73: =RANK(T$73,T$5:T$100) -> 25 | M73: ='Yr5 Boys& Girls'!P70 -> 0 | N73: ='Yr5 Boys& Girls'!M70 -> 0 | T73: =SUM(O73:S73) -> 0 | U73: =SUM(O73:S73)-0 -> 0
A74: =RANK(I$74,I$5:I$100) -> 38 | B74: ='Yr5 Boys& Girls'!C71 -> 0 | C74: ='Yr5 Boys& Girls'!D71 -> 0 | I74: =SUM(D74:H74) -> 0 | L74: =RANK(T$74,T$5:T$100) -> 25 | M74: ='Yr5 Boys& Girls'!P71 -> 0 | N74: ='Yr5 Boys& Girls'!M71 -> 0 | T74: =SUM(O74:S74) -> 0 | U74: =SUM(O74:S74)-0 -> 0
A75: =RANK(I$75,I$5:I$100) -> 38 | B75: ='Yr5 Boys& Girls'!C72 -> 0 | C75: ='Yr5 Boys& Girls'!D72 -> 0 | I75: =SUM(D75:H75) -> 0 | L75: =RANK(T$75,T$5:T$100) -> 25 | M75: ='Yr5 Boys& Girls'!P72 -> 0 | N75: ='Yr5 Boys& Girls'!M72 -> 0 | T75: =SUM(O75:S75) -> 0 | U75: =SUM(O75:S75)-0 -> 0
A76: =RANK(I$76,I$5:I$100) -> 38 | B76: ='Yr5 Boys& Girls'!C73 -> 0 | C76: ='Yr5 Boys& Girls'!D73 -> 0 | I76: =SUM(D76:H76) -> 0 | L76: =RANK(T$76,T$5:T$100) -> 25 | M76: ='Yr5 Boys& Girls'!P73 -> 0 | N76: ='Yr5 Boys& Girls'!M73 -> 0 | T76: =SUM(O76:S76) -> 0 | U76: =SUM(O76:S76)-0 -> 0
A77: =RANK(I$77,I$5:I$100) -> 38 | B77: ='Yr5 Boys& Girls'!C74 -> 0 | C77: ='Yr5 Boys& Girls'!D74 -> 0 | I77: =SUM(D77:H77) -> 0 | L77: =RANK(T$77,T$5:T$100) -> 25 | M77: ='Yr5 Boys& Girls'!P74 -> 0 | N77: ='Yr5 Boys& Girls'!M74 -> 0 | T77: =SUM(O77:S77) -> 0 | U77: =SUM(O77:S77)-0 -> 0
A78: =RANK(I$78,I$5:I$100) -> 38 | B78: ='Yr5 Boys& Girls'!C75 -> 0 | C78: ='Yr5 Boys& Girls'!D75 -> 0 | I78: =SUM(D78:H78) -> 0 | L78: =RANK(T$78,T$5:T$100) -> 25 | M78: ='Yr5 Boys& Girls'!P75 -> 0 | N78: ='Yr5 Boys& Girls'!M75 -> 0 | T78: =SUM(O78:S78) -> 0 | U78: =SUM(O78:S78)-0 -> 0
A79: =RANK(I$79,I$5:I$100) -> 38 | B79: ='Yr5 Boys& Girls'!C76 -> 0 | C79: ='Yr5 Boys& Girls'!D76 -> 0 | I79: =SUM(D79:H79) -> 0 | L79: =RANK(T$79,T$5:T$100) -> 25 | M79: ='Yr5 Boys& Girls'!P76 -> 0 | N79: ='Yr5 Boys& Girls'!M76 -> 0 | T79: =SUM(O79:S79) -> 0 | U79: =SUM(O79:S79)-0 -> 0
A80: =RANK(I$80,I$5:I$100) -> 38 | B80: ='Yr5 Boys& Girls'!C77 -> 0 | C80: ='Yr5 Boys& Girls'!D77 -> 0 | I80: =SUM(D80:H80) -> 0 | L80: =RANK(T$80,T$5:T$100) -> 25 | M80: ='Yr5 Boys& Girls'!P77 -> 0 | N80: ='Yr5 Boys& Girls'!M77 -> 0 | T80: =SUM(O80:S80) -> 0 | U80: =SUM(O80:S80)-0 -> 0
A81: =RANK(I$81,I$5:I$100) -> 38 | B81: ='Yr5 Boys& Girls'!C78 -> 0 | C81: ='Yr5 Boys& Girls'!D78 -> 0 | I81: =SUM(D81:H81) -> 0 | L81: =RANK(T$81,T$5:T$100) -> 25 | M81: ='Yr5 Boys& Girls'!P78 -> 0 | N81: ='Yr5 Boys& Girls'!M78 -> 0 | T81: =SUM(O81:S81) -> 0 | U81: =SUM(O81:S81)-0 -> 0
A82: =RANK(I$82,I$5:I$100) -> 38 | B82: ='Yr5 Boys& Girls'!C79 -> 0 | C82: ='Yr5 Boys& Girls'!D79 -> 0 | I82: =SUM(D82:H82) -> 0 | L82: =RANK(T$82,T$5:T$100) -> 25 | M82: ='Yr5 Boys& Girls'!P79 -> 0 | N82: ='Yr5 Boys& Girls'!M79 -> 0 | T82: =SUM(O82:S82) -> 0 | U82: =SUM(O82:S82)-0 -> 0
A83: =RANK(I$83,I$5:I$100) -> 38 | B83: ='Yr5 Boys& Girls'!C80 -> 0 | C83: ='Yr5 Boys& Girls'!D80 -> 0 | I83: =SUM(D83:H83) -> 0 | L83: =RANK(T$83,T$5:T$100) -> 25 | M83: ='Yr5 Boys& Girls'!P80 -> 0 | N83: ='Yr5 Boys& Girls'!M80 -> 0 | T83: =SUM(O83:S83) -> 0 | U83: =SUM(O83:S83)-0 -> 0
A84: =RANK(I$84,I$5:I$100) -> 38 | B84: ='Yr5 Boys& Girls'!C81 -> 0 | C84: ='Yr5 Boys& Girls'!D81 -> 0 | I84: =SUM(D84:H84) -> 0 | L84: =RANK(T$84,T$5:T$100) -> 25 | M84: ='Yr5 Boys& Girls'!P81 -> 0 | N84: ='Yr5 Boys& Girls'!M81 -> 0 | T84: =SUM(O84:S84) -> 0 | U84: =SUM(O84:S84)-0 -> 0
A85: =RANK(I$85,I$5:I$100) -> 38 | B85: ='Yr5 Boys& Girls'!C82 -> 0 | C85: ='Yr5 Boys& Girls'!D82 -> 0 | I85: =SUM(D85:H85) -> 0 | L85: =RANK(T$85,T$5:T$100) -> 25 | M85: ='Yr5 Boys& Girls'!P82 -> 0 | N85: ='Yr5 Boys& Girls'!M82 -> 0 | T85: =SUM(O85:S85) -> 0 | U85: =SUM(O85:S85)-0 -> 0
A86: =RANK(I$86,I$5:I$100) -> 38 | B86: ='Yr5 Boys& Girls'!C83 -> 0 | C86: ='Yr5 Boys& Girls'!D83 -> 0 | I86: =SUM(D86:H86) -> 0 | L86: =RANK(T$86,T$5:T$100) -> 25 | M86: ='Yr5 Boys& Girls'!P83 -> 0 | N86: ='Yr5 Boys& Girls'!M83 -> 0 | T86: =SUM(O86:S86) -> 0 | U86: =SUM(O86:S86)-0 -> 0
A87: =RANK(I$87,I$5:I$100) -> 38 | B87: ='Yr5 Boys& Girls'!C84 -> 0 | C87: ='Yr5 Boys& Girls'!D84 -> 0 | I87: =SUM(D87:H87) -> 0 | L87: =RANK(T$87,T$5:T$100) -> 25 | M87: ='Yr5 Boys& Girls'!P84 -> 0 | N87: ='Yr5 Boys& Girls'!M84 -> 0 | T87: =SUM(O87:S87) -> 0 | U87: =SUM(O87:S87)-0 -> 0
A88: =RANK(I$88,I$5:I$100) -> 38 | B88: ='Yr5 Boys& Girls'!C85 -> 0 | C88: ='Yr5 Boys& Girls'!D85 -> 0 | I88: =SUM(D88:H88) -> 0 | L88: =RANK(T$88,T$5:T$100) -> 25 | M88: ='Yr5 Boys& Girls'!P85 -> 0 | N88: ='Yr5 Boys& Girls'!M85 -> 0 | T88: =SUM(O88:S88) -> 0 | U88: =SUM(O88:S88)-0 -> 0
A89: =RANK(I$89,I$5:I$100) -> 38 | B89: ='Yr5 Boys& Girls'!C86 -> 0 | C89: ='Yr5 Boys& Girls'!D86 -> 0 | I89: =SUM(D89:H89) -> 0 | L89: =RANK(T$89,T$5:T$100) -> 25 | M89: ='Yr5 Boys& Girls'!P86 -> 0 | N89: ='Yr5 Boys& Girls'!M86 -> 0 | T89: =SUM(O89:S89) -> 0 | U89: =SUM(O89:S89)-0 -> 0
A90: =RANK(I$90,I$5:I$100) -> 38 | B90: ='Yr5 Boys& Girls'!C87 -> 0 | C90: ='Yr5 Boys& Girls'!D87 -> 0 | I90: =SUM(D90:H90) -> 0 | L90: =RANK(T$90,T$5:T$100) -> 25 | M90: ='Yr5 Boys& Girls'!P87 -> 0 | N90: ='Yr5 Boys& Girls'!M87 -> 0 | T90: =SUM(O90:S90) -> 0 | U90: =SUM(O90:S90)-0 -> 0
A91: =RANK(I$91,I$5:I$100) -> 38 | B91: ='Yr5 Boys& Girls'!C88 -> 0 | C91: ='Yr5 Boys& Girls'!D88 -> 0 | I91: =SUM(D91:H91) -> 0 | L91: =RANK(T$91,T$5:T$100) -> 25 | M91: ='Yr5 Boys& Girls'!P88 -> 0 | N91: ='Yr5 Boys& Girls'!Q88 -> 0 | T91: =SUM(O91:S91) -> 0 | U91: =SUM(O91:S91)-0 -> 0
A92: =RANK(I$92,I$5:I$100) -> 38 | B92: ='Yr5 Boys& Girls'!C89 -> 0 | C92: ='Yr5 Boys& Girls'!D89 -> 0 | I92: =SUM(D92:H92) -> 0 | L92: =RANK(T$92,T$5:T$100) -> 25 | M92: ='Yr5 Boys& Girls'!P89 -> 0 | N92: ='Yr5 Boys& Girls'!Q89 -> 0 | T92: =SUM(O92:S92) -> 0 | U92: =SUM(O92:S92)-0 -> 0
A93: =RANK(I$93,I$5:I$100) -> 38 | B93: ='Yr5 Boys& Girls'!C90 -> 0 | C93: ='Yr5 Boys& Girls'!D90 -> 0 | I93: =SUM(D93:H93) -> 0 | L93: =RANK(T$93,T$5:T$100) -> 25 | M93: ='Yr5 Boys& Girls'!P90 -> 0 | N93: ='Yr5 Boys& Girls'!Q90 -> 0 | T93: =SUM(O93:S93) -> 0 | U93: =SUM(O93:S93)-0 -> 0
A94: =RANK(I$94,I$5:I$100) -> 38 | B94: ='Yr5 Boys& Girls'!C91 -> 0 | C94: ='Yr5 Boys& Girls'!D91 -> 0 | I94: =SUM(D94:H94) -> 0 | L94: =RANK(T$94,T$5:T$100) -> 25 | M94: ='Yr5 Boys& Girls'!P91 -> 0 | N94: ='Yr5 Boys& Girls'!Q91 -> 0 | T94: =SUM(O94:S94) -> 0 | U94: =SUM(O94:S94)-0 -> 0
A95: =RANK(I$95,I$5:I$100) -> 38 | B95: ='Yr5 Boys& Girls'!C92 -> 0 | C95: ='Yr5 Boys& Girls'!D92 -> 0 | I95: =SUM(D95:H95) -> 0 | L95: =RANK(T$95,T$5:T$100) -> 25 | M95: ='Yr5 Boys& Girls'!P92 -> 0 | N95: ='Yr5 Boys& Girls'!Q92 -> 0 | T95: =SUM(O95:S95) -> 0 | U95: =SUM(O95:S95)-0 -> 0
A96: =RANK(I$96,I$5:I$100) -> 38 | B96: ='Yr5 Boys& Girls'!C93 -> 0 | C96: ='Yr5 Boys& Girls'!D93 -> 0 | I96: =SUM(D96:H96) -> 0 | L96: =RANK(T$96,T$5:T$100) -> 25 | M96: ='Yr5 Boys& Girls'!P93 -> 0 | N96: ='Yr5 Boys& Girls'!Q93 -> 0 | T96: =SUM(O96:S96) -> 0 | U96: =SUM(O96:S96)-0 -> 0
A97: =RANK(I$97,I$5:I$100) -> 38 | B97: ='Yr5 Boys& Girls'!C94 -> 0 | C97: ='Yr5 Boys& Girls'!D94 -> 0 | I97: =SUM(D97:H97) -> 0 | L97: =RANK(T$97,T$5:T$100) -> 25 | M97: ='Yr5 Boys& Girls'!P94 -> 0 | N97: ='Yr5 Boys& Girls'!Q94 -> 0 | T97: =SUM(O97:S97) -> 0 | U97: =SUM(O97:S97)-0 -> 0
A98: =RANK(I$98,I$5:I$100) -> 38 | B98: ='Yr5 Boys& Girls'!C95 -> 0 | C98: ='Yr5 Boys& Girls'!D95 -> 0 | I98: =SUM(D98:H98) -> 0 | L98: =RANK(T$98,T$5:T$100) -> 25 | M98: ='Yr5 Boys& Girls'!P95 -> 0 | N98: ='Yr5 Boys& Girls'!Q95 -> 0 | T98: =SUM(O98:S98) -> 0 | U98: =SUM(O98:S98)-0 -> 0
A99: =RANK(I$99,I$5:I$100) -> 38 | B99: ='Yr5 Boys& Girls'!C96 -> 0 | C99: ='Yr5 Boys& Girls'!D96 -> 0 | I99: =SUM(D99:H99) -> 0 | L99: =RANK(T$99,T$5:T$100) -> 25 | M99: ='Yr5 Boys& Girls'!P96 -> 0 | N99: ='Yr5 Boys& Girls'!Q96 -> 0 | T99: =SUM(O99:S99) -> 0 | U99: =SUM(O99:S99)-0 -> 0
A100: =RANK(I$100,I$5:I$100) -> 38 | B100: ='Yr5 Boys& Girls'!C97 -> 0 | C100: ='Yr5 Boys& Girls'!D97 -> 0 | I100: =SUM(D100:H100) -> 0 | L100: =RANK(T$100,T$5:T$100) -> 25 | M100: ='Yr5 Boys& Girls'!P97 -> 0 | N100: ='Yr5 Boys& Girls'!Q97 -> 0 | T100: =SUM(O100:S100) -> 0 | U100: =SUM(O100:S100)-0 -> 0

Sheet Yr6 Boys& Girls oa
A1: NEWQUAY & PAR AC JUNIOR SCHOOLS CROSS COUNTRY 2023/24 | I1: overall points | J1: best four scores | L1: NEWQUAY & PAR AC JUNIOR SCHOOLS CROSS COUNTRY 2023/24 | T1: overall points | U1: best four scores
A2: Overall Results for Year 6 Boys | L2: Overall Results for Year 6 Girls
B4: name | C4: School | D4: R1 | E4: R2 | F4: R3 | G4: R4 | H4: R5 | M4: name | N4: School | O4: R1 | P4: R2 | Q4: R3 | R4: R4 | S4: R5
A5: 1 | B5: Harry Hogbin Y6 B | C5: Ladock CE School | D5: 100 | E5: 100 | F5: 100 | G5: 100 | I5: =SUM(D5:H5) -> 400 | J5: =SUM(D5:H5)-0 -> 400 | L5: 1 | M5: Anouk Topps Y6 G | N5: Tywardreath | O5: 95 | P5: 98 | Q5: 98 | R5: 99 | T5: =SUM(O5:S5) -> 390 | U5: =SUM(O5:S5)-0 -> 390
A6: 2 | B6: Reubyn Howes Y6 B | C6: Tywardreath | D6: 98 | E6: 98 | F6: 99 | G6: 99 | I6: =SUM(D6:H6) -> 394 | J6: =SUM(D6:H6)-0 -> 394 | L6: 2 | M6: Eadie-Mae Munn Y6 G | N6: Tywardreath | O6: 97 | P6: 95 | Q6: 95 | R6: 95 | T6: =SUM(O6:S6) -> 382 | U6: =SUM(O6:S6)-0 -> 382
A7: 3 | B7: Henry Denning Y6 B | C7: Ladock CE School | D7: 99 | E7: 99 | F7: 97 | G7: 97 | I7: =SUM(D7:H7) -> 392 | J7: =SUM(D7:H7)-0 -> 392 | L7: 3 | M7: Esmee Perks Y6 G | N7: Biscovey | O7: 100 | P7: 93 | Q7: 97 | R7: 89 | T7: =SUM(O7:S7) -> 379 | U7: =SUM(O7:S7)-0 -> 379
A8: 4 | B8: Thomas Rowe Y6 B | C8: St Petroc's, Bodmin | D8: 97 | E8: 95 | F8: 96 | G8: 95 | I8: =SUM(D8:H8) -> 383 | J8: =SUM(D8:H8)-0 -> 383 | L8: 4 | M8: Macey Collins Y6 G | N8: St Petroc's, Bodmin | O8: 98 | P8: 94 | Q8: 92 | R8: 92 | T8: =SUM(O8:S8) -> 376 | U8: =SUM(O8:S8)-0 -> 376
A9: 5 | B9: Jude Egford Y6 B | C9: Ladock CE School | D9: 96 | E9: 96 | F9: 93 | G9: 94 | I9: =SUM(D9:H9) -> 379 | J9: =SUM(D9:H9)-0 -> 379 | L9: 5 | M9: Isobel Ward Y6 G | N9: St Wenn | O9: 99 | P9: 90 | Q9: 89 | R9: 85 | T9: =SUM(O9:S9) -> 363 | U9: =SUM(O9:S9)-0 -> 363
A10: 6 | B10: Harry Kirwan Y6 B | C10: Tywardreath | D10: 93 | E10: 91 | F10: 90 | G10: 87 | I10: =SUM(D10:H10) -> 361 | J10: =SUM(D10:H10)-0 -> 361 | L10: 6 | M10: Ella Aldridge Y6 G | N10: Biscovey | O10: 94 | P10: 91 | Q10: 86 | R10: 87 | T10: =SUM(O10:S10) -> 358 | U10: =SUM(O10:S10)-0 -> 358
A11: 7 | B11: Toby Greet Y6 B | C11: Tywardreath | D11: 94 | E11: 90 | F11: 88 | G11: 88 | I11: =SUM(D11:H11) -> 360 | J11: =SUM(D11:H11)-0 -> 360 | L11: 7 | M11: Lola Stockwell Y6 G | N11: Treverbyn | O11: 88 | P11: 89 | Q11: 91 | R11: 90 | T11: =SUM(O11:S11) -> 358 | U11: =SUM(O11:S11)-0 -> 358
A12: 8 | B12: Charlie Sinfield Y6 B | C12: St Petroc's, Bodmin | D12: 91 | E12: 88 | F12: 89 | G12: 86 | I12: =SUM(D12:H12) -> 354 | J12: =SUM(D12:H12)-0 -> 354 | L12: 8 | M12: Millie Megson Y6 G | N12: Biscovey | O12: 92 | P12: 79 | Q12: 84 | R12: 93 | T12: =SUM(O12:S12) -> 348 | U12: =SUM(O12:S12)-0 -> 348
A13: 9 | B13: Harry Wilder Y6 B | C13: Gorran | D13: 92 | E13: 86 | F13: 87 | G13: 89 | I13: =SUM(D13:H13) -> 354 | J13: =SUM(D13:H13)-0 -> 354 | L13: 9 | M13: Senara Dunn Y6 G | N13: Treverbyn | O13: 90 | P13: 87 | Q13: 87 | R13: 80 | T13: =SUM(O13:S13) -> 344 | U13: =SUM(O13:S13)-0 -> 344
A14: 10 | B14: Brody Slater Y6 B | C14: Biscovey | D14: 86 | E14: 82 | F14: 91 | G14: 92 | I14: =SUM(D14:H14) -> 351 | J14: =SUM(D14:H14)-0 -> 351 | L14: 10 | M14: Courtney Beagley Y6 G | N14: Treverbyn | O14: 91 | P14: 85 | Q14: 78 | R14: 82 | T14: =SUM(O14:S14) -> 336 | U14: =SUM(O14:S14)-0 -> 336
A15: 11 | B15: Kyle Wegg Y6 B | C15: Treverbyn | D15: 90 | E15: 87 | F15: 86 | G15: 82 | I15: =SUM(D15:H15) -> 345 | J15: =SUM(D15:H15)-0 -> 345 | L15: 11 | M15: Mia Armstrong Y6 G | N15: Biscovey | O15: 87 | P15: 81 | Q15: 85 | R15: 79 | T15: =SUM(O15:S15) -> 332 | U15: =SUM(O15:S15)-0 -> 332
A16: 12 | B16: Kian McCarthy Y6 B | C16: Biscovey | D16: 89 | E16: 83 | F16: 83 | G16: 84 | I16: =SUM(D16:H16) -> 339 | J16: =SUM(D16:H16)-0 -> 339 | L16: 12 | M16: Violet Durber Y6 G | N16: Probus | P16: 100 | Q16: 100 | R16: 100 | T16: =SUM(O16:S16) -> 300 | U16: =SUM(O16:S16)-0 -> 300
A17: 13 | B17: Aston Hall Y6 B | C17: Biscovey | D17: 88 | E17: 84 | F17: 81 | G17: 85 | I17: =SUM(D17:H17) -> 338 | J17: =SUM(D17:H17)-0 -> 338 | L17: 13 | M17: Megan Perry Y6 G | N17: Probus | P17: 99 | Q17: 99 | R17: 98 | T17: =SUM(O17:S17) -> 296 | U17: =SUM(O17:S17)-0 -> 296
A18: 14 | B18: Jem Sullivan Y6 B | C18: Probus | E18: 97 | F18: 98 | G18: 98 | I18: =SUM(D18:H18) -> 293 | J18: =SUM(D18:H18)-0 -> 293 | L18: 14 | M18: Astrid Cain Y6 G | N18: Probus | P18: 97 | Q18: 96 | R18: 96 | T18: =SUM(O18:S18) -> 289 | U18: =SUM(O18:S18)-0 -> 289
A19: 15 | B19: Tom Bowen Y6 B | C19: Probus | E19: 94 | F19: 94 | G19: 96 | I19: =SUM(D19:H19) -> 284 | J19: =SUM(D19:H19)-0 -> 284 | L19: 15 | M19: Imogen Monroe Y6 G | N19: Tywardreath | O19: 96 | P19: 96 | Q19: 90 | T19: =SUM(O19:S19) -> 282 | U19: =SUM(O19:S19)-0 -> 282
A20: 16 | B20: Harlow Hill Y6 B | C20: Treverbyn | E20: 93 | F20: 95 | G20: 90 | I20: =SUM(D20:H20) -> 278 | J20: =SUM(D20:H20)-0 -> 278 | L20: 16 | M20: Eden Carlton Y6 G | N20: Probus | P20: 88 | Q20: 94 | R20: 97 | T20: =SUM(O20:S20) -> 279 | U20: =SUM(O20:S20)-0 -> 279
A21: 17 | B21: Johan Putt Y6 B | C21: Biscovey | D21: 95 | E21: 89 | G21: 93 | I21: =SUM(D21:H21) -> 277 | J21: =SUM(D21:H21)-0 -> 277 | L21: 17 | M21: Ella Martin Y6 G | N21: Probus | P21: 86 | Q21: 88 | R21: 91 | T21: =SUM(O21:S21) -> 265 | U21: =SUM(O21:S21)-0 -> 265
A22: 18 | B22: Calan Davey Y6 B | C22: Probus | E22: 92 | F22: 92 | G22: 91 | I22: =SUM(D22:H22) -> 275 | J22: =SUM(D22:H22)-0 -> 275 | L22: 18 | M22: Ava-Lily Bissett Y6 G | N22: Treverbyn | O22: 89 | Q22: 79 | R22: 83 | T22: =SUM(O22:S22) -> 251 | U22: =SUM(O22:S22)-0 -> 251
A23: 19 | B23: Finley Whitmill Y6 B | C23: St Petroc's, Bodmin | E23: 85 | F23: 85 | G23: 83 | I23: =SUM(D23:H23) -> 253 | J23: =SUM(D23:H23)-0 -> 253 | L23: 19 | M23: Darcey Lee Y6 G | N23: Ladock CE School | P23: 82 | Q23: 82 | R23: 84 | T23: =SUM(O23:S23) -> 248 | U23: =SUM(O23:S23)-0 -> 248
A24: 20 | B24: Guy Spencer Y6 B | C24: Gorran | D24: 85 | E24: 81 | I24: =SUM(D24:H24) -> 166 | J24: =SUM(D24:H24)-0 -> 166 | L24: 20 | M24: Millie Cox Y6 G | N24: Biscovey | P24: 80 | Q24: 83 | R24: 78 | T24: =SUM(O24:S24) -> 241 | U24: =SUM(O24:S24)-0 -> 241
A25: 21 | B25: Bradley Morcom-Ankers Y6 B | C25: Biscovey | F25: 84 | G25: 81 | I25: =SUM(D25:H25) -> 165 | J25: =SUM(D25:H25)-0 -> 165 | L25: 21 | M25: Rachel Emms Y6 G | N25: Biscovey | Q25: 93 | R25: 94 | T25: =SUM(O25:S25) -> 187 | U25: =SUM(O25:S25)-0 -> 187
A26: 22 | B26: Brooklyn Parnell Y6 B | C26: Biscovey | F26: 82 | G26: 78 | I26: =SUM(D26:H26) -> 160 | J26: =SUM(D26:H26)-0 -> 160 | L26: 22 | M26: Josie Potter Y6 G | N26: Treverbyn | Q26: 80 | R26: 88 | T26: =SUM(O26:S26) -> 168 | U26: =SUM(O26:S26)-0 -> 168
A27: 23 | B27: Logan Reid Y6 B | C27: Biscovey | F27: 80 | G27: 79 | I27: =SUM(D27:H27) -> 159 | J27: =SUM(D27:H27)-0 -> 159 | L27: 23 | M27: Lily Overson Y6 G | N27: Biscovey | P27: 84 | R27: 81 | T27: =SUM(O27:S27) -> 165 | U27: =SUM(O27:S27)-0 -> 165
A28: 24 | B28: Jed Rowe Y6 B | C28: St Wenn | D28: 87 | I28: =SUM(D28:H28) -> 87 | J28: =SUM(D28:H28)-0 -> 87 | L28: 24 | M28: Mia Chubb Y6 G | N28: Biscovey | O28: 86 | P28: 78 | T28: =SUM(O28:S28) -> 164 | U28: =SUM(O28:S28)-0 -> 164
A29: 25 | B29: Cameron Taylor Y6 B | C29: Biscovey | G29: 80 | I29: =SUM(D29:H29) -> 80 | J29: =SUM(D29:H29)-0 -> 80 | L29: 25 | M29: Theia Stewart Y6 G | N29: Gorran | O29: 93 | T29: =SUM(O29:S29) -> 93 | U29: =SUM(O29:S29)-0 -> 93
A30: =RANK(I$30,I$5:I$100) -> 26 | B30: ='Yr6 Boys& Girls'!C30 -> 0 | C30: ='Yr6 Boys& Girls'!D30 -> 0 | I30: =SUM(D30:H30) -> 0 | J30: =SUM(D30:H30)-0 -> 0 | L30: 26 | M30: Layla Blamey Y6 G | N30: St Petroc's, Bodmin | P30: 92 | T30: =SUM(O30:S30) -> 92 | U30: =SUM(O30:S30)-0 -> 92
A31: =RANK(I$31,I$5:I$100) -> 26 | B31: ='Yr6 Boys& Girls'!C31 -> 0 | C31: ='Yr6 Boys& Girls'!D31 -> 0 | I31: =SUM(D31:H31) -> 0 | J31: =SUM(D31:H31)-0 -> 0 | L31: 27 | M31: Mowenna Murray Y6 G | N31: Ladock CE School | R31: 86 | T31: =SUM(O31:S31) -> 86 | U31: =SUM(O31:S31)-0 -> 86
A32: =RANK(I$32,I$5:I$100) -> 26 | B32: ='Yr6 Boys& Girls'!C32 -> 0 | C32: ='Yr6 Boys& Girls'!D32 -> 0 | I32: =SUM(D32:H32) -> 0 | J32: =SUM(D32:H32)-0 -> 0 | L32: 28 | M32: Holly Oerlemans Y6 G | N32: Biscovey | P32: 83 | T32: =SUM(O32:S32) -> 83 | U32: =SUM(O32:S32)-0 -> 83
A33: =RANK(I$33,I$5:I$100) -> 26 | B33: ='Yr6 Boys& Girls'!C33 -> 0 | C33: ='Yr6 Boys& Girls'!D33 -> 0 | I33: =SUM(D33:H33) -> 0 | J33: =SUM(D33:H33)-0 -> 0 | L33: 29 | M33: Tilly Parrott Y6 G | N33: Treverbyn | Q33: 81 | T33: =SUM(O33:S33) -> 81 | U33: =SUM(O33:S33)-0 -> 81
A34: =RANK(I$34,I$5:I$100) -> 26 | B34: ='Yr6 Boys& Girls'!C34 -> 0 | C34: ='Yr6 Boys& Girls'!D34 -> 0 | I34: =SUM(D34:H34) -> 0 | J34: =SUM(D34:H34)-0 -> 0 | L34: =RANK(T$34,T$5:T$100) -> 30 | T34: =SUM(O34:S34) -> 0 | U34: =SUM(O34:S34)-0 -> 0
A35: =RANK(I$35,I$5:I$100) -> 26 | B35: ='Yr6 Boys& Girls'!C35 -> 0 | C35: ='Yr6 Boys& Girls'!D35 -> 0 | I35: =SUM(D35:H35) -> 0 | J35: =SUM(D35:H35)-0 -> 0 | L35: =RANK(T$35,T$5:T$100) -> 30 | T35: =SUM(O35:S35) -> 0 | U35: =SUM(O35:S35)-0 -> 0
A36: =RANK(I$36,I$5:I$100) -> 26 | B36: ='Yr6 Boys& Girls'!C36 -> 0 | C36: ='Yr6 Boys& Girls'!D36 -> 0 | I36: =SUM(D36:H36) -> 0 | J36: =SUM(D36:H36)-0 -> 0 | L36: =RANK(T$36,T$5:T$100) -> 30 | T36: =SUM(O36:S36) -> 0 | U36: =SUM(O36:S36)-0 -> 0
A37: =RANK(I$37,I$5:I$100) -> 26 | B37: ='Yr6 Boys& Girls'!C37 -> 0 | C37: ='Yr6 Boys& Girls'!D37 -> 0 | I37: =SUM(D37:H37) -> 0 | J37: =SUM(D37:H37)-0 -> 0 | L37: =RANK(T$37,T$5:T$100) -> 30 | T37: =SUM(O37:S37) -> 0 | U37: =SUM(O37:S37)-0 -> 0
A38: =RANK(I$38,I$5:I$100) -> 26 | B38: ='Yr6 Boys& Girls'!C38 -> 0 | C38: ='Yr6 Boys& Girls'!D38 -> 0 | I38: =SUM(D38:H38) -> 0 | J38: =SUM(D38:H38)-0 -> 0 | L38: =RANK(T$38,T$5:T$100) -> 30 | T38: =SUM(O38:S38) -> 0 | U38: =SUM(O38:S38)-0 -> 0
A39: =RANK(I$39,I$5:I$100) -> 26 | B39: ='Yr6 Boys& Girls'!C39 -> 0 | C39: ='Yr6 Boys& Girls'!D39 -> 0 | I39: =SUM(D39:H39) -> 0 | J39: =SUM(D39:H39)-0 -> 0 | L39: =RANK(T$39,T$5:T$100) -> 30 | M39: ='Yr6 Boys& Girls'!L39 -> 0 | N39: ='Yr6 Boys& Girls'!M39 -> 0 | T39: =SUM(O39:S39) -> 0 | U39: =SUM(O39:S39)-0 -> 0
A40: =RANK(I$40,I$5:I$100) -> 26 | B40: ='Yr6 Boys& Girls'!C40 -> 0 | C40: ='Yr6 Boys& Girls'!D40 -> 0 | I40: =SUM(D40:H40) -> 0 | J40: =SUM(D40:H40)-0 -> 0 | L40: =RANK(T$40,T$5:T$100) -> 30 | M40: ='Yr6 Boys& Girls'!L40 -> 0 | N40: ='Yr6 Boys& Girls'!M40 -> 0 | T40: =SUM(O40:S40) -> 0 | U40: =SUM(O40:S40)-0 -> 0
A41: =RANK(I$41,I$5:I$100) -> 26 | B41: ='Yr6 Boys& Girls'!C41 -> 0 | C41: ='Yr6 Boys& Girls'!D41 -> 0 | I41: =SUM(D41:H41) -> 0 | J41: =SUM(D41:H41)-0 -> 0 | L41: =RANK(T$41,T$5:T$100) -> 30 | M41: ='Yr6 Boys& Girls'!L41 -> 0 | N41: ='Yr6 Boys& Girls'!M41 -> 0 | T41: =SUM(O41:S41) -> 0 | U41: =SUM(O41:S41)-0 -> 0
A42: =RANK(I$42,I$5:I$100) -> 26 | B42: ='Yr6 Boys& Girls'!C42 -> 0 | C42: ='Yr6 Boys& Girls'!D42 -> 0 | I42: =SUM(D42:H42) -> 0 | J42: =SUM(D42:H42)-0 -> 0 | L42: =RANK(T$42,T$5:T$100) -> 30 | M42: ='Yr6 Boys& Girls'!L42 -> 0 | N42: ='Yr6 Boys& Girls'!M42 -> 0 | T42: =SUM(O42:S42) -> 0 | U42: =SUM(O42:S42)-0 -> 0
A43: =RANK(I$43,I$5:I$100) -> 26 | B43: ='Yr6 Boys& Girls'!C43 -> 0 | C43: ='Yr6 Boys& Girls'!D43 -> 0 | I43: =SUM(D43:H43) -> 0 | J43: =SUM(D43:H43)-0 -> 0 | L43: =RANK(T$43,T$5:T$100) -> 30 | M43: ='Yr6 Boys& Girls'!L43 -> 0 | N43: ='Yr6 Boys& Girls'!M43 -> 0 | T43: =SUM(O43:S43) -> 0 | U43: =SUM(O43:S43)-0 -> 0
A44: =RANK(I$44,I$5:I$100) -> 26 | B44: ='Yr6 Boys& Girls'!C44 -> 0 | C44: ='Yr6 Boys& Girls'!D44 -> 0 | I44: =SUM(D44:H44) -> 0 | J44: =SUM(D44:H44)-0 -> 0 | L44: =RANK(T$44,T$5:T$100) -> 30 | M44: ='Yr6 Boys& Girls'!L44 -> 0 | N44: ='Yr6 Boys& Girls'!M44 -> 0 | T44: =SUM(O44:S44) -> 0 | U44: =SUM(O44:S44)-0 -> 0
A45: =RANK(I$45,I$5:I$100) -> 26 | B45: ='Yr6 Boys& Girls'!C45 -> 0 | C45: ='Yr6 Boys& Girls'!D45 -> 0 | I45: =SUM(D45:H45) -> 0 | J45: =SUM(D45:H45)-0 -> 0 | L45: =RANK(T$45,T$5:T$100) -> 30 | M45: ='Yr6 Boys& Girls'!L45 -> 0 | N45: ='Yr6 Boys& Girls'!M45 -> 0 | T45: =SUM(O45:S45) -> 0 | U45: =SUM(O45:S45)-0 -> 0
A46: =RANK(I$46,I$5:I$100) -> 26 | B46: ='Yr6 Boys& Girls'!C46 -> 0 | C46: ='Yr6 Boys& Girls'!D46 -> 0 | I46: =SUM(D46:H46) -> 0 | J46: =SUM(D46:H46)-0 -> 0 | L46: =RANK(T$46,T$5:T$100) -> 30 | M46: ='Yr6 Boys& Girls'!L46 -> 0 | N46: ='Yr6 Boys& Girls'!M46 -> 0 | T46: =SUM(O46:S46) -> 0 | U46: =SUM(O46:S46)-0 -> 0
A47: =RANK(I$47,I$5:I$100) -> 26 | B47: ='Yr6 Boys& Girls'!C47 -> 0 | C47: ='Yr6 Boys& Girls'!D47 -> 0 | I47: =SUM(D47:H47) -> 0 | J47: =SUM(D47:H47)-0 -> 0 | L47: =RANK(T$47,T$5:T$100) -> 30 | M47: ='Yr6 Boys& Girls'!L47 -> 0 | N47: ='Yr6 Boys& Girls'!M47 -> 0 | T47: =SUM(O47:S47) -> 0 | U47: =SUM(O47:S47)-0 -> 0
A48: =RANK(I$48,I$5:I$100) -> 26 | B48: ='Yr6 Boys& Girls'!C48 -> 0 | C48: ='Yr6 Boys& Girls'!D48 -> 0 | I48: =SUM(D48:H48) -> 0 | J48: =SUM(D48:H48)-0 -> 0 | L48: =RANK(T$48,T$5:T$100) -> 30 | M48: ='Yr6 Boys& Girls'!L48 -> 0 | N48: ='Yr6 Boys& Girls'!M48 -> 0 | T48: =SUM(O48:S48) -> 0 | U48: =SUM(O48:S48)-0 -> 0
A49: =RANK(I$49,I$5:I$100) -> 26 | B49: ='Yr6 Boys& Girls'!C49 -> 0 | C49: ='Yr6 Boys& Girls'!D49 -> 0 | I49: =SUM(D49:H49) -> 0 | J49: =SUM(D49:H49)-0 -> 0 | L49: =RANK(T$49,T$5:T$100) -> 30 | M49: ='Yr6 Boys& Girls'!L49 -> 0 | N49: ='Yr6 Boys& Girls'!M49 -> 0 | T49: =SUM(O49:S49) -> 0 | U49: =SUM(O49:S49)-0 -> 0
A50: =RANK(I$50,I$5:I$100) -> 26 | B50: ='Yr6 Boys& Girls'!C50 -> 0 | C50: ='Yr6 Boys& Girls'!D50 -> 0 | I50: =SUM(D50:H50) -> 0 | J50: =SUM(D50:H50)-0 -> 0 | L50: =RANK(T$50,T$5:T$100) -> 30 | M50: ='Yr6 Boys& Girls'!L50 -> 0 | N50: ='Yr6 Boys& Girls'!M50 -> 0 | T50: =SUM(O50:S50) -> 0 | U50: =SUM(O50:S50)-0 -> 0
A51: =RANK(I$51,I$5:I$100) -> 26 | B51: ='Yr6 Boys& Girls'!C51 -> 0 | C51: ='Yr6 Boys& Girls'!D51 -> 0 | I51: =SUM(D51:H51) -> 0 | J51: =SUM(D51:H51)-0 -> 0 | L51: =RANK(T$51,T$5:T$100) -> 30 | M51: ='Yr6 Boys& Girls'!L51 -> 0 | N51: ='Yr6 Boys& Girls'!M51 -> 0 | T51: =SUM(O51:S51) -> 0 | U51: =SUM(O51:S51)-0 -> 0
A52: =RANK(I$52,I$5:I$100) -> 26 | B52: ='Yr6 Boys& Girls'!C52 -> 0 | C52: ='Yr6 Boys& Girls'!D52 -> 0 | I52: =SUM(D52:H52) -> 0 | J52: =SUM(D52:H52)-0 -> 0 | L52: =RANK(T$52,T$5:T$100) -> 30 | M52: ='Yr6 Boys& Girls'!L52 -> 0 | N52: ='Yr6 Boys& Girls'!M52 -> 0 | T52: =SUM(O52:S52) -> 0 | U52: =SUM(O52:S52)-0 -> 0
A53: =RANK(I$53,I$5:I$100) -> 26 | B53: ='Yr6 Boys& Girls'!C53 -> 0 | C53: ='Yr6 Boys& Girls'!D53 -> 0 | I53: =SUM(D53:H53) -> 0 | J53: =SUM(D53:H53)-0 -> 0 | L53: =RANK(T$53,T$5:T$100) -> 30 | M53: ='Yr6 Boys& Girls'!L53 -> 0 | N53: ='Yr6 Boys& Girls'!M53 -> 0 | T53: =SUM(O53:S53) -> 0 | U53: =SUM(O53:S53)-0 -> 0
A54: =RANK(I$54,I$5:I$100) -> 26 | B54: ='Yr6 Boys& Girls'!C54 -> 0 | C54: ='Yr6 Boys& Girls'!D54 -> 0 | I54: =SUM(D54:H54) -> 0 | J54: =SUM(D54:H54)-0 -> 0 | L54: =RANK(T$54,T$5:T$100) -> 30 | M54: ='Yr6 Boys& Girls'!L54 -> 0 | N54: ='Yr6 Boys& Girls'!M54 -> 0 | T54: =SUM(O54:S54) -> 0 | U54: =SUM(O54:S54)-0 -> 0
A55: =RANK(I$55,I$5:I$100) -> 26 | B55: ='Yr6 Boys& Girls'!C55 -> 0 | C55: ='Yr6 Boys& Girls'!D55 -> 0 | I55: =SUM(D55:H55) -> 0 | J55: =SUM(D55:H55)-0 -> 0 | L55: =RANK(T$55,T$5:T$100) -> 30 | M55: ='Yr6 Boys& Girls'!L55 -> 0 | N55: ='Yr6 Boys& Girls'!M55 -> 0 | T55: =SUM(O55:S55) -> 0 | U55: =SUM(O55:S55)-0 -> 0
A56: =RANK(I$56,I$5:I$100) -> 26 | B56: ='Yr6 Boys& Girls'!C56 -> 0 | C56: ='Yr6 Boys& Girls'!D56 -> 0 | I56: =SUM(D56:H56) -> 0 | J56: =SUM(D56:H56)-0 -> 0 | L56: =RANK(T$56,T$5:T$100) -> 30 | M56: ='Yr6 Boys& Girls'!L56 -> 0 | N56: ='Yr6 Boys& Girls'!M56 -> 0 | T56: =SUM(O56:S56) -> 0 | U56: =SUM(O56:S56)-0 -> 0
A57: =RANK(I$57,I$5:I$100) -> 26 | B57: ='Yr6 Boys& Girls'!C57 -> 0 | C57: ='Yr6 Boys& Girls'!D57 -> 0 | I57: =SUM(D57:H57) -> 0 | J57: =SUM(D57:H57)-0 -> 0 | L57: =RANK(T$57,T$5:T$100) -> 30 | M57: ='Yr6 Boys& Girls'!L57 -> 0 | N57: ='Yr6 Boys& Girls'!M57 -> 0 | T57: =SUM(O57:S57) -> 0 | U57: =SUM(O57:S57)-0 -> 0
A58: =RANK(I$58,I$5:I$100) -> 26 | B58: ='Yr6 Boys& Girls'!C58 -> 0 | C58: ='Yr6 Boys& Girls'!D58 -> 0 | I58: =SUM(D58:H58) -> 0 | J58: =SUM(D58:H58)-0 -> 0 | L58: =RANK(T$58,T$5:T$100) -> 30 | M58: ='Yr6 Boys& Girls'!L58 -> 0 | N58: ='Yr6 Boys& Girls'!M58 -> 0 | T58: =SUM(O58:S58) -> 0 | U58: =SUM(O58:S58)-0 -> 0
A59: =RANK(I$59,I$5:I$100) -> 26 | B59: ='Yr6 Boys& Girls'!C59 -> 0 | C59: ='Yr6 Boys& Girls'!D59 -> 0 | I59: =SUM(D59:H59) -> 0 | J59: =SUM(D59:H59)-0 -> 0 | L59: =RANK(T$59,T$5:T$100) -> 30 | M59: ='Yr6 Boys& Girls'!L59 -> 0 | N59: ='Yr6 Boys& Girls'!M59 -> 0 | T59: =SUM(O59:S59) -> 0 | U59: =SUM(O59:S59)-0 -> 0
A60: =RANK(I$60,I$5:I$100) -> 26 | B60: ='Yr6 Boys& Girls'!C60 -> 0 | C60: ='Yr6 Boys& Girls'!D60 -> 0 | I60: =SUM(D60:H60) -> 0 | J60: =SUM(D60:H60)-0 -> 0 | L60: =RANK(T$60,T$5:T$100) -> 30 | M60: ='Yr6 Boys& Girls'!L60 -> 0 | N60: ='Yr6 Boys& Girls'!M60 -> 0 | T60: =SUM(O60:S60) -> 0 | U60: =SUM(O60:S60)-0 -> 0
A61: =RANK(I$61,I$5:I$100) -> 26 | B61: ='Yr6 Boys& Girls'!C61 -> 0 | C61: ='Yr6 Boys& Girls'!D61 -> 0 | I61: =SUM(D61:H61) -> 0 | J61: =SUM(D61:H61)-0 -> 0 | L61: =RANK(T$61,T$5:T$100) -> 30 | M61: ='Yr6 Boys& Girls'!L61 -> 0 | N61: ='Yr6 Boys& Girls'!M61 -> 0 | T61: =SUM(O61:S61) -> 0 | U61: =SUM(O61:S61)-0 -> 0
A62: =RANK(I$62,I$5:I$100) -> 26 | B62: ='Yr6 Boys& Girls'!C62 -> 0 | C62: ='Yr6 Boys& Girls'!D62 -> 0 | I62: =SUM(D62:H62) -> 0 | L62: =RANK(T$62,T$5:T$100) -> 30 | M62: ='Yr6 Boys& Girls'!L62 -> 0 | N62: ='Yr6 Boys& Girls'!M62 -> 0 | T62: =SUM(O62:S62) -> 0 | U62: =SUM(O62:S62)-0 -> 0
A63: =RANK(I$63,I$5:I$100) -> 26 | B63: ='Yr6 Boys& Girls'!C63 -> 0 | C63: ='Yr6 Boys& Girls'!D63 -> 0 | I63: =SUM(D63:H63) -> 0 | L63: =RANK(T$63,T$5:T$100) -> 30 | M63: ='Yr6 Boys& Girls'!L63 -> 0 | N63: ='Yr6 Boys& Girls'!M63 -> 0 | T63: =SUM(O63:S63) -> 0 | U63: =SUM(O63:S63)-0 -> 0
A64: =RANK(I$64,I$5:I$100) -> 26 | B64: ='Yr6 Boys& Girls'!C64 -> 0 | C64: ='Yr6 Boys& Girls'!D64 -> 0 | I64: =SUM(D64:H64) -> 0 | L64: =RANK(T$64,T$5:T$100) -> 30 | M64: ='Yr6 Boys& Girls'!L64 -> 0 | N64: ='Yr6 Boys& Girls'!M64 -> 0 | T64: =SUM(O64:S64) -> 0 | U64: =SUM(O64:S64)-0 -> 0
A65: =RANK(I$65,I$5:I$100) -> 26 | B65: ='Yr6 Boys& Girls'!C65 -> 0 | C65: ='Yr6 Boys& Girls'!D65 -> 0 | I65: =SUM(D65:H65) -> 0 | L65: =RANK(T$65,T$5:T$100) -> 30 | M65: ='Yr6 Boys& Girls'!L65 -> 0 | N65: ='Yr6 Boys& Girls'!M65 -> 0 | T65: =SUM(O65:S65) -> 0 | U65: =SUM(O65:S65)-0 -> 0
A66: =RANK(I$66,I$5:I$100) -> 26 | B66: ='Yr6 Boys& Girls'!C66 -> 0 | C66: ='Yr6 Boys& Girls'!D66 -> 0 | I66: =SUM(D66:H66) -> 0 | L66: =RANK(T$66,T$5:T$100) -> 30 | M66: ='Yr6 Boys& Girls'!L66 -> 0 | N66: ='Yr6 Boys& Girls'!M66 -> 0 | T66: =SUM(O66:S66) -> 0 | U66: =SUM(O66:S66)-0 -> 0
A67: =RANK(I$67,I$5:I$100) -> 26 | B67: ='Yr6 Boys& Girls'!C67 -> 0 | C67: ='Yr6 Boys& Girls'!D67 -> 0 | I67: =SUM(D67:H67) -> 0 | L67: =RANK(T$67,T$5:T$100) -> 30 | M67: ='Yr6 Boys& Girls'!L67 -> 0 | N67: ='Yr6 Boys& Girls'!M67 -> 0 | T67: =SUM(O67:S67) -> 0 | U67: =SUM(O67:S67)-0 -> 0
A68: =RANK(I$68,I$5:I$100) -> 26 | B68: ='Yr6 Boys& Girls'!C68 -> 0 | C68: ='Yr6 Boys& Girls'!D68 -> 0 | I68: =SUM(D68:H68) -> 0 | L68: =RANK(T$68,T$5:T$100) -> 30 | M68: ='Yr6 Boys& Girls'!L68 -> 0 | N68: ='Yr6 Boys& Girls'!M68 -> 0 | T68: =SUM(O68:S68) -> 0 | U68: =SUM(O68:S68)-0 -> 0
A69: =RANK(I$69,I$5:I$100) -> 26 | B69: ='Yr6 Boys& Girls'!C69 -> 0 | C69: ='Yr6 Boys& Girls'!D69 -> 0 | I69: =SUM(D69:H69) -> 0 | L69: =RANK(T$69,T$5:T$100) -> 30 | M69: ='Yr6 Boys& Girls'!L69 -> 0 | N69: ='Yr6 Boys& Girls'!M69 -> 0 | T69: =SUM(O69:S69) -> 0 | U69: =SUM(O69:S69)-0 -> 0
A70: =RANK(I$70,I$5:I$100) -> 26 | B70: ='Yr6 Boys& Girls'!C70 -> 0 | C70: ='Yr6 Boys& Girls'!D70 -> 0 | I70: =SUM(D70:H70) -> 0 | L70: =RANK(T$70,T$5:T$100) -> 30 | M70: ='Yr6 Boys& Girls'!L70 -> 0 | N70: ='Yr6 Boys& Girls'!M70 -> 0 | T70: =SUM(O70:S70) -> 0
A71: =RANK(I$71,I$5:I$100) -> 26 | B71: ='Yr6 Boys& Girls'!C71 -> 0 | C71: ='Yr6 Boys& Girls'!D71 -> 0 | I71: =SUM(D71:H71) -> 0 | L71: =RANK(T$71,T$5:T$100) -> 30 | M71: ='Yr6 Boys& Girls'!L71 -> 0 | N71: ='Yr6 Boys& Girls'!M71 -> 0 | T71: =SUM(O71:S71) -> 0
A72: =RANK(I$72,I$5:I$100) -> 26 | B72: ='Yr6 Boys& Girls'!C72 -> 0 | C72: ='Yr6 Boys& Girls'!D72 -> 0 | I72: =SUM(D72:H72) -> 0 | L72: =RANK(T$72,T$5:T$100) -> 30 | M72: ='Yr6 Boys& Girls'!L72 -> 0 | N72: ='Yr6 Boys& Girls'!M72 -> 0 | T72: =SUM(O72:S72) -> 0
A73: =RANK(I$73,I$5:I$100) -> 26 | B73: ='Yr6 Boys& Girls'!C73 -> 0 | C73: ='Yr6 Boys& Girls'!D73 -> 0 | I73: =SUM(D73:H73) -> 0 | L73: =RANK(T$73,T$5:T$100) -> 30 | M73: ='Yr6 Boys& Girls'!L73 -> 0 | N73: ='Yr6 Boys& Girls'!M73 -> 0 | T73: =SUM(O73:S73) -> 0
A74: =RANK(I$74,I$5:I$100) -> 26 | B74: ='Yr6 Boys& Girls'!C74 -> 0 | C74: ='Yr6 Boys& Girls'!D74 -> 0 | I74: =SUM(D74:H74) -> 0 | L74: =RANK(T$74,T$5:T$100) -> 30 | M74: ='Yr6 Boys& Girls'!L74 -> 0 | N74: ='Yr6 Boys& Girls'!M74 -> 0 | T74: =SUM(O74:S74) -> 0
A75: =RANK(I$75,I$5:I$100) -> 26 | B75: ='Yr6 Boys& Girls'!C75 -> 0 | C75: ='Yr6 Boys& Girls'!D75 -> 0 | I75: =SUM(D75:H75) -> 0 | L75: =RANK(T$75,T$5:T$100) -> 30 | M75: ='Yr6 Boys& Girls'!L75 -> 0 | N75: ='Yr6 Boys& Girls'!M75 -> 0 | T75: =SUM(O75:S75) -> 0
A76: =RANK(I$76,I$5:I$100) -> 26 | B76: ='Yr6 Boys& Girls'!C76 -> 0 | C76: ='Yr6 Boys& Girls'!D76 -> 0 | I76: =SUM(D76:H76) -> 0 | L76: =RANK(T$76,T$5:T$100) -> 30 | M76: ='Yr6 Boys& Girls'!L76 -> 0 | N76: ='Yr6 Boys& Girls'!M76 -> 0 | T76: =SUM(O76:S76) -> 0
A77: =RANK(I$77,I$5:I$100) -> 26 | B77: ='Yr6 Boys& Girls'!C77 -> 0 | C77: ='Yr6 Boys& Girls'!D77 -> 0 | I77: =SUM(D77:H77) -> 0 | L77: =RANK(T$77,T$5:T$100) -> 30 | M77: ='Yr6 Boys& Girls'!L77 -> 0 | N77: ='Yr6 Boys& Girls'!M77 -> 0 | T77: =SUM(O77:S77) -> 0
A78: =RANK(I$78,I$5:I$100) -> 26 | B78: ='Yr6 Boys& Girls'!C78 -> 0 | C78: ='Yr6 Boys& Girls'!D78 -> 0 | I78: =SUM(D78:H78) -> 0 | L78: =RANK(T$78,T$5:T$100) -> 30 | M78: ='Yr6 Boys& Girls'!L78 -> 0 | N78: ='Yr6 Boys& Girls'!M78 -> 0 | T78: =SUM(O78:S78) -> 0
A79: =RANK(I$79,I$5:I$100) -> 26 | B79: ='Yr6 Boys& Girls'!C79 -> 0 | C79: ='Yr6 Boys& Girls'!D79 -> 0 | I79: =SUM(D79:H79) -> 0 | L79: =RANK(T$79,T$5:T$100) -> 30 | M79: ='Yr6 Boys& Girls'!L79 -> 0 | N79: ='Yr6 Boys& Girls'!M79 -> 0 | T79: =SUM(O79:S79) -> 0
A80: =RANK(I$80,I$5:I$100) -> 26 | B80: ='Yr6 Boys& Girls'!C80 -> 0 | C80: ='Yr6 Boys& Girls'!D80 -> 0 | I80: =SUM(D80:H80) -> 0 | L80: =RANK(T$80,T$5:T$100) -> 30 | M80: ='Yr6 Boys& Girls'!L80 -> 0 | N80: ='Yr6 Boys& Girls'!M80 -> 0 | T80: =SUM(O80:S80) -> 0
A81: =RANK(I$81,I$5:I$100) -> 26 | B81: ='Yr6 Boys& Girls'!C81 -> 0 | C81: ='Yr6 Boys& Girls'!D81 -> 0 | I81: =SUM(D81:H81) -> 0 | L81: =RANK(T$81,T$5:T$100) -> 30 | M81: ='Yr6 Boys& Girls'!L81 -> 0 | N81: ='Yr6 Boys& Girls'!M81 -> 0 | T81: =SUM(O81:S81) -> 0
A82: =RANK(I$82,I$5:I$100) -> 26 | B82: ='Yr6 Boys& Girls'!C82 -> 0 | C82: ='Yr6 Boys& Girls'!D82 -> 0 | I82: =SUM(D82:H82) -> 0 | L82: =RANK(T$82,T$5:T$100) -> 30 | M82: ='Yr6 Boys& Girls'!L82 -> 0 | N82: ='Yr6 Boys& Girls'!M82 -> 0 | T82: =SUM(O82:S82) -> 0
A83: =RANK(I$83,I$5:I$100) -> 26 | B83: ='Yr6 Boys& Girls'!C83 -> 0 | C83: ='Yr6 Boys& Girls'!D83 -> 0 | I83: =SUM(D83:H83) -> 0 | L83: =RANK(T$83,T$5:T$100) -> 30 | M83: ='Yr6 Boys& Girls'!L83 -> 0 | N83: ='Yr6 Boys& Girls'!M83 -> 0 | T83: =SUM(O83:S83) -> 0
A84: =RANK(I$84,I$5:I$100) -> 26 | B84: ='Yr6 Boys& Girls'!C84 -> 0 | C84: ='Yr6 Boys& Girls'!D84 -> 0 | I84: =SUM(D84:H84) -> 0 | L84: =RANK(T$84,T$5:T$100) -> 30 | M84: ='Yr6 Boys& Girls'!L84 -> 0 | N84: ='Yr6 Boys& Girls'!M84 -> 0 | T84: =SUM(O84:S84) -> 0
A85: =RANK(I$85,I$5:I$100) -> 26 | B85: ='Yr6 Boys& Girls'!C85 -> 0 | C85: ='Yr6 Boys& Girls'!D85 -> 0 | I85: =SUM(D85:H85) -> 0 | L85: =RANK(T$85,T$5:T$100) -> 30 | M85: ='Yr6 Boys& Girls'!L85 -> 0 | N85: ='Yr6 Boys& Girls'!M85 -> 0 | T85: =SUM(O85:S85) -> 0
A86: =RANK(I$86,I$5:I$100) -> 26 | B86: ='Yr6 Boys& Girls'!C86 -> 0 | C86: ='Yr6 Boys& Girls'!D86 -> 0 | I86: =SUM(D86:H86) -> 0 | L86: =RANK(T$86,T$5:T$100) -> 30 | M86: ='Yr6 Boys& Girls'!L86 -> 0 | N86: ='Yr6 Boys& Girls'!M86 -> 0 | T86: =SUM(O86:S86) -> 0
A87: =RANK(I$87,I$5:I$100) -> 26 | B87: ='Yr6 Boys& Girls'!C87 -> 0 | C87: ='Yr6 Boys& Girls'!D87 -> 0 | I87: =SUM(D87:H87) -> 0 | L87: =RANK(T$87,T$5:T$100) -> 30 | M87: ='Yr6 Boys& Girls'!L87 -> 0 | N87: ='Yr6 Boys& Girls'!M87 -> 0 | T87: =SUM(O87:S87) -> 0
A88: =RANK(I$88,I$5:I$100) -> 26 | B88: ='Yr6 Boys& Girls'!C88 -> 0 | C88: ='Yr6 Boys& Girls'!D88 -> 0 | I88: =SUM(D88:H88) -> 0 | L88: =RANK(T$88,T$5:T$100) -> 30 | M88: ='Yr6 Boys& Girls'!L88 -> 0 | N88: ='Yr6 Boys& Girls'!M88 -> 0 | T88: =SUM(O88:S88) -> 0
A89: =RANK(I$89,I$5:I$100) -> 26 | B89: ='Yr6 Boys& Girls'!C89 -> 0 | C89: ='Yr6 Boys& Girls'!D89 -> 0 | I89: =SUM(D89:H89) -> 0 | L89: =RANK(T$89,T$5:T$100) -> 30 | M89: ='Yr6 Boys& Girls'!L89 -> 0 | N89: ='Yr6 Boys& Girls'!M89 -> 0 | T89: =SUM(O89:S89) -> 0
A90: =RANK(I$90,I$5:I$100) -> 26 | B90: ='Yr6 Boys& Girls'!C90 -> 0 | C90: ='Yr6 Boys& Girls'!D90 -> 0 | I90: =SUM(D90:H90) -> 0 | L90: =RANK(T$90,T$5:T$100) -> 30 | M90: ='Yr6 Boys& Girls'!L90 -> 0 | N90: ='Yr6 Boys& Girls'!M90 -> 0 | T90: =SUM(O90:S90) -> 0
A91: =RANK(I$91,I$5:I$100) -> 26 | B91: ='Yr6 Boys& Girls'!C91 -> 0 | C91: ='Yr6 Boys& Girls'!D91 -> 0 | I91: =SUM(D91:H91) -> 0 | L91: =RANK(T$91,T$5:T$100) -> 30 | M91: ='Yr6 Boys& Girls'!L91 -> 0 | N91: ='Yr6 Boys& Girls'!M91 -> 0 | T91: =SUM(O91:S91) -> 0
A92: =RANK(I$92,I$5:I$100) -> 26 | B92: ='Yr6 Boys& Girls'!C92 -> 0 | C92: ='Yr6 Boys& Girls'!D92 -> 0 | I92: =SUM(D92:H92) -> 0 | L92: =RANK(T$92,T$5:T$100) -> 30 | M92: ='Yr6 Boys& Girls'!L92 -> 0 | N92: ='Yr6 Boys& Girls'!M92 -> 0 | T92: =SUM(O92:S92) -> 0
A93: =RANK(I$93,I$5:I$100) -> 26 | B93: ='Yr6 Boys& Girls'!C93 -> 0 | C93: ='Yr6 Boys& Girls'!D93 -> 0 | I93: =SUM(D93:H93) -> 0 | L93: =RANK(T$93,T$5:T$100) -> 30 | M93: ='Yr6 Boys& Girls'!L93 -> 0 | N93: ='Yr6 Boys& Girls'!M93 -> 0 | T93: =SUM(O93:S93) -> 0
A94: =RANK(I$94,I$5:I$100) -> 26 | B94: ='Yr6 Boys& Girls'!C94 -> 0 | C94: ='Yr6 Boys& Girls'!D94 -> 0 | I94: =SUM(D94:H94) -> 0 | L94: =RANK(T$94,T$5:T$100) -> 30 | M94: ='Yr6 Boys& Girls'!L94 -> 0 | N94: ='Yr6 Boys& Girls'!M94 -> 0 | T94: =SUM(O94:S94) -> 0
A95: =RANK(I$95,I$5:I$100) -> 26 | B95: ='Yr6 Boys& Girls'!C95 -> 0 | C95: ='Yr6 Boys& Girls'!D95 -> 0 | I95: =SUM(D95:H95) -> 0 | L95: =RANK(T$95,T$5:T$100) -> 30 | M95: ='Yr6 Boys& Girls'!L95 -> 0 | N95: ='Yr6 Boys& Girls'!M95 -> 0 | T95: =SUM(O95:S95) -> 0
A96: =RANK(I$96,I$5:I$100) -> 26 | B96: ='Yr6 Boys& Girls'!C96 -> 0 | C96: ='Yr6 Boys& Girls'!D96 -> 0 | I96: =SUM(D96:H96) -> 0 | L96: =RANK(T$96,T$5:T$100) -> 30 | M96: ='Yr6 Boys& Girls'!L96 -> 0 | N96: ='Yr6 Boys& Girls'!M96 -> 0 | T96: =SUM(O96:S96) -> 0
A97: =RANK(I$97,I$5:I$100) -> 26 | B97: ='Yr6 Boys& Girls'!C97 -> 0 | C97: ='Yr6 Boys& Girls'!D97 -> 0 | I97: =SUM(D97:H97) -> 0 | L97: =RANK(T$97,T$5:T$100) -> 30 | M97: ='Yr6 Boys& Girls'!L97 -> 0 | N97: ='Yr6 Boys& Girls'!M97 -> 0 | T97: =SUM(O97:S97) -> 0
A98: =RANK(I$98,I$5:I$100) -> 26 | B98: ='Yr6 Boys& Girls'!C98 -> 0 | C98: ='Yr6 Boys& Girls'!D98 -> 0 | I98: =SUM(D98:H98) -> 0 | L98: =RANK(T$98,T$5:T$100) -> 30 | M98: ='Yr6 Boys& Girls'!L98 -> 0 | N98: ='Yr6 Boys& Girls'!M98 -> 0 | T98: =SUM(O98:S98) -> 0
A99: =RANK(I$99,I$5:I$100) -> 26 | B99: ='Yr6 Boys& Girls'!C99 -> 0 | C99: ='Yr6 Boys& Girls'!D99 -> 0 | I99: =SUM(D99:H99) -> 0 | L99: =RANK(T$99,T$5:T$100) -> 30 | M99: ='Yr6 Boys& Girls'!L99 -> 0 | N99: ='Yr6 Boys& Girls'!M99 -> 0 | T99: =SUM(O99:S99) -> 0
A100: =RANK(I$100,I$5:I$100) -> 26 | B100: ='Yr6 Boys& Girls'!C100 -> 0 | C100: ='Yr6 Boys& Girls'!D100 -> 0 | I100: =SUM(D100:H100) -> 0 | L100: =RANK(T$100,T$5:T$100) -> 30 | M100: ='Yr6 Boys& Girls'!L100 -> 0 | N100: ='Yr6 Boys& Girls'!M100 -> 0 | T100: =SUM(O100:S100) -> 0

Sheet Team positions
A1: NEWQUAY & PAR AC JUNIOR SCHOOLS CROSS COUNTRY 2023/24 | H1: overall points | I1: best four scores | K1: NEWQUAY & PAR AC JUNIOR SCHOOLS CROSS COUNTRY 2023/24 | R1: overall points | S1: best four scores
A2: Team positions for Year 5 Boys | K2: Team positions for Year 5 Girls
B4: school | C4: R1 | D4: R2 | E4: R3 | F4: R4 | G4: R5 | L4: school | M4: R1 | N4: R2 | O4: R3 | P4: R4 | Q4: R5
A5: 1 | B5: Gorran | C5: 285 | D5: 285 | E5: 292 | F5: 290 | H5: =SUM(C5:G5) -> 1152 | I5: =SUM(C5:G5)-0 -> 1152 | K5: 1 | L5: Biscovey | M5: 294 | N5: 294 | O5: 290 | P5: 292 | R5: =SUM(M5:Q5) -> 1170 | S5: =SUM(M5:Q5)-0 -> 1170
A6: 2 | B6: Biscovey | C6: 291 | D6: 285 | E6: 283 | F6: 284 | H6: =SUM(C6:G6) -> 1143 | I6: =SUM(C6:G6)-0 -> 1143 | K6: 2 | L6: Tywardreath | M6: 265 | N6: 274 | O6: 276 | P6: 175 | R6: =SUM(M6:Q6) -> 990 | S6: =SUM(M6:Q6)-0 -> 990
A7: 3 | B7: Tywardreath | C7: 249 | D7: 248 | E7: 256 | F7: 242 | H7: =SUM(C7:G7) -> 995 | I7: =SUM(C7:G7)-0 -> 995 | K7: 3 | L7: St Wenn | M7: 273 | N7: 184 | O7: 277 | P7: 177 | R7: =SUM(M7:Q7) -> 911 | S7: =SUM(M7:Q7)-0 -> 911
A8: 4 | B8: Biscovey'B' | C8: 166 | D8: 252 | E8: 258 | F8: 264 | H8: =SUM(C8:G8) -> 940 | I8: =SUM(C8:G8)-0 -> 940 | K8: 4 | L8: Gorran | M8: 274 | N8: 267 | P8: 262 | R8: =SUM(M8:Q8) -> 803 | S8: =SUM(M8:Q8)-0 -> 803
A9: 5 | B9: Tywardreath 'B' | C9: 158 | D9: 223 | E9: 225 | F9: 228 | H9: =SUM(C9:G9) -> 834 | I9: =SUM(C9:G9)-0 -> 834 | K9: 5 | L9: Biscovey'B' | M9: 190 | N9: 190 | P9: 273 | R9: =SUM(M9:Q9) -> 653 | S9: =SUM(M9:Q9)-0 -> 653
A10: 6 | B10: St Wenn | C10: 279 | D10: 274 | F10: 275 | H10: =SUM(C10:G10) -> 828 | I10: =SUM(C10:G10)-0 -> 828 | K10: 6 | L10: Treverbyn | M10: 100 | N10: 100 | O10: 198 | P10: 192 | R10: =SUM(M10:Q10) -> 590 | S10: =SUM(M10:Q10)-0 -> 590
A11: 7 | B11: Treverbyn | C11: 182 | D11: 189 | E11: 193 | F11: 190 | H11: =SUM(C11:G11) -> 754 | I11: =SUM(C11:G11)-0 -> 754 | K11: 7 | L11: Gorran 'B' | M11: 252 | N11: 255 | R11: =SUM(M11:Q11) -> 507 | S11: =SUM(M11:Q11)-0 -> 507
A12: 8 | B12: Gorran 'B' | C12: 266 | D12: 259 | E12: 177 | H12: =SUM(C12:G12) -> 702 | I12: =SUM(C12:G12)-0 -> 702 | K12: 8 | L12: St Petrocs | P12: 193 | R12: =SUM(M12:Q12) -> 193 | S12: =SUM(M12:Q12)-0 -> 193
A13: 9 | B13: Biscovey'C' | E13: 238 | F13: 246 | H13: =SUM(C13:G13) -> 484 | I13: =SUM(C13:G13)-0 -> 484 | K13: =RANK(R$13,R$5:R$17) -> 9 | R13: =SUM(M13:Q13) -> 0 | S13: =SUM(M13:Q13)-0 -> 0
A14: 10 | B14: Probus | D14: 170 | E14: 181 | H14: =SUM(C14:G14) -> 351 | I14: =SUM(C14:G14)-0 -> 351 | K14: =RANK(R$14,R$5:R$17) -> 9 | R14: =SUM(M14:Q14) -> 0 | S14: =SUM(M14:Q14)-0 -> 0
A15: 11 | B15: St Wenn 'B' | C15: 158 | D15: 148 | H15: =SUM(C15:G15) -> 306 | I15: =SUM(C15:G15)-0 -> 306 | K15: =RANK(R$15,R$5:R$17) -> 9 | R15: =SUM(M15:Q15) -> 0 | S15: =SUM(M15:Q15)-0 -> 0
A16: 12 | B16: Ladock | C16: 90 | D16: 84 | H16: =SUM(C16:G16) -> 174 | I16: =SUM(C16:G16)-0 -> 174 | K16: =RANK(R$16,R$5:R$17) -> 9 | R16: =SUM(M16:Q16) -> 0 | S16: =SUM(M16:Q16)-0 -> 0
A17: =RANK(H$17,H$5:H$17) -> 13 | H17: =SUM(C17:G17) -> 0 | I17: =SUM(C17:G17)-0 -> 0 | K17: =RANK(R$17,R$5:R$17) -> 9 | R17: =SUM(M17:Q17) -> 0 | S17: =SUM(M17:Q17)-0 -> 0
A18: NEWQUAY & PAR AC JUNIOR SCHOOLS CROSS COUNTRY 2023/24 | H18: overall points | I18: best four scores | K18: NEWQUAY & PAR AC JUNIOR SCHOOLS CROSS COUNTRY 2023/24 | R18: overall points | S18: best four scores
A19: Team positions for Year 6 Boys | K19: Team positions for Year 6 Girls
B21: school | C21: R1 | D21: R2 | E21: R3 | F21: R4 | G21: R5 | L21: school | M21: R1 | N21: R2 | O21: R3 | P21: R4 | Q21: R5
A22: 1 | B22: Ladock | C22: 295 | D22: 295 | E22: 290 | F22: 291 | H22: =SUM(C22:G22) -> 1171 | I22: =SUM(C22:G22)-0 -> 1171 | K22: 1 | L22: Biscovey | M22: 286 | N22: 268 | O22: 276 | P22: 276 | R22: =SUM(M22:Q22) -> 1106 | S22: =SUM(M22:Q22)-0 -> 1106
A23: 2 | B23: Tywardreath | C23: 285 | D23: 279 | E23: 277 | F23: 274 | H23: =SUM(C23:G23) -> 1115 | I23: =SUM(C23:G23)-0 -> 1115 | K23: 2 | L23: Tywardreath | M23: 288 | N23: 289 | O23: 283 | P23: 194 | R23: =SUM(M23:Q23) -> 1054 | S23: =SUM(M23:Q23)-0 -> 1054
A24: 3 | B24: Biscovey | C24: 272 | D24: 256 | E24: 258 | F24: 270 | H24: =SUM(C24:G24) -> 1056 | I24: =SUM(C24:G24)-0 -> 1056 | K24: 3 | L24: Treverbyn | M24: 270 | N24: 261 | O24: 259 | P24: 261 | R24: =SUM(M24:Q24) -> 1051 | S24: =SUM(M24:Q24)-0 -> 1051 | V24: Biscovey
A25: 4 | B25: St Petrocs | C25: 188 | D25: 268 | E25: 270 | F25: 264 | H25: =SUM(C25:G25) -> 990 | I25: =SUM(C25:G25)-0 -> 990 | K25: 4 | L25: Biscovey'B' | M25: 173 | N25: 244 | O25: 252 | P25: 247 | R25: =SUM(M25:Q25) -> 916 | S25: =SUM(M25:Q25)-0 -> 916 | V25: St Petrocs
A26: 5 | B26: Probus | D26: 283 | E26: 284 | F26: 285 | H26: =SUM(C26:G26) -> 852 | I26: =SUM(C26:G26)-0 -> 852 | K26: 5 | L26: Probus | N26: 296 | O26: 293 | P26: 295 | R26: =SUM(M26:Q26) -> 884 | S26: =SUM(M26:Q26)-0 -> 884 | V26: Gorran
A27: 6 | B27: Treverbyn | C27: 90 | D27: 180 | E27: 181 | F27: 172 | H27: =SUM(C27:G27) -> 623 | I27: =SUM(C27:G27)-0 -> 623 | K27: 6 | L27: Probus'B' | N27: 174 | O27: 182 | P27: 187 | R27: =SUM(M27:Q27) -> 543 | S27: =SUM(M27:Q27)-0 -> 543 | V27: Lostwithiel
A28: 7 | B28: Biscovey'B' | E28: 243 | F28: 245 | H28: =SUM(C28:G28) -> 488 | I28: =SUM(C28:G28)-0 -> 488 | K28: 7 | L28: St Petrocs | M28: 98 | N28: 186 | O28: 92 | P28: 92 | R28: =SUM(M28:Q28) -> 468 | S28: =SUM(M28:Q28)-0 -> 468 | V28: Ladock
A29: 8 | B29: Gorran | C29: 177 | D29: 167 | F29: 89 | H29: =SUM(C29:G29) -> 433 | I29: =SUM(C29:G29)-0 -> 433 | K29: 8 | L29: Treverbyn'B' | M29: 13 | O29: 237 | P29: 162 | R29: =SUM(M29:Q29) -> 412 | S29: =SUM(M29:Q29)-0 -> 412 | V29: Biscovey'B'
A30: 9 | B30: St Wenn | C30: 87 | H30: =SUM(C30:G30) -> 87 | I30: =SUM(C30:G30)-0 -> 87 | K30: 9 | L30: St Wenn | M30: 99 | N30: 90 | P30: 85 | R30: =SUM(M30:Q30) -> 274 | S30: =SUM(M30:Q30)-0 -> 274 | V30: Tywardreath
A31: =RANK(H$31,H$22:H$100) -> 10 | H31: =SUM(C31:G31) -> 0 | I31: =SUM(C31:G31)-0 -> 0 | K31: 10 | L31: Ladock | N31: 82 | P31: 170 | R31: =SUM(M31:Q31) -> 252 | S31: =SUM(M31:Q31)-0 -> 252 | V31: Gorran 'B'
A32: =RANK(H$32,H$22:H$100) -> 10 | H32: =SUM(C32:G32) -> 0 | I32: =SUM(C32:G32)-0 -> 0 | K32: 11 | L32: Gorran | M32: 93 | R32: =SUM(M32:Q32) -> 93 | S32: =SUM(M32:Q32)-0 -> 93 | V32: St Wenn
A33: =RANK(H$33,H$22:H$100) -> 10 | H33: =SUM(C33:G33) -> 0 | I33: =SUM(C33:G33)-0 -> 0 | K33: =RANK(R$33,R$22:R$100) -> 12 | R33: =SUM(M33:Q33) -> 0 | S33: =SUM(M33:Q33)-0 -> 0 | V33: Treverbyn
A34: =RANK(H$34,H$22:H$100) -> 10 | H34: =SUM(C34:G34) -> 0 | I34: =SUM(C34:G34)-0 -> 0 | K34: =RANK(R$34,R$22:R$100) -> 12 | R34: =SUM(M34:Q34) -> 0 | S34: =SUM(M34:Q34)-0 -> 0 | V34: St Wenn 'B'
V35: Tywardreath 'B'
V36: Probus
V37: Treverbyn'B'
