Workbook

Sheet Register
A1: NEWQUAY & PAR AC JUNIOR SCHOOLS CROSS COUNTRY REGISTER 2022/23
A2: SCHOOL:
A3: Please complete the following but leave the no. Column blank
A4: No | B4: Do Not Touch cells below! | C4: School | D4: forename | E4: Surname | G4: year | I4: B/G | J4: position
A5: 1 | B5: =D5&" "&E5&" "&F5 -> Bella Brewer Y4 G | C5: Gorran | D5: Bella | E5: Brewer | F5: =G5&""&H5&" "&I5 -> Y4 G | G5: Y | H5: 4 | I5: G
A6: 2 | B6: =D6&" "&E6&" "&F6 -> Emily Cornelius Y4 G | C6: Gorran | D6: Emily | E6: Cornelius | F6: =G6&""&H6&" "&I6 -> Y4 G | G6: Y | H6: 4 | I6: G | K6: No publicity please
A7: 3 | B7: =D7&" "&E7&" "&F7 -> Lottie Fletcher Y4 G | C7: Gorran | D7: Lottie | E7: Fletcher | F7: =G7&""&H7&" "&I7 -> Y4 G | G7: Y | H7: 4 | I7: G
A8: 4 | B8: =D8&" "&E8&" "&F8 -> Alice Grimmett Y4 G | C8: Gorran | D8: Alice | E8: Grimmett | F8: =G8&""&H8&" "&I8 -> Y4 G | G8: Y | H8: 4 | I8: G
A9: 5 | B9: =D9&" "&E9&" "&F9 -> Chloe Mackrory Y4 G | C9: Gorran | D9: Chloe | E9: Mackrory | F9: =G9&""&H9&" "&I9 -> Y4 G | G9: Y | H9: 4 | I9: G
A10: 6 | B10: =D10&" "&E10&" "&F10 -> Zara Stewart Y4 G | C10: Gorran | D10: Zara | E10: Stewart | F10: =G10&""&H10&" "&I10 -> Y4 G | G10: Y | H10: 4 | I10: G | K10: No publicity please
A11: 7 | B11: =D11&" "&E11&" "&F11 -> Elsie Brown Y4 G | C11: Gorran | D11: Elsie | E11: Brown | F11: =G11&""&H11&" "&I11 -> Y4 G | G11: Y | H11: 4 | I11: G
A12: 8 | B12: =D12&" "&E12&" "&F12 -> Freddie Brown Y4 B | C12: Gorran | D12: Freddie | E12: Brown | F12: =G12&""&H12&" "&I12 -> Y4 B | G12: Y | H12: 4 | I12: B
A13: 9 | B13: =D13&" "&E13&" "&F13 -> Wilf Smejkal Y4 B | C13: Gorran | D13: Wilf | E13: Smejkal | F13: =G13&""&H13&" "&I13 -> Y4 B | G13: Y | H13: 4 | I13: B
A14: 10 | B14: =D14&" "&E14&" "&F14 -> Harry Crowe Y5 B | C14: Gorran | D14: Harry | E14: Crowe | F14: =G14&""&H14&" "&I14 -> Y5 B | G14: Y | H14: 5 | I14: B
A15: 11 | B15: =D15&" "&E15&" "&F15 -> Ruan Flack Y5 B | C15: Gorran | D15: Ruan | E15: Flack | F15: =G15&""&H15&" "&I15 -> Y5 B | G15: Y | H15: 5 | I15: B
A16: 12 | B16: =D16&" "&E16&" "&F16 -> JoJo Fraser Y5 B | C16: Gorran | D16: JoJo | E16: Fraser | F16: =G16&""&H16&" "&I16 -> Y5 B | G16: Y | H16: 5 | I16: B
A17: 13 | B17: =D17&" "&E17&" "&F17 -> Bertie Fraser Y5 B | C17: Gorran | D17: Bertie | E17: Fraser | F17: =G17&""&H17&" "&I17 -> Y5 B | G17: Y | H17: 5 | I17: B
A18: 14 | B18: =D18&" "&E18&" "&F18 -> William Talen Y5 B | C18: Gorran | D18: William | E18: Talen | F18: =G18&""&H18&" "&I18 -> Y5 B | G18: Y | H18: 5 | I18: B
A19: 15 | B19: =D19&" "&E19&" "&F19 -> Theia Stewart Y6 G | C19: Gorran | D19: Theia | E19: Stewart | F19: =G19&""&H19&" "&I19 -> Y6 G | G19: Y | H19: 6 | I19: G | K19: No publicity please
A20: 16 | B20: =D20&" "&E20&" "&F20 -> Guy Spencer Y6 B | C20: Gorran | D20: Guy | E20: Spencer | F20: =G20&""&H20&" "&I20 -> Y6 B | G20: Y | H20: 6 | I20: B
A21: 17 | B21: =D21&" "&E21&" "&F21 -> Harry Wilder Y6 B | C21: Gorran | D21: Harry | E21: Wilder | F21: =G21&""&H21&" "&I21 -> Y6 B | G21: Y | H21: 6 | I21: B
A22: 18 | B22: =D22&" "&E22&" "&F22 -> Y | C22: Gorran | F22: =G22&""&H22&" "&I22 -> Y | G22: Y
A23: 19 | B23: =D23&" "&E23&" "&F23 -> Y | C23: Gorran | F23: =G23&""&H23&" "&I23 -> Y | G23: Y
A24: 20 | B24: =D24&" "&E24&" "&F24 -> Y | C24: Gorran | F24: =G24&""&H24&" "&I24 -> Y | G24: Y
A25: 21 | B25: =D25&" "&E25&" "&F25 -> Y | C25: Gorran | F25: =G25&""&H25&" "&I25 -> Y | G25: Y
A26: 22 | B26: =D26&" "&E26&" "&F26 -> Y | C26: Gorran | F26: =G26&""&H26&" "&I26 -> Y | G26: Y
A27: 23 | B27: =D27&" "&E27&" "&F27 -> Y | C27: Gorran | F27: =G27&""&H27&" "&I27 -> Y | G27: Y
A28: 24 | B28: =D28&" "&E28&" "&F28 -> Y | C28: Gorran | F28: =G28&""&H28&" "&I28 -> Y | G28: Y
A29: 25 | B29: =D29&" "&E29&" "&F29 -> Y | C29: Gorran | F29: =G29&""&H29&" "&I29 -> Y | G29: Y
A30: 26 | B30: =D30&" "&E30&" "&F30 -> Y | C30: Gorran | F30: =G30&""&H30&" "&I30 -> Y | G30: Y
A31: 27 | B31: =D31&" "&E31&" "&F31 -> Y | C31: Gorran | F31: =G31&""&H31&" "&I31 -> Y | G31: Y
A32: 28 | B32: =D32&" "&E32&" "&F32 -> Y | C32: Gorran | F32: =G32&""&H32&" "&I32 -> Y | G32: Y
A33: 29 | B33: =D33&" "&E33&" "&F33 -> Y | C33: Gorran | F33: =G33&""&H33&" "&I33 -> Y | G33: Y
A34: 30 | B34: =D34&" "&E34&" "&F34 -> Y | C34: Gorran | F34: =G34&""&H34&" "&I34 -> Y | G34: Y
A35: 41 | B35: =D35&" "&E35&" "&F35 -> Henry Denning Y6 B | C35: Ladock CE School | D35: Henry | E35: Denning | F35: =G35&""&H35&" "&I35 -> Y6 B | G35: Y | H35: 6 | I35: B
A36: 42 | B36: =D36&" "&E36&" "&F36 -> Jude Egford Y6 B | C36: Ladock CE School | D36: Jude | E36: Egford | F36: =G36&""&H36&" "&I36 -> Y6 B | G36: Y | H36: 6 | I36: B | K36: No surname or photos
A37: 43 | B37: =D37&" "&E37&" "&F37 -> Harry Hogbin Y6 B | C37: Ladock CE School | D37: Harry | E37: Hogbin | F37: =G37&""&H37&" "&I37 -> Y6 B | G37: Y | H37: 6 | I37: B | K37: No surname
A38: 44 | B38: =D38&" "&E38&" "&F38 -> Darcey Lee Y6 G | C38: Ladock CE School | D38: Darcey | E38: Lee | F38: =G38&""&H38&" "&I38 -> Y6 G | G38: Y | H38: 6 | I38: G
A39: 45 | B39: =D39&" "&E39&" "&F39 -> Ted King Y5 B | C39: Ladock CE School | D39: Ted | E39: King | F39: =G39&""&H39&" "&I39 -> Y5 B | G39: Y | H39: 5 | I39: B
A40: 46 | B40: =D40&" "&E40&" "&F40 -> Adam Friggieri Haggerty Y6 B | C40: Ladock CE School | D40: Adam | E40: Friggieri Haggerty | F40: =G40&""&H40&" "&I40 -> Y6 B | G40: Y | H40: 6 | I40: B | K40: No surname
...

Sheet Yr5 actual
A1: NEWQUAY & PAR AC JUNIOR SCHOOLS CROSS COUNTRY 2023/24
A2: Results for Year 5 Boys & Girls combined 17 Jan 2024
A4: Pos | B4: No | C4: forename | D4: School | E4: time | F4: B | G4: G
A5: 1 | B5: 125 | C5: =IF(B5=0,0,VLOOKUP(B5,Register!$A$1:$B$1631,2,FALSE)) -> Tommy Grose Y5 B | D5: =IF(B5=0,0,VLOOKUP(C5,Register!$B$1:$C$1631,2,FALSE)) -> Biscovey | E5: 7.05 | F5: B
A6: 2 | B6: 10 | C6: =IF(B6=0,0,VLOOKUP(B6,Register!$A$1:$B$1631,2,FALSE)) -> Harry Crowe Y5 B | D6: =IF(B6=0,0,VLOOKUP(C6,Register!$B$1:$C$1631,2,FALSE)) -> Gorran | E6: 7.09 | F6: B
A7: 3 | B7: 159 | C7: =IF(B7=0,0,VLOOKUP(B7,Register!$A$1:$B$1631,2,FALSE)) -> Sonny Needham Y5 B | D7: =IF(B7=0,0,VLOOKUP(C7,Register!$B$1:$C$1631,2,FALSE)) -> Treverbyn | E7: 7.09 | F7: B
A8: 4 | B8: 14 | C8: =IF(B8=0,0,VLOOKUP(B8,Register!$A$1:$B$1631,2,FALSE)) -> William Talen Y5 B | D8: =IF(B8=0,0,VLOOKUP(C8,Register!$B$1:$C$1631,2,FALSE)) -> Gorran | E8: 7.11 | F8: B
A9: 5 | B9: 197 | C9: =IF(B9=0,0,VLOOKUP(B9,Register!$A$1:$B$1631,2,FALSE)) -> Douglas Kennard Y5 B | D9: =IF(B9=0,0,VLOOKUP(C9,Register!$B$1:$C$1631,2,FALSE)) -> St Wenn | E9: 7.11 | F9: B
A10: 6 | B10: 195 | C10: =IF(B10=0,0,VLOOKUP(B10,Register!$A$1:$B$1631,2,FALSE)) -> Otis Foley Y5 B | D10: =IF(B10=0,0,VLOOKUP(C10,Register!$B$1:$C$1631,2,FALSE)) -> St Wenn | E10: 7.14 | F10: B
A11: 7 | B11: 12 | C11: =IF(B11=0,0,VLOOKUP(B11,Register!$A$1:$B$1631,2,FALSE)) -> JoJo Fraser Y5 B | D11: =IF(B11=0,0,VLOOKUP(C11,Register!$B$1:$C$1631,2,FALSE)) -> Gorran | E11: 7.18 | F11: B
A12: 8 | B12: 130 | C12: =IF(B12=0,0,VLOOKUP(B12,Register!$A$1:$B$1631,2,FALSE)) -> Max Turner Y5 B | D12: =IF(B12=0,0,VLOOKUP(C12,Register!$B$1:$C$1631,2,FALSE)) -> Biscovey | E12: 7.2 | F12: B
A13: 9 | B13: 158 | C13: =IF(B13=0,0,VLOOKUP(B13,Register!$A$1:$B$1631,2,FALSE)) -> Finn Martyn Y5 B | D13: =IF(B13=0,0,VLOOKUP(C13,Register!$B$1:$C$1631,2,FALSE)) -> Treverbyn | E13: 7.34 | F13: B
A14: 10 | B14: 127 | C14: =IF(B14=0,0,VLOOKUP(B14,Register!$A$1:$B$1631,2,FALSE)) -> James Sleeman Y5 B | D14: =IF(B14=0,0,VLOOKUP(C14,Register!$B$1:$C$1631,2,FALSE)) -> Biscovey | E14: 7.35 | F14: B
A15: 11 | B15: 11 | C15: =IF(B15=0,0,VLOOKUP(B15,Register!$A$1:$B$1631,2,FALSE)) -> Ruan Flack Y5 B | D15: =IF(B15=0,0,VLOOKUP(C15,Register!$B$1:$C$1631,2,FALSE)) -> Gorran | E15: 7.4 | F15: B
A16: 12 | B16: 131 | C16: =IF(B16=0,0,VLOOKUP(B16,Register!$A$1:$B$1631,2,FALSE)) -> Harvey Doyle Y5 B | D16: =IF(B16=0,0,VLOOKUP(C16,Register!$B$1:$C$1631,2,FALSE)) -> Biscovey | E16: 7.4 | F16: B
... A35: 31 | B35: 92 | C35: =IF(B35=0,0,VLOOKUP(B35,Register!$A$1:$B$1631,2,FALSE)) -> Thomas Turner Y5 B | D35: =IF(B35=0,0,VLOOKUP(C35,Register!$B$1:$C$1631,2,FALSE)) -> Tywardreath | E35: 10.25 | F35: B
A36: 32 | B36: 157 | C36: =IF(B36=0,0,VLOOKUP(B36,Register!$A$1:$B$1631,2,FALSE)) -> Athena Jefferies Y5 G | D36: =IF(B36=0,0,VLOOKUP(C36,Register!$B$1:$C$1631,2,FALSE)) -> Treverbyn | E36: 7.22 | G36: G
A37: 33 | B37: 120 | C37: =IF(B37=0,0,VLOOKUP(B37,Register!$A$1:$B$1631,2,FALSE)) -> Lyvie Cooper Y5 G | D37: =IF(B37=0,0,VLOOKUP(C37,Register!$B$1:$C$1631,2,FALSE)) -> Biscovey | E37: 7.26 | G37: G
A38: 34 | B38: 124 | C38: =IF(B38=0,0,VLOOKUP(B38,Register!$A$1:$B$1631,2,FALSE)) -> Sienna Hannaford Y5 G | D38: =IF(B38=0,0,VLOOKUP(C38,Register!$B$1:$C$1631,2,FALSE)) -> Biscovey | E38: 7.4 | G38: G
A39: 35 | B39: 67 | C39: =IF(B39=0,0,VLOOKUP(B39,Register!$A$1:$B$1631,2,FALSE)) -> Isobel Rowe Y4 G | D39: =IF(B39=0,0,VLOOKUP(C39,Register!$B$1:$C$1631,2,FALSE)) -> St Petroc's, Bodmin | E39: 8.04 | G39: G
A40: 36 | B40: 68 | C40: =IF(B40=0,0,VLOOKUP(B40,Register!$A$1:$B$1631,2,FALSE)) -> Lucy Powesland Y4 G | D40: =IF(B40=0,0,VLOOKUP(C40,Register!$B$1:$C$1631,2,FALSE)) -> St Petroc's, Bodmin | E40: 8.05 | G40: G
A41: 37 | B41: 121 | C41: =IF(B41=0,0,VLOOKUP(B41,Register!$A$1:$B$1631,2,FALSE)) -> Maya Wishart Y5 G | D41: =IF(B41=0,0,VLOOKUP(C41,Register!$B$1:$C$1631,2,FALSE)) -> Biscovey | E41: 8.31 | G41: G
A42: 38 | B42: 122 | C42: =IF(B42=0,0,VLOOKUP(B42,Register!$A$1:$B$1631,2,FALSE)) -> Indi Mackenzie Y5 G | D42: =IF(B42=0,0,VLOOKUP(C42,Register!$B$1:$C$1631,2,FALSE)) -> Biscovey | E42: 8.34 | G42: G
A43: 39 | B43: 192 | C43: =IF(B43=0,0,VLOOKUP(B43,Register!$A$1:$B$1631,2,FALSE)) -> Marcy Bushell Y4 G | D43: =IF(B43=0,0,VLOOKUP(C43,Register!$B$1:$C$1631,2,FALSE)) -> St Wenn | E43: 8.43 | G43: G
A44: 40 | B44: 156 | C44: =IF(B44=0,0,VLOOKUP(B44,Register!$A$1:$B$1631,2,FALSE)) -> Millie Thomas Y4 G | D44: =IF(B44=0,0,VLOOKUP(C44,Register!$B$1:$C$1631,2,FALSE)) -> Treverbyn | E44: 8.46 | G44: G
A45: 41 | B45: 6 | C45: =IF(B45=0,0,VLOOKUP(B45,Register!$A$1:$B$1631,2,FALSE)) -> Zara Stewart Y4 G | D45: =IF(B45=0,0,VLOOKUP(C45,Register!$B$1:$C$1631,2,FALSE)) -> Gorran | E45: 9.15 | G45: G
A46: 42 | B46: 154 | C46: =IF(B46=0,0,VLOOKUP(B46,Register!$A$1:$B$1631,2,FALSE)) -> Phoebe Kaye Y5 G | D46: =IF(B46=0,0,VLOOKUP(C46,Register!$B$1:$C$1631,2,FALSE)) -> Biscovey | E46: 9.42 | G46: G
A47: 43 | B47: 123 | C47: =IF(B47=0,0,VLOOKUP(B47,Register!$A$1:$B$1631,2,FALSE)) -> Bethanie Lelo Y5 G | D47: =IF(B47=0,0,VLOOKUP(C47,Register!$B$1:$C$1631,2,FALSE)) -> Biscovey | E47: 9.45 | G47: G
... A52: 48 | B52: 194 | C52: =IF(B52=0,0,VLOOKUP(B52,Register!$A$1:$B$1631,2,FALSE)) -> Harper Opie Y4 G | D52: =IF(B52=0,0,VLOOKUP(C52,Register!$B$1:$C$1631,2,FALSE)) -> St Wenn | E52: 10.44 | G52: G
C53: =IF(B53=0,0,VLOOKUP(B53,Register!$A$1:$B$1631,2,FALSE)) -> 0 | D53: =IF(B53=0,0,VLOOKUP(C53,Register!$B$1:$C$1631,2,FALSE)) -> 0
C54: =IF(B54=0,0,VLOOKUP(B54,Register!$A$1:$B$1631,2,FALSE)) -> 0 | D54: =IF(B54=0,0,VLOOKUP(C54,Register!$B$1:$C$1631,2,FALSE)) -> 0
C55: =IF(B55=0,0,VLOOKUP(B55,Register!$A$1:$B$1631,2,FALSE)) -> 0 | D55: =IF(B55=0,0,VLOOKUP(C55,Register!$B$1:$C$1631,2,FALSE)) -> 0
C56: =IF(B56=0,0,VLOOKUP(B56,Register!$A$1:$B$1631,2,FALSE)) -> 0 | D56: =IF(B56=0,0,VLOOKUP(C56,Register!$B$1:$C$1631,2,FALSE)) -> 0
C57: =IF(B57=0,0,VLOOKUP(B57,Register!$A$1:$B$1631,2,FALSE)) -> 0 | D57: =IF(B57=0,0,VLOOKUP(C57,Register!$B$1:$C$1631,2,FALSE)) -> 0
C58: =IF(B58=0,0,VLOOKUP(B58,Register!$A$1:$B$1631,2,FALSE)) -> 0 | D58: =IF(B58=0,0,VLOOKUP(C58,Register!$B$1:$C$1631,2,FALSE)) -> 0
C59: =IF(B59=0,0,VLOOKUP(B59,Register!$A$1:$B$1631,2,FALSE)) -> 0 | D59: =IF(B59=0,0,VLOOKUP(C59,Register!$B$1:$C$1631,2,FALSE)) -> 0
C60: =IF(B60=0,0,VLOOKUP(B60,Register!$A$1:$B$1631,2,FALSE)) -> 0 | D60: =IF(B60=0,0,VLOOKUP(C60,Register!$B$1:$C$1631,2,FALSE)) -> 0
C61: =IF(B61=0,0,VLOOKUP(B61,Register!$A$1:$B$1631,2,FALSE)) -> 0 | D61: =IF(B61=0,0,VLOOKUP(C61,Register!$B$1:$C$1631,2,FALSE)) -> 0
C62: =IF(B62=0,0,VLOOKUP(B62,Register!$A$1:$B$1631,2,FALSE)) -> 0 | D62: =IF(B62=0,0,VLOOKUP(C62,Register!$B$1:$C$1631,2,FALSE)) -> 0
C63: =IF(B63=0,0,VLOOKUP(B63,Register!$A$1:$B$1631,2,FALSE)) -> 0 | D63: =IF(B63=0,0,VLOOKUP(C63,Register!$B$1:$C$1631,2,FALSE)) -> 0
...

Sheet Yr5 Boys& Girls
A1: NEWQUAY & PAR AC JUNIOR SCHOOLS CROSS COUNTRY 2023/24 | G1: points | H1: team points | J1: NEWQUAY & PAR AC JUNIOR SCHOOLS CROSS COUNTRY 2023/24 | P1: points | Q1: team points
A2: Results for Year 5 Boys 17 Jan 2024 | J2: Results for Year 5 Girls 17 Jan 2024
A3: Course Record: Harry Hogbin Ladock CE 7m.27s 1 Mar 2023 | J3: Course Record: Lyvie Cooper Biscovey 8m.29s 1 Mar 2023
A4: Pos | B4: No | C4: forename | D4: School | E4: time | F4: scorer | J4: Pos | K4: No | L4: forename | M4: School | N4: time | O4: scorer
A5: 1 | B5: 125 | C5: =IF(B5=0,0,VLOOKUP(B5,Register!$A$1:$B$1631,2,FALSE)) -> Tommy Grose Y5 B | D5: =IF(B5=0,0,VLOOKUP(C5,Register!$B$1:$C$1631,2,FALSE)) -> Biscovey | E5: 7.05 | F5: A1 | G5: 100 | J5: 1 | K5: 157 | L5: =IF(K5=0,0,VLOOKUP(K5,Register!$A$1:$B$1631,2,FALSE)) -> Athena Jefferies Y5 G | M5: =IF(K5=0,0,VLOOKUP(L5,Register!$B$1:$C$1631,2,FALSE)) -> Treverbyn | N5: 7.22 | O5: A1 | P5: 100
A6: 2 | B6: 10 | C6: =IF(B6=0,0,VLOOKUP(B6,Register!$A$1:$B$1631,2,FALSE)) -> Harry Crowe Y5 B | D6: =IF(B6=0,0,VLOOKUP(C6,Register!$B$1:$C$1631,2,FALSE)) -> Gorran | E6: 7.09 | F6: B1 | G6: 99 | J6: 2 | K6: 120 | L6: =IF(K6=0,0,VLOOKUP(K6,Register!$A$1:$B$1631,2,FALSE)) -> Lyvie Cooper Y5 G | M6: =IF(K6=0,0,VLOOKUP(L6,Register!$B$1:$C$1631,2,FALSE)) -> Biscovey | N6: 7.26 | O6: B1 | P6: 99
A7: 3 | B7: 159 | C7: =IF(B7=0,0,VLOOKUP(B7,Register!$A$1:$B$1631,2,FALSE)) -> Sonny Needham Y5 B | D7: =IF(B7=0,0,VLOOKUP(C7,Register!$B$1:$C$1631,2,FALSE)) -> Treverbyn | E7: 7.09 | F7: C1 | G7: 98 | J7: 3 | K7: 124 | L7: =IF(K7=0,0,VLOOKUP(K7,Register!$A$1:$B$1631,2,FALSE)) -> Sienna Hannaford Y5 G | M7: =IF(K7=0,0,VLOOKUP(L7,Register!$B$1:$C$1631,2,FALSE)) -> Biscovey | N7: 7.4 | O7: B2 | P7: 98
A8: 4 | B8: 14 | C8: =IF(B8=0,0,VLOOKUP(B8,Register!$A$1:$B$1631,2,FALSE)) -> William Talen Y5 B | D8: =IF(B8=0,0,VLOOKUP(C8,Register!$B$1:$C$1631,2,FALSE)) -> Gorran | E8: 7.11 | F8: B2 | G8: 97 | J8: 4 | K8: 67 | L8: =IF(K8=0,0,VLOOKUP(K8,Register!$A$1:$B$1631,2,FALSE)) -> Isobel Rowe Y4 G | M8: =IF(K8=0,0,VLOOKUP(L8,Register!$B$1:$C$1631,2,FALSE)) -> St Petroc's, Bodmin | N8: 8.04 | O8: C1 | P8: 97
A9: 5 | B9: 197 | C9: =IF(B9=0,0,VLOOKUP(B9,Register!$A$1:$B$1631,2,FALSE)) -> Douglas Kennard Y5 B | D9: =IF(B9=0,0,VLOOKUP(C9,Register!$B$1:$C$1631,2,FALSE)) -> St Wenn | E9: 7.11 | F9: D1 | G9: 96 | J9: 5 | K9: 68 | L9: =IF(K9=0,0,VLOOKUP(K9,Register!$A$1:$B$1631,2,FALSE)) -> Lucy Powesland Y4 G | M9: =IF(K9=0,0,VLOOKUP(L9,Register!$B$1:$C$1631,2,FALSE)) -> St Petroc's, Bodmin | N9: 8.05 | O9: C2 | P9: 96 | Q9: 193
A10: 6 | B10: 195 | C10: =IF(B10=0,0,VLOOKUP(B10,Register!$A$1:$B$1631,2,FALSE)) -> Otis Foley Y5 B | D10: =IF(B10=0,0,VLOOKUP(C10,Register!$B$1:$C$1631,2,FALSE)) -> St Wenn | E10: 7.14 | F10: D2 | G10: 95 | J10: 6 | K10: 121 | L10: =IF(K10=0,0,VLOOKUP(K10,Register!$A$1:$B$1631,2,FALSE)) -> Maya Wishart Y5 G | M10: =IF(K10=0,0,VLOOKUP(L10,Register!$B$1:$C$1631,2,FALSE)) -> Biscovey | N10: 8.31 | O10: B3 | P10: 95 | Q10: 292
A11: 7 | B11: 12 | C11: =IF(B11=0,0,VLOOKUP(B11,Register!$A$1:$B$1631,2,FALSE)) -> JoJo Fraser Y5 B | D11: =IF(B11=0,0,VLOOKUP(C11,Register!$B$1:$C$1631,2,FALSE)) -> Gorran | E11: 7.18 | F11: B3 | G11: 94 | H11: 290 | J11: 7 | K11: 122 | L11: =IF(K11=0,0,VLOOKUP(K11,Register!$A$1:$B$1631,2,FALSE)) -> Indi Mackenzie Y5 G | M11: =IF(K11=0,0,VLOOKUP(L11,Register!$B$1:$C$1631,2,FALSE)) -> Biscovey | N11: 8.34 | O11: B4 | P11: 94
A12: 8 | B12: 130 | C12: =IF(B12=0,0,VLOOKUP(B12,Register!$A$1:$B$1631,2,FALSE)) -> Max Turner Y5 B | D12: =IF(B12=0,0,VLOOKUP(C12,Register!$B$1:$C$1631,2,FALSE)) -> Biscovey | E12: 7.2 | F12: A2 | G12: 93 | J12: 8 | K12: 192 | L12: =IF(K12=0,0,VLOOKUP(K12,Register!$A$1:$B$1631,2,FALSE)) -> Marcy Bushell Y4 G | M12: =IF(K12=0,0,VLOOKUP(L12,Register!$B$1:$C$1631,2,FALSE)) -> St Wenn | N12: 8.43 | O12: D1 | P12: 93
A13: 9 | B13: 158 | C13: =IF(B13=0,0,VLOOKUP(B13,Register!$A$1:$B$1631,2,FALSE)) -> Finn Martyn Y5 B | D13: =IF(B13=0,0,VLOOKUP(C13,Register!$B$1:$C$1631,2,FALSE)) -> Treverbyn | E13: 7.34 | F13: C2 | G13: 92 | H13: 190 | J13: 9 | K13: 156 | L13: =IF(K13=0,0,VLOOKUP(K13,Register!$A$1:$B$1631,2,FALSE)) -> Millie Thomas Y4 G | M13: =IF(K13=0,0,VLOOKUP(L13,Register!$B$1:$C$1631,2,FALSE)) -> Treverbyn | N13: 8.46 | O13: A2 | P13: 92 | Q13: 192
A14: 10 | B14: 127 | C14: =IF(B14=0,0,VLOOKUP(B14,Register!$A$1:$B$1631,2,FALSE)) -> James Sleeman Y5 B | D14: =IF(B14=0,0,VLOOKUP(C14,Register!$B$1:$C$1631,2,FALSE)) -> Biscovey | E14: 7.35 | F14: A3 | G14: 91 | H14: 284 | J14: 10 | K14: 6 | L14: =IF(K14=0,0,VLOOKUP(K14,Register!$A$1:$B$1631,2,FALSE)) -> Zara Stewart Y4 G | M14: =IF(K14=0,0,VLOOKUP(L14,Register!$B$1:$C$1631,2,FALSE)) -> Gorran | N14: 9.15 | O14: E1 | P14: 91
A15: 11 | B15: 11 | C15: =IF(B15=0,0,VLOOKUP(B15,Register!$A$1:$B$1631,2,FALSE)) -> Ruan Flack Y5 B | D15: =IF(B15=0,0,VLOOKUP(C15,Register!$B$1:$C$1631,2,FALSE)) -> Gorran | E15: 7.4 | G15: 90 | J15: 11 | K15: 154 | L15: =IF(K15=0,0,VLOOKUP(K15,Register!$A$1:$B$1631,2,FALSE)) -> Phoebe Kaye Y5 G | M15: =IF(K15=0,0,VLOOKUP(L15,Register!$B$1:$C$1631,2,FALSE)) -> Biscovey | N15: 9.42 | O15: B5 | P15: 90
A16: 12 | B16: 131 | C16: =IF(B16=0,0,VLOOKUP(B16,Register!$A$1:$B$1631,2,FALSE)) -> Harvey Doyle Y5 B | D16: =IF(B16=0,0,VLOOKUP(C16,Register!$B$1:$C$1631,2,FALSE)) -> Biscovey | E16: 7.4 | F16: A4 | G16: 89 | J16: 12 | K16: 123 | L16: =IF(K16=0,0,VLOOKUP(K16,Register!$A$1:$B$1631,2,FALSE)) -> Bethanie Lelo Y5 G | M16: =IF(K16=0,0,VLOOKUP(L16,Register!$B$1:$C$1631,2,FALSE)) -> Biscovey | N16: 9.45 | O16: B6 | P16: 89 | Q16: 273
A17: 13 | B17: 132 | C17: =IF(B17=0,0,VLOOKUP(B17,Register!$A$1:$B$1631,2,FALSE)) -> Seth Pickles Y5 B | D17: =IF(B17=0,0,VLOOKUP(C17,Register!$B$1:$C$1631,2,FALSE)) -> Biscovey | E17: 7.48 | F17: A5 | G17: 88 | J17: 13 | K17: 94 | L17: =IF(K17=0,0,VLOOKUP(K17,Register!$A$1:$B$1631,2,FALSE)) -> Kaitlyn Best Y5 G | M17: =IF(K17=0,0,VLOOKUP(L17,Register!$B$1:$C$1631,2,FALSE)) -> Tywardreath | N17: 10.3 | O17: F1 | P17: 88
A18: 14 | B18: 129 | C18: =IF(B18=0,0,VLOOKUP(B18,Register!$A$1:$B$1631,2,FALSE)) -> Finley Rowe Y5 B | D18: =IF(B18=0,0,VLOOKUP(C18,Register!$B$1:$C$1631,2,FALSE)) -> Biscovey | E18: 7.5 | F18: A6 | G18: 87 | H18: 264 | J18: 14 | K18: 96 | L18: =IF(K18=0,0,VLOOKUP(K18,Register!$A$1:$B$1631,2,FALSE)) -> Sophia Vercoe Y5 G | M18: =IF(K18=0,0,VLOOKUP(L18,Register!$B$1:$C$1631,2,FALSE)) -> Tywardreath | N18: 10.35 | O18: F2 | P18: 87 | Q18: 175
A19: 15 | B19: 173 | C19: =IF(B19=0,0,VLOOKUP(B19,Register!$A$1:$B$1631,2,FALSE)) -> Oliver Sanders Y5 B | D19: =IF(B19=0,0,VLOOKUP(C19,Register!$B$1:$C$1631,2,FALSE)) -> Probus | E19: 7.5 | G19: 86 | J19: 15 | K19: 5 | L19: =IF(K19=0,0,VLOOKUP(K19,Register!$A$1:$B$1631,2,FALSE)) -> Chloe Mackrory Y4 G | M19: =IF(K19=0,0,VLOOKUP(L19,Register!$B$1:$C$1631,2,FALSE)) -> Gorran | N19: 10.38 | O19: E2 | P19: 86
A20: 16 | B20: 135 | C20: =IF(B20=0,0,VLOOKUP(B20,Register!$A$1:$B$1631,2,FALSE)) -> Heath Clark Y5 B | D20: =IF(B20=0,0,VLOOKUP(C20,Register!$B$1:$C$1631,2,FALSE)) -> Biscovey | E20: 7.56 | F20: A7 | G20: 85 | J20: 16 | K20: 2 | L20: =IF(K20=0,0,VLOOKUP(K20,Register!$A$1:$B$1631,2,FALSE)) -> Emily Cornelius Y4 G | M20: =IF(K20=0,0,VLOOKUP(L20,Register!$B$1:$C$1631,2,FALSE)) -> Gorran | N20: 10.38 | O20: E3 | P20: 85 | Q20: 262
A21: 17 | B21: 196 | C21: =IF(B21=0,0,VLOOKUP(B21,Register!$A$1:$B$1631,2,FALSE)) -> William Mcnee Y5 B | D21: =IF(B21=0,0,VLOOKUP(C21,Register!$B$1:$C$1631,2,FALSE)) -> St Wenn | E21: 7.58 | F21: D3 | G21: 84 | H21: 275 | J21: 17 | K21: 194 | L21: =IF(K21=0,0,VLOOKUP(K21,Register!$A$1:$B$1631,2,FALSE)) -> Harper Opie Y4 G | M21: =IF(K21=0,0,VLOOKUP(L21,Register!$B$1:$C$1631,2,FALSE)) -> St Wenn | N21: 10.44 | O21: D2 | P21: 84 | Q21: 177
A22: 18 | B22: 91 | C22: =IF(B22=0,0,VLOOKUP(B22,Register!$A$1:$B$1631,2,FALSE)) -> Isaac Brown Y5 B | D22: =IF(B22=0,0,VLOOKUP(C22,Register!$B$1:$C$1631,2,FALSE)) -> Tywardreath | E22: 8 | F22: E1 | G22: 83 | L22: =IF(K22=0,0,VLOOKUP(K22,Register!$A$1:$B$1631,2,FALSE)) -> 0 | M22: =IF(K22=0,0,VLOOKUP(L22,Register!$B$1:$C$1631,2,FALSE)) -> 0
A23: 19 | B23: 134 | C23: =IF(B23=0,0,VLOOKUP(B23,Register!$A$1:$B$1631,2,FALSE)) -> Tyler Nicholls Y5 B | D23: =IF(B23=0,0,VLOOKUP(C23,Register!$B$1:$C$1631,2,FALSE)) -> Biscovey | E23: 8.08 | F23: A8 | G23: 82 | L23: =IF(K23=0,0,VLOOKUP(K23,Register!$A$1:$B$1631,2,FALSE)) -> 0 | M23: =IF(K23=0,0,VLOOKUP(L23,Register!$B$1:$C$1631,2,FALSE)) -> 0
A24: 20 | B24: 89 | C24: =IF(B24=0,0,VLOOKUP(B24,Register!$A$1:$B$1631,2,FALSE)) -> Noah Grigg Y5 B | D24: =IF(B24=0,0,VLOOKUP(C24,Register!$B$1:$C$1631,2,FALSE)) -> Tywardreath | E24: 8.1 | F24: E2 | G24: 81 | L24: =IF(K24=0,0,VLOOKUP(K24,Register!$A$1:$B$1631,2,FALSE)) -> 0 | M24: =IF(K24=0,0,VLOOKUP(L24,Register!$B$1:$C$1631,2,FALSE)) -> 0
A25: 21 | B25: 172 | C25: =IF(B25=0,0,VLOOKUP(B25,Register!$A$1:$B$1631,2,FALSE)) -> Roman Dryzmala Y5 B | D25: =IF(B25=0,0,VLOOKUP(C25,Register!$B$1:$C$1631,2,FALSE)) -> Probus | E25: 8.28 | G25: 80 | L25: =IF(K25=0,0,VLOOKUP(K25,Register!$A$1:$B$1631,2,FALSE)) -> 0 | M25: =IF(K25=0,0,VLOOKUP(L25,Register!$B$1:$C$1631,2,FALSE)) -> 0
A26: 22 | B26: 136 | C26: =IF(B26=0,0,VLOOKUP(B26,Register!$A$1:$B$1631,2,FALSE)) -> Oliver Robinson Y5 B | D26: =IF(B26=0,0,VLOOKUP(C26,Register!$B$1:$C$1631,2,FALSE)) -> Biscovey | E26: 8.44 | F26: A9 | G26: 79 | H26: 246 | L26: =IF(K26=0,0,VLOOKUP(K26,Register!$A$1:$B$1631,2,FALSE)) -> 0 | M26: =IF(K26=0,0,VLOOKUP(L26,Register!$B$1:$C$1631,2,FALSE)) -> 0
A27: 23 | B27: 90 | C27: =IF(B27=0,0,VLOOKUP(B27,Register!$A$1:$B$1631,2,FALSE)) -> Miles Pemberton Y5 B | D27: =IF(B27=0,0,VLOOKUP(C27,Register!$B$1:$C$1631,2,FALSE)) -> Tywardreath | E27: 9.04 | F27: E3 | G27: 78 | H27: 242 | L27: =IF(K27=0,0,VLOOKUP(K27,Register!$A$1:$B$1631,2,FALSE)) -> 0 | M27: =IF(K27=0,0,VLOOKUP(L27,Register!$B$1:$C$1631,2,FALSE)) -> 0
A28: 24 | B28: 88 | C28: =IF(B28=0,0,VLOOKUP(B28,Register!$A$1:$B$1631,2,FALSE)) -> Seb Empell Newman Y5 B | D28: =IF(B28=0,0,VLOOKUP(C28,Register!$B$1:$C$1631,2,FALSE)) -> Tywardreath | E28: 9.12 | F28: E4 | G28: 77 | L28: =IF(K28=0,0,VLOOKUP(K28,Register!$A$1:$B$1631,2,FALSE)) -> 0 | M28: =IF(K28=0,0,VLOOKUP(L28,Register!$B$1:$C$1631,2,FALSE)) -> 0
A29: 25 | B29: 93 | C29: =IF(B29=0,0,VLOOKUP(B29,Register!$A$1:$B$1631,2,FALSE)) -> Stanley Robinson Y5 B | D29: =IF(B29=0,0,VLOOKUP(C29,Register!$B$1:$C$1631,2,FALSE)) -> Tywardreath | E29: 9.19 | F29: E5 | G29: 76 | L29: =IF(K29=0,0,VLOOKUP(K29,Register!$A$1:$B$1631,2,FALSE)) -> 0 | M29: =IF(K29=0,0,VLOOKUP(L29,Register!$B$1:$C$1631,2,FALSE)) -> 0
A30: 26 | B30: 87 | C30: =IF(B30=0,0,VLOOKUP(B30,Register!$A$1:$B$1631,2,FALSE)) -> Max Rees Y5 B | D30: =IF(B30=0,0,VLOOKUP(C30,Register!$B$1:$C$1631,2,FALSE)) -> Tywardreath | E30: 9.33 | F30: E6 | G30: 75 | H30: 228 | L30: =IF(K30=0,0,VLOOKUP(K30,Register!$A$1:$B$1631,2,FALSE)) -> 0 | M30: =IF(K30=0,0,VLOOKUP(L30,Register!$B$1:$C$1631,2,FALSE)) -> 0
A31: 27 | B31: 126 | C31: =IF(B31=0,0,VLOOKUP(B31,Register!$A$1:$B$1631,2,FALSE)) -> Riley Newton Y5 B | D31: =IF(B31=0,0,VLOOKUP(C31,Register!$B$1:$C$1631,2,FALSE)) -> Biscovey | E31: 9.4 | G31: 74 | L31: =IF(K31=0,0,VLOOKUP(K31,Register!$A$1:$B$1631,2,FALSE)) -> 0 | M31: =IF(K31=0,0,VLOOKUP(L31,Register!$B$1:$C$1631,2,FALSE)) -> 0
A32: 28 | B32: 198 | C32: =IF(B32=0,0,VLOOKUP(B32,Register!$A$1:$B$1631,2,FALSE)) -> Jasper Kent Y5 B | D32: =IF(B32=0,0,VLOOKUP(C32,Register!$B$1:$C$1631,2,FALSE)) -> St Wenn | E32: 9.42 | G32: 73 | L32: =IF(K32=0,0,VLOOKUP(K32,Register!$A$1:$B$1631,2,FALSE)) -> 0 | M32: =IF(K32=0,0,VLOOKUP(L32,Register!$B$1:$C$1631,2,FALSE)) -> 0
A33: 29 | B33: 191 | C33: =IF(B33=0,0,VLOOKUP(B33,Register!$A$1:$B$1631,2,FALSE)) -> Jack Barrett Y4 B | D33: =IF(B33=0,0,VLOOKUP(C33,Register!$B$1:$C$1631,2,FALSE)) -> St Wenn | E33: 9.59 | G33: 72 | L33: =IF(K33=0,0,VLOOKUP(K33,Register!$A$1:$B$1631,2,FALSE)) -> 0 | M33: =IF(K33=0,0,VLOOKUP(L33,Register!$B$1:$C$1631,2,FALSE)) -> 0
A34: 30 | B34: 133 | C34: =IF(B34=0,0,VLOOKUP(B34,Register!$A$1:$B$1631,2,FALSE)) -> Oliver Baker Y5 B | D34: =IF(B34=0,0,VLOOKUP(C34,Register!$B$1:$C$1631,2,FALSE)) -> Biscovey | E34: 10.22 | G34: 71 | L34: =IF(K34=0,0,VLOOKUP(K34,Register!$A$1:$B$1631,2,FALSE)) -> 0 | M34: =IF(K34=0,0,VLOOKUP(L34,Register!$B$1:$C$1631,2,FALSE)) -> 0
A35: 31 | B35: 92 | C35: =IF(B35=0,0,VLOOKUP(B35,Register!$A$1:$B$1631,2,FALSE)) -> Thomas Turner Y5 B | D35: =IF(B35=0,0,VLOOKUP(C35,Register!$B$1:$C$1631,2,FALSE)) -> Tywardreath | E35: 10.25 | G35: 70 | L35: =IF(K35=0,0,VLOOKUP(K35,Register!$A$1:$B$1631,2,FALSE)) -> 0 | M35: =IF(K35=0,0,VLOOKUP(L35,Register!$B$1:$C$1631,2,FALSE)) -> 0
C36: =IF(B36=0,0,VLOOKUP(B36,Register!$A$1:$B$1631,2,FALSE)) -> 0 | D36: =IF(B36=0,0,VLOOKUP(C36,Register!$B$1:$C$1631,2,FALSE)) -> 0 | L36: =IF(K36=0,0,VLOOKUP(K36,Register!$A$1:$B$1631,2,FALSE)) -> 0 | M36: =IF(K36=0,0,VLOOKUP(L36,Register!$B$1:$C$1631,2,FALSE)) -> 0
C37: =IF(B37=0,0,VLOOKUP(B37,Register!$A$1:$B$1631,2,FALSE)) -> 0 | D37: =IF(B37=0,0,VLOOKUP(C37,Register!$B$1:$C$1631,2,FALSE)) -> 0 | L37: =IF(K37=0,0,VLOOKUP(K37,Register!$A$1:$B$1631,2,FALSE)) -> 0 | M37: =IF(K37=0,0,VLOOKUP(L37,Register!$B$1:$C$1631,2,FALSE)) -> 0
C38: =IF(B38=0,0,VLOOKUP(B38,Register!$A$1:$B$1631,2,FALSE)) -> 0 | D38: =IF(B38=0,0,VLOOKUP(C38,Register!$B$1:$C$1631,2,FALSE)) -> 0 | L38: =IF(K38=0,0,VLOOKUP(K38,Register!$A$1:$B$1631,2,FALSE)) -> 0 | M38: =IF(K38=0,0,VLOOKUP(L38,Register!$B$1:$C$1631,2,FALSE)) -> 0
C39: =IF(B39=0,0,VLOOKUP(B39,Register!$A$1:$B$1631,2,FALSE)) -> 0 | D39: =IF(B39=0,0,VLOOKUP(C39,Register!$B$1:$C$1631,2,FALSE)) -> 0 | L39: =IF(K39=0,0,VLOOKUP(K39,Register!$A$1:$B$1631,2,FALSE)) -> 0 | M39: =IF(K39=0,0,VLOOKUP(L39,Register!$B$1:$C$1631,2,FALSE)) -> 0
C40: =IF(B40=0,0,VLOOKUP(B40,Register!$A$1:$B$1631,2,FALSE)) -> 0 | D40: =IF(B40=0,0,VLOOKUP(C40,Register!$B$1:$C$1631,2,FALSE)) -> 0 | L40: =IF(K40=0,0,VLOOKUP(K40,Register!$A$1:$B$1631,2,FALSE)) -> 0 | M40: =IF(K40=0,0,VLOOKUP(L40,Register!$B$1:$C$1631,2,FALSE)) -> 0
...

Sheet Yr6 actual
A1: NEWQUAY & PAR AC JUNIOR SCHOOLS CROSS COUNTRY 2023/24
A2: Results for Year 6 Boys & Girls combined 17 Jan 2024
A4: Pos | B4: No | C4: forename | D4: School | E4: time | F4: B | G4: G
A5: 1 | B5: 43 | C5: =IF(B5=0,0,VLOOKUP(B5,Register!$A$1:$B$1631,2,FALSE)) -> Harry Hogbin Y6 B | D5: =IF(B5=0,0,VLOOKUP(C5,Register!$B$1:$C$1631,2,FALSE)) -> Ladock CE School | E5: 8.58 | F5: B
A6: 2 | B6: 99 | C6: =IF(B6=0,0,VLOOKUP(B6,Register!$A$1:$B$1631,2,FALSE)) -> Reubyn Howes Y6 B | D6: =IF(B6=0,0,VLOOKUP(C6,Register!$B$1:$C$1631,2,FALSE)) -> Tywardreath | E6: 9.02 | F6: B
A7: 3 | B7: 176 | C7: =IF(B7=0,0,VLOOKUP(B7,Register!$A$1:$B$1631,2,FALSE)) -> Jem Sullivan Y6 B | D7: =IF(B7=0,0,VLOOKUP(C7,Register!$B$1:$C$1631,2,FALSE)) -> Probus | E7: 9.16 | F7: B
A8: 4 | B8: 41 | C8: =IF(B8=0,0,VLOOKUP(B8,Register!$A$1:$B$1631,2,FALSE)) -> Henry Denning Y6 B | D8: =IF(B8=0,0,VLOOKUP(C8,Register!$B$1:$C$1631,2,FALSE)) -> Ladock CE School | E8: 9.23 | F8: B
A9: 5 | B9: 175 | C9: =IF(B9=0,0,VLOOKUP(B9,Register!$A$1:$B$1631,2,FALSE)) -> Tom Bowen Y6 B | D9: =IF(B9=0,0,VLOOKUP(C9,Register!$B$1:$C$1631,2,FALSE)) -> Probus | E9: 9.26 | F9: B
A10: 6 | B10: 62 | C10: =IF(B10=0,0,VLOOKUP(B10,Register!$A$1:$B$1631,2,FALSE)) -> Thomas Rowe Y6 B | D10: =IF(B10=0,0,VLOOKUP(C10,Register!$B$1:$C$1631,2,FALSE)) -> St Petroc's, Bodmin | E10: 9.43 | F10: B
A11: 7 | B11: 42 | C11: =IF(B11=0,0,VLOOKUP(B11,Register!$A$1:$B$1631,2,FALSE)) -> Jude Egford Y6 B | D11: =IF(B11=0,0,VLOOKUP(C11,Register!$B$1:$C$1631,2,FALSE)) -> Ladock CE School | E11: 9.53 | F11: B
A12: 8 | B12: 146 | C12: =IF(B12=0,0,VLOOKUP(B12,Register!$A$1:$B$1631,2,FALSE)) -> Johan Putt Y6 B | D12: =IF(B12=0,0,VLOOKUP(C12,Register!$B$1:$C$1631,2,FALSE)) -> Biscovey | E12: 9.53 | F12: B
A13: 9 | B13: 147 | C13: =IF(B13=0,0,VLOOKUP(B13,Register!$A$1:$B$1631,2,FALSE)) -> Brody Slater Y6 B | D13: =IF(B13=0,0,VLOOKUP(C13,Register!$B$1:$C$1631,2,FALSE)) -> Biscovey | E13: 10.24 | F13: B
A14: 10 | B14: 174 | C14: =IF(B14=0,0,VLOOKUP(B14,Register!$A$1:$B$1631,2,FALSE)) -> Calan Davey Y6 B | D14: =IF(B14=0,0,VLOOKUP(C14,Register!$B$1:$C$1631,2,FALSE)) -> Probus | E14: 10.29 | F14: B
A15: 11 | B15: 167 | C15: =IF(B15=0,0,VLOOKUP(B15,Register!$A$1:$B$1631,2,FALSE)) -> Harlow Hill Y6 B | D15: =IF(B15=0,0,VLOOKUP(C15,Register!$B$1:$C$1631,2,FALSE)) -> Treverbyn | E15: 10.37 | F15: B
A16: 12 | B16: 17 | C16: =IF(B16=0,0,VLOOKUP(B16,Register!$A$1:$B$1631,2,FALSE)) -> Harry Wilder Y6 B | D16: =IF(B16=0,0,VLOOKUP(C16,Register!$B$1:$C$1631,2,FALSE)) -> Gorran | E16: 10.52 | F16: B
... A27: 23 | B27: 152 | C27: =IF(B27=0,0,VLOOKUP(B27,Register!$A$1:$B$1631,2,FALSE)) -> Brooklyn Parnell Y6 B | D27: =IF(B27=0,0,VLOOKUP(C27,Register!$B$1:$C$1631,2,FALSE)) -> Biscovey | E27: 13.47 | F27: B
A28: 24 | B28: 178 | C28: =IF(B28=0,0,VLOOKUP(B28,Register!$A$1:$B$1631,2,FALSE)) -> Violet Durber Y6 G | D28: =IF(B28=0,0,VLOOKUP(C28,Register!$B$1:$C$1631,2,FALSE)) -> Probus | E28: 9.49 | G28: G
A29: 25 | B29: 103 | C29: =IF(B29=0,0,VLOOKUP(B29,Register!$A$1:$B$1631,2,FALSE)) -> Anouk Topps Y6 G | D29: =IF(B29=0,0,VLOOKUP(C29,Register!$B$1:$C$1631,2,FALSE)) -> Tywardreath | E29: 10 | G29: G
A30: 26 | B30: 179 | C30: =IF(B30=0,0,VLOOKUP(B30,Register!$A$1:$B$1631,2,FALSE)) -> Megan Perry Y6 G | D30: =IF(B30=0,0,VLOOKUP(C30,Register!$B$1:$C$1631,2,FALSE)) -> Probus | E30: 10.06 | G30: G
A31: 27 | B31: 182 | C31: =IF(B31=0,0,VLOOKUP(B31,Register!$A$1:$B$1631,2,FALSE)) -> Eden Carlton Y6 G | D31: =IF(B31=0,0,VLOOKUP(C31,Register!$B$1:$C$1631,2,FALSE)) -> Probus | E31: 10.17 | G31: G
A32: 28 | B32: 177 | C32: =IF(B32=0,0,VLOOKUP(B32,Register!$A$1:$B$1631,2,FALSE)) -> Astrid Cain Y6 G | D32: =IF(B32=0,0,VLOOKUP(C32,Register!$B$1:$C$1631,2,FALSE)) -> Probus | E32: 10.47 | G32: G
A33: 29 | B33: 102 | C33: =IF(B33=0,0,VLOOKUP(B33,Register!$A$1:$B$1631,2,FALSE)) -> Eadie-Mae Munn Y6 G | D33: =IF(B33=0,0,VLOOKUP(C33,Register!$B$1:$C$1631,2,FALSE)) -> Tywardreath | E33: 11 | G33: G
A34: 30 | B34: 145 | C34: =IF(B34=0,0,VLOOKUP(B34,Register!$A$1:$B$1631,2,FALSE)) -> Rachel Emms Y6 G | D34: =IF(B34=0,0,VLOOKUP(C34,Register!$B$1:$C$1631,2,FALSE)) -> Biscovey | E34: 11.38 | G34: G
A35: 31 | B35: 137 | C35: =IF(B35=0,0,VLOOKUP(B35,Register!$A$1:$B$1631,2,FALSE)) -> Millie Megson Y6 G | D35: =IF(B35=0,0,VLOOKUP(C35,Register!$B$1:$C$1631,2,FALSE)) -> Biscovey | E35: 11.52 | G35: G
A36: 32 | B36: 66 | C36: =IF(B36=0,0,VLOOKUP(B36,Register!$A$1:$B$1631,2,FALSE)) -> Macey Collins Y6 G | D36: =IF(B36=0,0,VLOOKUP(C36,Register!$B$1:$C$1631,2,FALSE)) -> St Petroc's, Bodmin | E36: 12.05 | G36: G
A37: 33 | B37: 180 | C37: =IF(B37=0,0,VLOOKUP(B37,Register!$A$1:$B$1631,2,FALSE)) -> Ella Martin Y6 G | D37: =IF(B37=0,0,VLOOKUP(C37,Register!$B$1:$C$1631,2,FALSE)) -> Probus | E37: 12.16 | G37: G
A38: 34 | B38: 163 | C38: =IF(B38=0,0,VLOOKUP(B38,Register!$A$1:$B$1631,2,FALSE)) -> Lola Stockwell Y6 G | D38: =IF(B38=0,0,VLOOKUP(C38,Register!$B$1:$C$1631,2,FALSE)) -> Treverbyn | E38: 12.17 | G38: G
A39: 35 | B39: 138 | C39: =IF(B39=0,0,VLOOKUP(B39,Register!$A$1:$B$1631,2,FALSE)) -> Esmee Perks Y6 G | D39: =IF(B39=0,0,VLOOKUP(C39,Register!$B$1:$C$1631,2,FALSE)) -> Biscovey | E39: 12.25 | G39: G
... A50: 46 | B50: 144 | C50: =IF(B50=0,0,VLOOKUP(B50,Register!$A$1:$B$1631,2,FALSE)) -> Millie Cox Y6 G | D50: =IF(B50=0,0,VLOOKUP(C50,Register!$B$1:$C$1631,2,FALSE)) -> Biscovey | E50: 15.36 | G50: G
C51: =IF(B51=0,0,VLOOKUP(B51,Register!$A$1:$B$1631,2,FALSE)) -> 0 | D51: =IF(B51=0,0,VLOOKUP(C51,Register!$B$1:$C$1631,2,FALSE)) -> 0
C52: =IF(B52=0,0,VLOOKUP(B52,Register!$A$1:$B$1631,2,FALSE)) -> 0 | D52: =IF(B52=0,0,VLOOKUP(C52,Register!$B$1:$C$1631,2,FALSE)) -> 0
C53: =IF(B53=0,0,VLOOKUP(B53,Register!$A$1:$B$1631,2,FALSE)) -> 0 | D53: =IF(B53=0,0,VLOOKUP(C53,Register!$B$1:$C$1631,2,FALSE)) -> 0
C54: =IF(B54=0,0,VLOOKUP(B54,Register!$A$1:$B$1631,2,FALSE)) -> 0 | D54: =IF(B54=0,0,VLOOKUP(C54,Register!$B$1:$C$1631,2,FALSE)) -> 0
C55: =IF(B55=0,0,VLOOKUP(B55,Register!$A$1:$B$1631,2,FALSE)) -> 0 | D55: =IF(B55=0,0,VLOOKUP(C55,Register!$B$1:$C$1631,2,FALSE)) -> 0
C56: =IF(B56=0,0,VLOOKUP(B56,Register!$A$1:$B$1631,2,FALSE)) -> 0 | D56: =IF(B56=0,0,VLOOKUP(C56,Register!$B$1:$C$1631,2,FALSE)) -> 0
C57: =IF(B57=0,0,VLOOKUP(B57,Register!$A$1:$B$1631,2,FALSE)) -> 0 | D57: =IF(B57=0,0,VLOOKUP(C57,Register!$B$1:$C$1631,2,FALSE)) -> 0
C58: =IF(B58=0,0,VLOOKUP(B58,Register!$A$1:$B$1631,2,FALSE)) -> 0 | D58: =IF(B58=0,0,VLOOKUP(C58,Register!$B$1:$C$1631,2,FALSE)) -> 0
C59: =IF(B59=0,0,VLOOKUP(B59,Register!$A$1:$B$1631,2,FALSE)) -> 0 | D59: =IF(B59=0,0,VLOOKUP(C59,Register!$B$1:$C$1631,2,FALSE)) -> 0
C60: =IF(B60=0,0,VLOOKUP(B60,Register!$A$1:$B$1631,2,FALSE)) -> 0 | D60: =IF(B60=0,0,VLOOKUP(C60,Register!$B$1:$C$1631,2,FALSE)) -> 0
C61: =IF(B61=0,0,VLOOKUP(B61,Register!$A$1:$B$1631,2,FALSE)) -> 0 | D61: =IF(B61=0,0,VLOOKUP(C61,Register!$B$1:$C$1631,2,FALSE)) -> 0
...

Sheet Yr6 Boys& Girls
A1: NEWQUAY & PAR AC JUNIOR SCHOOLS CROSS COUNTRY 2023/24 | G1: points | H1: team points | J1: NEWQUAY & PAR AC JUNIOR SCHOOLS CROSS COUNTRY 2023/24 | P1: points | Q1: team points
A2: Results for Year 6 Boys 17 Jan 2024 | J2: Results for Year 6 Girls 17 Jan 2024
A3: Course Record: Reuben Wallace Tywardreath 9m.40s 8 Feb 2023 | J3: Course Record: Daisy Roberts St Petroc's 10m.49s 8 Feb 2023
A4: Pos | B4: No | C4: forename | D4: School | E4: time | F4: scorer | J4: Pos | K4: Pos | L4: forename | M4: School | N4: time | O4: scorer
A5: 1 | B5: 43 | C5: =IF(B5=0,0,VLOOKUP(B5,Register!$A$1:$B$1631,2,FALSE)) -> Harry Hogbin Y6 B | D5: =IF(B5=0,0,VLOOKUP(C5,Register!$B$1:$C$1631,2,FALSE)) -> Ladock CE School | E5: 8.58 | F5: A1 | G5: 100 | J5: 1 | K5: 178 | L5: =IF(K5=0,0,VLOOKUP(K5,Register!$A$1:$B$1631,2,FALSE)) -> Violet Durber Y6 G | M5: =IF(K5=0,0,VLOOKUP(L5,Register!$B$1:$C$1631,2,FALSE)) -> Probus | N5: 9.49 | O5: A1 | P5: 100
A6: 2 | B6: 99 | C6: =IF(B6=0,0,VLOOKUP(B6,Register!$A$1:$B$1631,2,FALSE)) -> Reubyn Howes Y6 B | D6: =IF(B6=0,0,VLOOKUP(C6,Register!$B$1:$C$1631,2,FALSE)) -> Tywardreath | E6: 9.02 | F6: B1 | G6: 99 | J6: 2 | K6: 103 | L6: =IF(K6=0,0,VLOOKUP(K6,Register!$A$1:$B$1631,2,FALSE)) -> Anouk Topps Y6 G | M6: =IF(K6=0,0,VLOOKUP(L6,Register!$B$1:$C$1631,2,FALSE)) -> Tywardreath | N6: 10 | O6: B1 | P6: 99
A7: 3 | B7: 176 | C7: =IF(B7=0,0,VLOOKUP(B7,Register!$A$1:$B$1631,2,FALSE)) -> Jem Sullivan Y6 B | D7: =IF(B7=0,0,VLOOKUP(C7,Register!$B$1:$C$1631,2,FALSE)) -> Probus | E7: 9.16 | F7: C1 | G7: 98 | J7: 3 | K7: 179 | L7: =IF(K7=0,0,VLOOKUP(K7,Register!$A$1:$B$1631,2,FALSE)) -> Megan Perry Y6 G | M7: =IF(K7=0,0,VLOOKUP(L7,Register!$B$1:$C$1631,2,FALSE)) -> Probus | N7: 10.06 | O7: A2 | P7: 98
A8: 4 | B8: 41 | C8: =IF(B8=0,0,VLOOKUP(B8,Register!$A$1:$B$1631,2,FALSE)) -> Henry Denning Y6 B | D8: =IF(B8=0,0,VLOOKUP(C8,Register!$B$1:$C$1631,2,FALSE)) -> Ladock CE School | E8: 9.23 | F8: A2 | G8: 97 | J8: 4 | K8: 182 | L8: =IF(K8=0,0,VLOOKUP(K8,Register!$A$1:$B$1631,2,FALSE)) -> Eden Carlton Y6 G | M8: =IF(K8=0,0,VLOOKUP(L8,Register!$B$1:$C$1631,2,FALSE)) -> Probus | N8: 10.17 | O8: A3 | P8: 97 | Q8: 295
A9: 5 | B9: 175 | C9: =IF(B9=0,0,VLOOKUP(B9,Register!$A$1:$B$1631,2,FALSE)) -> Tom Bowen Y6 B | D9: =IF(B9=0,0,VLOOKUP(C9,Register!$B$1:$C$1631,2,FALSE)) -> Probus | E9: 9.26 | F9: C2 | G9: 96 | J9: 5 | K9: 177 | L9: =IF(K9=0,0,VLOOKUP(K9,Register!$A$1:$B$1631,2,FALSE)) -> Astrid Cain Y6 G | M9: =IF(K9=0,0,VLOOKUP(L9,Register!$B$1:$C$1631,2,FALSE)) -> Probus | N9: 10.47 | O9: A4 | P9: 96
A10: 6 | B10: 62 | C10: =IF(B10=0,0,VLOOKUP(B10,Register!$A$1:$B$1631,2,FALSE)) -> Thomas Rowe Y6 B | D10: =IF(B10=0,0,VLOOKUP(C10,Register!$B$1:$C$1631,2,FALSE)) -> St Petroc's, Bodmin | E10: 9.43 | F10: D1 | G10: 95 | J10: 6 | K10: 102 | L10: =IF(K10=0,0,VLOOKUP(K10,Register!$A$1:$B$1631,2,FALSE)) -> Eadie-Mae Munn Y6 G | M10: =IF(K10=0,0,VLOOKUP(L10,Register!$B$1:$C$1631,2,FALSE)) -> Tywardreath | N10: 11 | O10: B2 | P10: 95 | Q10: 194
A11: 7 | B11: 42 | C11: =IF(B11=0,0,VLOOKUP(B11,Register!$A$1:$B$1631,2,FALSE)) -> Jude Egford Y6 B | D11: =IF(B11=0,0,VLOOKUP(C11,Register!$B$1:$C$1631,2,FALSE)) -> Ladock CE School | E11: 9.53 | F11: A3 | G11: 94 | H11: 291 | J11: 7 | K11: 145 | L11: =IF(K11=0,0,VLOOKUP(K11,Register!$A$1:$B$1631,2,FALSE)) -> Rachel Emms Y6 G | M11: =IF(K11=0,0,VLOOKUP(L11,Register!$B$1:$C$1631,2,FALSE)) -> Biscovey | N11: 11.38 | O11: C1 | P11: 94
A12: 8 | B12: 146 | C12: =IF(B12=0,0,VLOOKUP(B12,Register!$A$1:$B$1631,2,FALSE)) -> Johan Putt Y6 B | D12: =IF(B12=0,0,VLOOKUP(C12,Register!$B$1:$C$1631,2,FALSE)) -> Biscovey | E12: 9.53 | F12: E1 | G12: 93 | J12: 8 | K12: 137 | L12: =IF(K12=0,0,VLOOKUP(K12,Register!$A$1:$B$1631,2,FALSE)) -> Millie Megson Y6 G | M12: =IF(K12=0,0,VLOOKUP(L12,Register!$B$1:$C$1631,2,FALSE)) -> Biscovey | N12: 11.52 | O12: C2 | P12: 93
A13: 9 | B13: 147 | C13: =IF(B13=0,0,VLOOKUP(B13,Register!$A$1:$B$1631,2,FALSE)) -> Brody Slater Y6 B | D13: =IF(B13=0,0,VLOOKUP(C13,Register!$B$1:$C$1631,2,FALSE)) -> Biscovey | E13: 10.24 | F13: E2 | G13: 92 | J13: 9 | K13: 66 | L13: =IF(K13=0,0,VLOOKUP(K13,Register!$A$1:$B$1631,2,FALSE)) -> Macey Collins Y6 G | M13: =IF(K13=0,0,VLOOKUP(L13,Register!$B$1:$C$1631,2,FALSE)) -> St Petroc's, Bodmin | N13: 12.05 | O13: D1 | P13: 92 | Q13: 92
A14: 10 | B14: 174 | C14: =IF(B14=0,0,VLOOKUP(B14,Register!$A$1:$B$1631,2,FALSE)) -> Calan Davey Y6 B | D14: =IF(B14=0,0,VLOOKUP(C14,Register!$B$1:$C$1631,2,FALSE)) -> Probus | E14: 10.29 | F14: C3 | G14: 91 | H14: 285 | J14: 10 | K14: 180 | L14: =IF(K14=0,0,VLOOKUP(K14,Register!$A$1:$B$1631,2,FALSE)) -> Ella Martin Y6 G | M14: =IF(K14=0,0,VLOOKUP(L14,Register!$B$1:$C$1631,2,FALSE)) -> Probus | N14: 12.16 | O14: A5 | P14: 91 | Q14: 187
A15: 11 | B15: 167 | C15: =IF(B15=0,0,VLOOKUP(B15,Register!$A$1:$B$1631,2,FALSE)) -> Harlow Hill Y6 B | D15: =IF(B15=0,0,VLOOKUP(C15,Register!$B$1:$C$1631,2,FALSE)) -> Treverbyn | E15: 10.37 | F15: F1 | G15: 90 | J15: 11 | K15: 163 | L15: =IF(K15=0,0,VLOOKUP(K15,Register!$A$1:$B$1631,2,FALSE)) -> Lola Stockwell Y6 G | M15: =IF(K15=0,0,VLOOKUP(L15,Register!$B$1:$C$1631,2,FALSE)) -> Treverbyn | N15: 12.17 | O15: E1 | P15: 90
A16: 12 | B16: 17 | C16: =IF(B16=0,0,VLOOKUP(B16,Register!$A$1:$B$1631,2,FALSE)) -> Harry Wilder Y6 B | D16: =IF(B16=0,0,VLOOKUP(C16,Register!$B$1:$C$1631,2,FALSE)) -> Gorran | E16: 10.52 | F16: G1 | G16: 89 | H16: 89 | J16: 12 | K16: 138 | L16: =IF(K16=0,0,VLOOKUP(K16,Register!$A$1:$B$1631,2,FALSE)) -> Esmee Perks Y6 G | M16: =IF(K16=0,0,VLOOKUP(L16,Register!$B$1:$C$1631,2,FALSE)) -> Biscovey | N16: 12.25 | O16: C3 | P16: 89 | Q16: 276
A17: 13 | B17: 100 | C17: =IF(B17=0,0,VLOOKUP(B17,Register!$A$1:$B$1631,2,FALSE)) -> Toby Greet Y6 B | D17: =IF(B17=0,0,VLOOKUP(C17,Register!$B$1:$C$1631,2,FALSE)) -> Tywardreath | E17: 10.55 | F17: B2 | G17: 88 | J17: 13 | K17: 164 | L17: =IF(K17=0,0,VLOOKUP(K17,Register!$A$1:$B$1631,2,FALSE)) -> Josie Potter Y6 G | M17: =IF(K17=0,0,VLOOKUP(L17,Register!$B$1:$C$1631,2,FALSE)) -> Treverbyn | N17: 13.16 | O17: E2 | P17: 88
A18: 14 | B18: 98 | C18: =IF(B18=0,0,VLOOKUP(B18,Register!$A$1:$B$1631,2,FALSE)) -> Harry Kirwan Y6 B | D18: =IF(B18=0,0,VLOOKUP(C18,Register!$B$1:$C$1631,2,FALSE)) -> Tywardreath | E18: 11.03 | F18: B3 | G18: 87 | H18: 274 | J18: 14 | K18: 140 | L18: =IF(K18=0,0,VLOOKUP(K18,Register!$A$1:$B$1631,2,FALSE)) -> Ella Aldridge Y6 G | M18: =IF(K18=0,0,VLOOKUP(L18,Register!$B$1:$C$1631,2,FALSE)) -> Biscovey | N18: 13.19 | O18: C4 | P18: 87
A19: 15 | B19: 61 | C19: =IF(B19=0,0,VLOOKUP(B19,Register!$A$1:$B$1631,2,FALSE)) -> Charlie Sinfield Y6 B | D19: =IF(B19=0,0,VLOOKUP(C19,Register!$B$1:$C$1631,2,FALSE)) -> St Petroc's, Bodmin | E19: 11.06 | F19: D2 | G19: 86 | J19: 15 | K19: 47 | L19: =IF(K19=0,0,VLOOKUP(K19,Register!$A$1:$B$1631,2,FALSE)) -> Mowenna Murray Y6 G | M19: =IF(K19=0,0,VLOOKUP(L19,Register!$B$1:$C$1631,2,FALSE)) -> Ladock CE School | N19: 13.43 | O19: F1 | P19: 86
A20: 16 | B20: 148 | C20: =IF(B20=0,0,VLOOKUP(B20,Register!$A$1:$B$1631,2,FALSE)) -> Aston Hall Y6 B | D20: =IF(B20=0,0,VLOOKUP(C20,Register!$B$1:$C$1631,2,FALSE)) -> Biscovey | E20: 11.16 | F20: E3 | G20: 85 | H20: 270 | J20: 16 | K20: 201 | L20: =IF(K20=0,0,VLOOKUP(K20,Register!$A$1:$B$1631,2,FALSE)) -> Isobel Ward Y6 G | M20: =IF(K20=0,0,VLOOKUP(L20,Register!$B$1:$C$1631,2,FALSE)) -> St Wenn | N20: 13.48 | O20: G1 | P20: 85 | Q20: 85
A21: 17 | B21: 149 | C21: =IF(B21=0,0,VLOOKUP(B21,Register!$A$1:$B$1631,2,FALSE)) -> Kian McCarthy Y6 B | D21: =IF(B21=0,0,VLOOKUP(C21,Register!$B$1:$C$1631,2,FALSE)) -> Biscovey | E21: 11.17 | F21: E4 | G21: 84 | J21: 17 | K21: 44 | L21: =IF(K21=0,0,VLOOKUP(K21,Register!$A$1:$B$1631,2,FALSE)) -> Darcey Lee Y6 G | M21: =IF(K21=0,0,VLOOKUP(L21,Register!$B$1:$C$1631,2,FALSE)) -> Ladock CE School | N21: 14.02 | O21: F2 | P21: 84 | Q21: 170
A22: 18 | B22: 63 | C22: =IF(B22=0,0,VLOOKUP(B22,Register!$A$1:$B$1631,2,FALSE)) -> Finley Whitmill Y6 B | D22: =IF(B22=0,0,VLOOKUP(C22,Register!$B$1:$C$1631,2,FALSE)) -> St Petroc's, Bodmin | E22: 11.23 | F22: D3 | G22: 83 | H22: 264 | J22: 18 | K22: 160 | L22: =IF(K22=0,0,VLOOKUP(K22,Register!$A$1:$B$1631,2,FALSE)) -> Ava-Lily Bissett Y6 G | M22: =IF(K22=0,0,VLOOKUP(L22,Register!$B$1:$C$1631,2,FALSE)) -> Treverbyn | N22: 14.1 | O22: E3 | P22: 83 | Q22: 261
A23: 19 | B23: 166 | C23: =IF(B23=0,0,VLOOKUP(B23,Register!$A$1:$B$1631,2,FALSE)) -> Kyle Wegg Y6 B | D23: =IF(B23=0,0,VLOOKUP(C23,Register!$B$1:$C$1631,2,FALSE)) -> Treverbyn | E23: 11.28 | F23: F2 | G23: 82 | H23: 172 | J23: 19 | K23: 162 | L23: =IF(K23=0,0,VLOOKUP(K23,Register!$A$1:$B$1631,2,FALSE)) -> Courtney Beagley Y6 G | M23: =IF(K23=0,0,VLOOKUP(L23,Register!$B$1:$C$1631,2,FALSE)) -> Treverbyn | N23: 14.11 | O23: E4 | P23: 82
A24: 20 | B24: 151 | C24: =IF(B24=0,0,VLOOKUP(B24,Register!$A$1:$B$1631,2,FALSE)) -> Bradley Morcom-Ankers Y6 B | D24: =IF(B24=0,0,VLOOKUP(C24,Register!$B$1:$C$1631,2,FALSE)) -> Biscovey | E24: 11.45 | F24: E5 | G24: 81 | J24: 20 | K24: 143 | L24: =IF(K24=0,0,VLOOKUP(K24,Register!$A$1:$B$1631,2,FALSE)) -> Lily Overson Y6 G | M24: =IF(K24=0,0,VLOOKUP(L24,Register!$B$1:$C$1631,2,FALSE)) -> Biscovey | N24: 14.18 | O24: C5 | P24: 81
A25: 21 | B25: 153 | C25: =IF(B25=0,0,VLOOKUP(B25,Register!$A$1:$B$1631,2,FALSE)) -> Cameron Taylor Y6 B | D25: =IF(B25=0,0,VLOOKUP(C25,Register!$B$1:$C$1631,2,FALSE)) -> Biscovey | E25: 11.58 | F25: E6 | G25: 80 | H25: 245 | J25: 21 | K25: 161 | L25: =IF(K25=0,0,VLOOKUP(K25,Register!$A$1:$B$1631,2,FALSE)) -> Senara Dunn Y6 G | M25: =IF(K25=0,0,VLOOKUP(L25,Register!$B$1:$C$1631,2,FALSE)) -> Treverbyn | N25: 14.26 | O25: E5 | P25: 80 | Q25: 162
A26: 22 | B26: 150 | C26: =IF(B26=0,0,VLOOKUP(B26,Register!$A$1:$B$1631,2,FALSE)) -> Logan Reid Y6 B | D26: =IF(B26=0,0,VLOOKUP(C26,Register!$B$1:$C$1631,2,FALSE)) -> Biscovey | E26: 13.12 | G26: 79 | J26: 22 | K26: 142 | L26: =IF(K26=0,0,VLOOKUP(K26,Register!$A$1:$B$1631,2,FALSE)) -> Mia Armstrong Y6 G | M26: =IF(K26=0,0,VLOOKUP(L26,Register!$B$1:$C$1631,2,FALSE)) -> Biscovey | N26: 15.25 | O26: C6 | P26: 79 | Q26: 247
A27: 23 | B27: 152 | C27: =IF(B27=0,0,VLOOKUP(B27,Register!$A$1:$B$1631,2,FALSE)) -> Brooklyn Parnell Y6 B | D27: =IF(B27=0,0,VLOOKUP(C27,Register!$B$1:$C$1631,2,FALSE)) -> Biscovey | E27: 13.47 | G27: 78 | J27: 23 | K27: 144 | L27: =IF(K27=0,0,VLOOKUP(K27,Register!$A$1:$B$1631,2,FALSE)) -> Millie Cox Y6 G | M27: =IF(K27=0,0,VLOOKUP(L27,Register!$B$1:$C$1631,2,FALSE)) -> Biscovey | N27: 15.36 | P27: 78
C28: =IF(B28=0,0,VLOOKUP(B28,Register!$A$1:$B$1631,2,FALSE)) -> 0 | D28: =IF(B28=0,0,VLOOKUP(C28,Register!$B$1:$C$1631,2,FALSE)) -> 0 | L28: =IF(K28=0,0,VLOOKUP(K28,Register!$A$1:$B$1631,2,FALSE)) -> 0 | M28: =IF(K28=0,0,VLOOKUP(L28,Register!$B$1:$C$1631,2,FALSE)) -> 0
C29: =IF(B29=0,0,VLOOKUP(B29,Register!$A$1:$B$1631,2,FALSE)) -> 0 | D29: =IF(B29=0,0,VLOOKUP(C29,Register!$B$1:$C$1631,2,FALSE)) -> 0 | L29: =IF(K29=0,0,VLOOKUP(K29,Register!$A$1:$B$1631,2,FALSE)) -> 0 | M29: =IF(K29=0,0,VLOOKUP(L29,Register!$B$1:$C$1631,2,FALSE)) -> 0
C30: =IF(B30=0,0,VLOOKUP(B30,Register!$A$1:$B$1631,2,FALSE)) -> 0 | D30: =IF(B30=0,0,VLOOKUP(C30,Register!$B$1:$C$1631,2,FALSE)) -> 0 | L30: =IF(K30=0,0,VLOOKUP(K30,Register!$A$1:$B$1631,2,FALSE)) -> 0 | M30: =IF(K30=0,0,VLOOKUP(L30,Register!$B$1:$C$1631,2,FALSE)) -> 0
C31: =IF(B31=0,0,VLOOKUP(B31,Register!$A$1:$B$1631,2,FALSE)) -> 0 | D31: =IF(B31=0,0,VLOOKUP(C31,Register!$B$1:$C$1631,2,FALSE)) -> 0 | L31: =IF(K31=0,0,VLOOKUP(K31,Register!$A$1:$B$1631,2,FALSE)) -> 0 | M31: =IF(K31=0,0,VLOOKUP(L31,Register!$B$1:$C$1631,2,FALSE)) -> 0
C32: =IF(B32=0,0,VLOOKUP(B32,Register!$A$1:$B$1631,2,FALSE)) -> 0 | D32: =IF(B32=0,0,VLOOKUP(C32,Register!$B$1:$C$1631,2,FALSE)) -> 0 | L32: =IF(K32=0,0,VLOOKUP(K32,Register!$A$1:$B$1631,2,FALSE)) -> 0 | M32: =IF(K32=0,0,VLOOKUP(L32,Register!$B$1:$C$1631,2,FALSE)) -> 0
C33: =IF(B33=0,0,VLOOKUP(B33,Register!$A$1:$B$1631,2,FALSE)) -> 0 | D33: =IF(B33=0,0,VLOOKUP(C33,Register!$B$1:$C$1631,2,FALSE)) -> 0 | L33: =IF(K33=0,0,VLOOKUP(K33,Register!$A$1:$B$1631,2,FALSE)) -> 0 | M33: =IF(K33=0,0,VLOOKUP(L33,Register!$B$1:$C$1631,2,FALSE)) -> 0
C34: =IF(B34=0,0,VLOOKUP(B34,Register!$A$1:$B$1631,2,FALSE)) -> 0 | D34: =IF(B34=0,0,VLOOKUP(C34,Register!$B$1:$C$1631,2,FALSE)) -> 0 | L34: =IF(K34=0,0,VLOOKUP(K34,Register!$A$1:$B$1631,2,FALSE)) -> 0 | M34: =IF(K34=0,0,VLOOKUP(L34,Register!$B$1:$C$1631,2,FALSE)) -> 0
C35: =IF(B35=0,0,VLOOKUP(B35,Register!$A$1:$B$1631,2,FALSE)) -> 0 | D35: =IF(B35=0,0,VLOOKUP(C35,Register!$B$1:$C$1631,2,FALSE)) -> 0 | L35: =IF(K35=0,0,VLOOKUP(K35,Register!$A$1:$B$1631,2,FALSE)) -> 0 | M35: =IF(K35=0,0,VLOOKUP(L35,Register!$B$1:$C$1631,2,FALSE)) -> 0
C36: =IF(B36=0,0,VLOOKUP(B36,Register!$A$1:$B$1631,2,FALSE)) -> 0 | D36: =IF(B36=0,0,VLOOKUP(C36,Register!$B$1:$C$1631,2,FALSE)) -> 0 | L36: =IF(K36=0,0,VLOOKUP(K36,Register!$A$1:$B$1631,2,FALSE)) -> 0 | M36: =IF(K36=0,0,VLOOKUP(L36,Register!$B$1:$C$1631,2,FALSE)) -> 0
C37: =IF(B37=0,0,VLOOKUP(B37,Register!$A$1:$B$1631,2,FALSE)) -> 0 | D37: =IF(B37=0,0,VLOOKUP(C37,Register!$B$1:$C$1631,2,FALSE)) -> 0 | L37: =IF(K37=0,0,VLOOKUP(K37,Register!$A$1:$B$1631,2,FALSE)) -> 0 | M37: =IF(K37=0,0,VLOOKUP(L37,Register!$B$1:$C$1631,2,FALSE)) -> 0
C38: =IF(B38=0,0,VLOOKUP(B38,Register!$A$1:$B$1631,2,FALSE)) -> 0 | D38: =IF(B38=0,0,VLOOKUP(C38,Register!$B$1:$C$1631,2,FALSE)) -> 0 | L38: =IF(K38=0,0,VLOOKUP(K38,Register!$A$1:$B$1631,2,FALSE)) -> 0 | M38: =IF(K38=0,0,VLOOKUP(L38,Register!$B$1:$C$1631,2,FALSE)) -> 0
C39: =IF(B39=0,0,VLOOKUP(B39,Register!$A$1:$B$1631,2,FALSE)) -> 0 | D39: =IF(B39=0,0,VLOOKUP(C39,Register!$B$1:$C$1631,2,FALSE)) -> 0 | L39: =IF(K39=0,0,VLOOKUP(K39,Register!$A$1:$B$1631,2,FALSE)) -> 0 | M39: =IF(K39=0,0,VLOOKUP(L39,Register!$B$1:$C$1631,2,FALSE)) -> 0
... C100: =IF(B100=0,0,VLOOKUP(B100,Register!$A$1:$B$1631,2,FALSE)) -> 0 | D100: =IF(B100=0,0,VLOOKUP(C100,Register!$B$1:$C$1631,2,FALSE)) -> 0 | L100: =IF(K100=0,0,VLOOKUP(K100,Register!$A$1:$B$1631,2,FALSE)) -> 0 | M100: =IF(K100=0,0,VLOOKUP(L100,Register!$B$1:$C$1631,2,FALSE)) -> 0

Sheet Yr5 Boys& Girls oa
A1: NEWQUAY & PAR AC JUNIOR SCHOOLS CROSS COUNTRY 2023/24 | I1: overall points | J1: best four scores | L1: NEWQUAY & PAR AC JUNIOR SCHOOLS CROSS COUNTRY 2023/24 | T1: overall points | U1: best four scores
A2: Overall Results for Year 5 Boys | L2: Overall Results for Year 5 Girls
B4: name | C4: School | D4: R1 | E4: R2 | F4: R3 | G4: R4 | H4: R5 | M4: name | N4: School | O4: R1 | P4: R2 | Q4: R3 | R4: R4 | S4: R5
A5: 1 | B5: Tommy Grose Y5 B | C5: Biscovey | D5: 100 | E5: 100 | F5: 100 | G5: 100 | I5: =SUM(D5:H5) -> 400 | J5: =SUM(D5:H5)-0 -> 400 | L5: 1 | M5: Athena Jefferies Y5 G | N5: Treverbyn | O5: 100 | P5: 100 | Q5: 100 | R5: 100 | T5: =SUM(O5:S5) -> 400 | U5: =SUM(O5:S5)-0 -> 400
A6: 2 | B6: Harry Crowe Y5 B | C6: Gorran | D6: 97 | E6: 99 | F6: 99 | G6: 99 | I6: =SUM(D6:H6) -> 394 | J6: =SUM(D6:H6)-0 -> 394 | L6: 2 | M6: Lyvie Cooper Y5 G | N6: Biscovey | O6: 99 | P6: 99 | Q6: 99 | R6: 99 | T6: =SUM(O6:S6) -> 396 | U6: =SUM(O6:S6)-0 -> 396
A7: 3 | B7: William Talen Y5 B | C7: Gorran | D7: 96 | E7: 94 | F7: 98 | G7: 97 | I7: =SUM(D7:H7) -> 385 | J7: =SUM(D7:H7)-0 -> 385 | L7: 3 | M7: Maya Wishart Y5 G | N7: Biscovey | O7: 96 | P7: 96 | Q7: 97 | R7: 95 | T7: =SUM(O7:S7) -> 384 | U7: =SUM(O7:S7)-0 -> 384
A8: 4 | B8: Sonny Needham Y5 B | C8: Treverbyn | D8: 94 | E8: 96 | F8: 97 | G8: 98 | I8: =SUM(D8:H8) -> 385 | J8: =SUM(D8:H8)-0 -> 385 | L8: 4 | M8: Indi Mackenzie Y5 G | N8: Biscovey | O8: 97 | P8: 97 | Q8: 93 | R8: 94 | T8: =SUM(O8:S8) -> 381 | U8: =SUM(O8:S8)-0 -> 381
A9: 5 | B9: JoJo Fraser Y5 B | C9: Gorran | D9: 92 | E9: 92 | F9: 94 | G9: 94 | I9: =SUM(D9:H9) -> 372 | J9: =SUM(D9:H9)-0 -> 372 | L9: 5 | M9: Marcy Bushell Y4 G | N9: St Wenn | O9: 94 | P9: 95 | Q9: 96 | R9: 93 | T9: =SUM(O9:S9) -> 378 | U9: =SUM(O9:S9)-0 -> 378
A10: 6 | B10: Finn Martyn Y5 B | C10: Treverbyn | D10: 88 | E10: 93 | F10: 96 | G10: 92 | I10: =SUM(D10:H10) -> 369 | J10: =SUM(D10:H10)-0 -> 369 | L10: 6 | M10: Bethanie Lelo Y5 G | N10: Biscovey | O10: 93 | P10: 94 | Q10: 94 | R10: 89 | T10: =SUM(O10:S10) -> 370 | U10: =SUM(O10:S10)-0 -> 370
A11: 7 | B11: Ruan Flack Y5 B | C11: Gorran | D11: 89 | E11: 90 | F11: 95 | G11: 90 | I11: =SUM(D11:H11) -> 364 | J11: =SUM(D11:H11)-0 -> 364 | L11: 7 | M11: Sophia Vercoe Y5 G | N11: Tywardreath | O11: 87 | P11: 91 | Q11: 91 | R11: 87 | T11: =SUM(O11:S11) -> 356 | U11: =SUM(O11:S11)-0 -> 356
A12: 8 | B12: Finley Rowe Y5 B | C12: Biscovey | D12: 87 | E12: 82 | F12: 89 | G12: 87 | I12: =SUM(D12:H12) -> 345 | J12: =SUM(D12:H12)-0 -> 345 | L12: 8 | M12: Kaitlyn Best Y5 G | N12: Tywardreath | O12: 86 | P12: 90 | Q12: 90 | R12: 88 | T12: =SUM(O12:S12) -> 354 | U12: =SUM(O12:S12)-0 -> 354
A13: 9 | B13: Noah Grigg Y5 B | C13: Tywardreath | D13: 83 | E13: 85 | F13: 90 | G13: 81 | I13: =SUM(D13:H13) -> 339 | J13: =SUM(D13:H13)-0 -> 339 | L13: 9 | M13: Harper Opie Y4 G | N13: St Wenn | O13: 88 | P13: 89 | Q13: 92 | R13: 84 | T13: =SUM(O13:S13) -> 353 | U13: =SUM(O13:S13)-0 -> 353
A14: 9 | B14: William Mcnee Y5 B | C14: St Wenn | D14: 85 | E14: 81 | F14: 82 | G14: 84 | I14: =SUM(D14:H14) -> 332 | J14: =SUM(D14:H14)-0 -> 332 | L14: 10 | M14: Sienna Hannaford Y5 G | N14: Biscovey | O14: 98 | P14: 98 | R14: 98 | T14: =SUM(O14:S14) -> 294 | U14: =SUM(O14:S14)-0 -> 294
A15: 11 | B15: Miles Pemberton Y5 B | C15: Tywardreath | D15: 80 | E15: 73 | F15: 78 | G15: 78 | I15: =SUM(D15:H15) -> 309 | J15: =SUM(D15:H15)-0 -> 309 | L15: 11 | M15: Isla Mather Y5 G | N15: Tywardreath | O15: 92 | P15: 93 | Q15: 95 | T15: =SUM(O15:S15) -> 280 | U15: =SUM(O15:S15)-0 -> 280
A16: 12 | B16: Seb Empell Newman Y5 B | C16: Tywardreath | D16: 82 | E16: 76 | F16: 73 | G16: 77 | I16: =SUM(D16:H16) -> 308 | J16: =SUM(D16:H16)-0 -> 308 | L16: 12 | M16: Emily Cornelius Y4 G | N16: Gorran | O16: 89 | P16: 88 | R16: 85 | T16: =SUM(O16:S16) -> 262 | U16: =SUM(O16:S16)-0 -> 262
A17: 13 | B17: Jasper Kent Y5 B | C17: St Wenn | D17: 81 | E17: 78 | F17: 75 | G17: 73 | I17: =SUM(D17:H17) -> 307 | J17: =SUM(D17:H17)-0 -> 307 | L17: 13 | M17: Chloe Mackrory Y4 G | N17: Gorran | O17: 90 | P17: 86 | R17: 86 | T17: =SUM(O17:S17) -> 262 | U17: =SUM(O17:S17)-0 -> 262
A18: 14 | B18: Stanley Robinson Y5 B | C18: Tywardreath | D18: 78 | E18: 74 | F18: 79 | G18: 76 | I18: =SUM(D18:H18) -> 307 | J18: =SUM(D18:H18)-0 -> 307 | L18: 14 | M18: Zara Stewart Y4 G | N18: Gorran | O18: 83 | P18: 87 | R18: 91 | T18: =SUM(O18:S18) -> 261 | U18: =SUM(O18:S18)-0 -> 261
A19: 14 | B19: Riley Newton Y5 B | C19: Biscovey | D19: 79 | E19: 75 | F19: 77 | G19: 74 | I19: =SUM(D19:H19) -> 305 | J19: =SUM(D19:H19)-0 -> 305 | L19: 15 | M19: Millie Thomas Y4 G | N19: Treverbyn | Q19: 98 | R19: 93 | T19: =SUM(O19:S19) -> 191 | U19: =SUM(O19:S19)-0 -> 191
A20: 14 | B20: Douglas Kennard Y5 B | C20: St Wenn | D20: 99 | E20: 98 | G20: 96 | I20: =SUM(D20:H20) -> 293 | J20: =SUM(D20:H20)-0 -> 293 | L20: 16 | M20: Lottie Fletcher Y4 G | N20: Gorran | O20: 95 | P20: 92 | T20: =SUM(O20:S20) -> 187 | U20: =SUM(O20:S20)-0 -> 187
A21: 14 | B21: Max Turner Y5 B | C21: Biscovey | D21: 98 | E21: 97 | G21: 93 | I21: =SUM(D21:H21) -> 288 | J21: =SUM(D21:H21)-0 -> 288 | L21: 17 | M21: Bella Brewer Y4 G | N21: Gorran | O21: 84 | P21: 85 | T21: =SUM(O21:S21) -> 169 | U21: =SUM(O21:S21)-0 -> 169
A22: 18 | B22: Otis Foley Y5 B | C22: St Wenn | D22: 95 | E22: 95 | G22: 95 | I22: =SUM(D22:H22) -> 285 | J22: =SUM(D22:H22)-0 -> 285 | L22: 18 | M22: Isobel Rowe Y4 G | N22: St Petroc's, Bodmin | R22: 97 | T22: =SUM(O22:S22) -> 97 | U22: =SUM(O22:S22)-0 -> 97
A23: 19 | B23: Oliver Sanders Y5 B | C23: Probus | E23: 91 | F23: 93 | G23: 86 | I23: =SUM(D23:H23) -> 270 | J23: =SUM(D23:H23)-0 -> 270 | L23: 19 | M23: Lucy Powesland Y4 G | N23: St Petroc's, Bodmin | R23: 96 | T23: =SUM(O23:S23) -> 96 | U23: =SUM(O23:S23)-0 -> 96
A24: 20 | B24: Harvey Doyle Y5 B | C24: Biscovey | E24: 87 | F24: 92 | G24: 89 | I24: =SUM(D24:H24) -> 268 | J24: =SUM(D24:H24)-0 -> 268 | L24: 20 | M24: Tegan Hawkey Y5 G | N24: St Wenn | O24: 91 | T24: =SUM(O24:S24) -> 91 | U24: =SUM(O24:S24)-0 -> 91
A25: 21 | B25: Seth Pickles Y5 B | C25: Biscovey | E25: 88 | F25: 91 | G25: 88 | I25: =SUM(D25:H25) -> 267 | J25: =SUM(D25:H25)-0 -> 267 | L25: 21 | M25: Phoebe Kaye Y5 G | N25: Biscovey | R25: 90 | T25: =SUM(O25:S25) -> 90 | U25: =SUM(O25:S25)-0 -> 90
A26: 22 | B26: James Sleeman Y5 B | C26: Biscovey | D26: 93 | E26: 83 | G26: 91 | I26: =SUM(D26:H26) -> 267 | J26: =SUM(D26:H26)-0 -> 267 | L26: 22 | M26: Lerryn H Y4 G | N26: Treverbyn | Q26: 89 | T26: =SUM(O26:S26) -> 89 | U26: =SUM(O26:S26)-0 -> 89
A27: 23 | B27: Ted King Y5 B | C27: Ladock CE School | D27: 90 | E27: 84 | F27: 86 | I27: =SUM(D27:H27) -> 260 | J27: =SUM(D27:H27)-0 -> 260 | L27: 23 | M27: Alice Grimmett Y4 G | N27: Gorran | O27: 85 | T27: =SUM(O27:S27) -> 85 | U27: =SUM(O27:S27)-0 -> 85
A28: 23 | B28: Isaac Brown Y5 B | C28: Tywardreath | E28: 86 | F28: 87 | G28: 82 | I28: =SUM(D28:H28) -> 255 | J28: =SUM(D28:H28)-0 -> 255 | L28: 24 | M28: Elsie Brown Y4 G | N28: Gorran | P28: 84 | T28: =SUM(O28:S28) -> 84 | U28: =SUM(O28:S28)-0 -> 84
A29: 25 | B29: Bertie Fraser Y5 B | C29: Gorran | D29: 86 | E29: 80 | F29: 83 | I29: =SUM(D29:H29) -> 249 | J29: =SUM(D29:H29)-0 -> 249 | L29: 25 | T29: =SUM(O29:S29) -> 0 | U29: =SUM(O29:S29)-0 -> 0
A30: 26 | B30: Roman Dryzmala Y5 B | C30: Probus | E30: 79 | F30: 88 | G30: 80 | I30: =SUM(D30:H30) -> 247 | J30: =SUM(D30:H30)-0 -> 247 | L30: 26 | T30: =SUM(O30:S30) -> 0 | U30: =SUM(O30:S30)-0 -> 0
A31: 27 | B31: Max Rees Y5 B | C31: Tywardreath | D31: 84 | E31: 77 | G31: 75 | I31: =SUM(D31:H31) -> 236 | J31: =SUM(D31:H31)-0 -> 236 | L31: 27 | T31: =SUM(O31:S31) -> 0 | U31: =SUM(O31:S31)-0 -> 0
A32: 28 | B32: Thomas Turner Y5 B | C32: Tywardreath | E32: 72 | F32: 74 | G32: 70 | I32: =SUM(D32:H32) -> 216 | J32: =SUM(D32:H32)-0 -> 216 | L32: 28 | T32: =SUM(O32:S32) -> 0 | U32: =SUM(O32:S32)-0 -> 0
A33: 29 | B33: Wilf Smejkal Y4 B | C33: Gorran | D33: 91 | E33: 89 | I33: =SUM(D33:H33) -> 180 | J33: =SUM(D33:H33)-0 -> 180 | L33: 29 | T33: =SUM(O33:S33) -> 0 | U33: =SUM(O33:S33)-0 -> 0
A34: 30 | B34: Heath Clark Y5 B | C34: Biscovey | F34: 85 | G34: 85 | I34: =SUM(D34:H34) -> 170 | J34: =SUM(D34:H34)-0 -> 170 | L34: 30 | T34: =SUM(O34:S34) -> 0 | U34: =SUM(O34:S34)-0 -> 0
A35: 31 | B35: Tyler Nicholls Y5 B | C35: Biscovey | F35: 84 | G35: 82 | I35: =SUM(D35:H35) -> 166 | J35: =SUM(D35:H35)-0 -> 166 | L35: 31 | U35: =SUM(O35:S35)-0 -> 0
A36: 32 | B36: Oliver Robinson Y5 B | C36: Biscovey | F36: 81 | G36: 79 | I36: =SUM(D36:H36) -> 160 | J36: =SUM(D36:H36)-0 -> 160 | L36: =RANK(T$36,T$5:T$100) -> 25 | T36: =SUM(O36:S36) -> 0 | U36: =SUM(O36:S36)-0 -> 0
A37: 33 | B37: Jack Barrett Y4 B | C37: St Wenn | D37: 77 | F37: 76 | I37: =SUM(D37:H37) -> 153 | J37: =SUM(D37:H37)-0 -> 153 | L37: =RANK(T$37,T$5:T$100) -> 25 | T37: =SUM(O37:S37) -> 0 | U37: =SUM(O37:S37)-0 -> 0
A38: 34 | B38: Oliver Baker Y5 B | C38: Biscovey | F38: 80 | G38: 71 | I38: =SUM(D38:H38) -> 151 | J38: =SUM(D38:H38)-0 -> 151 | L38: =RANK(T$38,T$5:T$100) -> 25 | T38: =SUM(O38:S38) -> 0 | U38: =SUM(O38:S38)-0 -> 0
A39: 35 | B39: Kohan Lambert O'Donahue Y5 B | C39: Tywardreath | E39: 71 | F39: 72 | I39: =SUM(D39:H39) -> 143 | J39: =SUM(D39:H39)-0 -> 143 | L39: =RANK(T$39,T$5:T$100) -> 25 | T39: =SUM(O39:S39) -> 0 | U39: =SUM(O39:S39)-0 -> 0
A40: 36 | B40: Jack Barrett Y4 B | C40: St Wenn | E40: 70 | G40: 72 | I40: =SUM(D40:H40) -> 142 | J40: =SUM(D40:H40)-0 -> 142 | L40: =RANK(T$40,T$5:T$100) -> 25 | T40: =SUM(O40:S40) -> 0 | U40: =SUM(O40:S40)-0 -> 0
A41: 37 | B41: Freddie Brown Y4 B | C41: Gorran | D41: 76 | I41: =SUM(D41:H41) -> 76 | J41: =SUM(D41:H41)-0 -> 76 | L41: =RANK(T$41,T$5:T$100) -> 25 | T41: =SUM(O41:S41) -> 0 | U41: =SUM(O41:S41)-0 -> 0
...

Sheet Yr6 Boys& Girls oa
A1: NEWQUAY & PAR AC JUNIOR SCHOOLS CROSS COUNTRY 2023/24 | I1: overall points | J1: best four scores | L1: NEWQUAY & PAR AC JUNIOR SCHOOLS CROSS COUNTRY 2023/24 | T1: overall points | U1: best four scores
A2: Overall Results for Year 6 Boys | L2: Overall Results for Year 6 Girls
B4: name | C4: School | D4: R1 | E4: R2 | F4: R3 | G4: R4 | H4: R5 | M4: name | N4: School | O4: R1 | P4: R2 | Q4: R3 | R4: R4 | S4: R5
A5: 1 | B5: Harry Hogbin Y6 B | C5: Ladock CE School | D5: 100 | E5: 100 | F5: 100 | G5: 100 | I5: =SUM(D5:H5) -> 400 | J5: =SUM(D5:H5)-0 -> 400 | L5: 1 | M5: Anouk Topps Y6 G | N5: Tywardreath | O5: 95 | P5: 98 | Q5: 98 | R5: 99 | T5: =SUM(O5:S5) -> 390 | U5: =SUM(O5:S5)-0 -> 390
A6: 2 | B6: Reubyn Howes Y6 B | C6: Tywardreath | D6: 98 | E6: 98 | F6: 99 | G6: 99 | I6: =SUM(D6:H6) -> 394 | J6: =SUM(D6:H6)-0 -> 394 | L6: 2 | M6: Eadie-Mae Munn Y6 G | N6: Tywardreath | O6: 97 | P6: 95 | Q6: 95 | R6: 95 | T6: =SUM(O6:S6) -> 382 | U6: =SUM(O6:S6)-0 -> 382
A7: 3 | B7: Henry Denning Y6 B | C7: Ladock CE School | D7: 99 | E7: 99 | F7: 97 | G7: 97 | I7: =SUM(D7:H7) -> 392 | J7: =SUM(D7:H7)-0 -> 392 | L7: 3 | M7: Esmee Perks Y6 G | N7: Biscovey | O7: 100 | P7: 93 | Q7: 97 | R7: 89 | T7: =SUM(O7:S7) -> 379 | U7: =SUM(O7:S7)-0 -> 379
A8: 4 | B8: Thomas Rowe Y6 B | C8: St Petroc's, Bodmin | D8: 97 | E8: 95 | F8: 96 | G8: 95 | I8: =SUM(D8:H8) -> 383 | J8: =SUM(D8:H8)-0 -> 383 | L8: 4 | M8: Macey Collins Y6 G | N8: St Petroc's, Bodmin | O8: 98 | P8: 94 | Q8: 92 | R8: 92 | T8: =SUM(O8:S8) -> 376 | U8: =SUM(O8:S8)-0 -> 376
A9: 5 | B9: Jude Egford Y6 B | C9: Ladock CE School | D9: 96 | E9: 96 | F9: 93 | G9: 94 | I9: =SUM(D9:H9) -> 379 | J9: =SUM(D9:H9)-0 -> 379 | L9: 5 | M9: Isobel Ward Y6 G | N9: St Wenn | O9: 99 | P9: 90 | Q9: 89 | R9: 85 | T9: =SUM(O9:S9) -> 363 | U9: =SUM(O9:S9)-0 -> 363
A10: 6 | B10: Harry Kirwan Y6 B | C10: Tywardreath | D10: 93 | E10: 91 | F10: 90 | G10: 87 | I10: =SUM(D10:H10) -> 361 | J10: =SUM(D10:H10)-0 -> 361 | L10: 6 | M10: Ella Aldridge Y6 G | N10: Biscovey | O10: 94 | P10: 91 | Q10: 86 | R10: 87 | T10: =SUM(O10:S10) -> 358 | U10: =SUM(O10:S10)-0 -> 358
A11: 7 | B11: Toby Greet Y6 B | C11: Tywardreath | D11: 94 | E11: 90 | F11: 88 | G11: 88 | I11: =SUM(D11:H11) -> 360 | J11: =SUM(D11:H11)-0 -> 360 | L11: 7 | M11: Lola Stockwell Y6 G | N11: Treverbyn | O11: 88 | P11: 89 | Q11: 91 | R11: 90 | T11: =SUM(O11:S11) -> 358 | U11: =SUM(O11:S11)-0 -> 358
A12: 8 | B12: Charlie Sinfield Y6 B | C12: St Petroc's, Bodmin | D12: 91 | E12: 88 | F12: 89 | G12: 86 | I12: =SUM(D12:H12) -> 354 | J12: =SUM(D12:H12)-0 -> 354 | L12: 8 | M12: Millie Megson Y6 G | N12: Biscovey | O12: 92 | P12: 79 | Q12: 84 | R12: 93 | T12: =SUM(O12:S12) -> 348 | U12: =SUM(O12:S12)-0 -> 348
A13: 9 | B13: Harry Wilder Y6 B | C13: Gorran | D13: 92 | E13: 86 | F13: 87 | G13: 89 | I13: =SUM(D13:H13) -> 354 | J13: =SUM(D13:H13)-0 -> 354 | L13: 9 | M13: Senara Dunn Y6 G | N13: Treverbyn | O13: 90 | P13: 87 | Q13: 87 | R13: 80 | T13: =SUM(O13:S13) -> 344 | U13: =SUM(O13:S13)-0 -> 344
A14: 10 | B14: Brody Slater Y6 B | C14: Biscovey | D14: 86 | E14: 82 | F14: 91 | G14: 92 | I14: =SUM(D14:H14) -> 351 | J14: =SUM(D14:H14)-0 -> 351 | L14: 10 | M14: Courtney Beagley Y6 G | N14: Treverbyn | O14: 91 | P14: 85 | Q14: 78 | R14: 82 | T14: =SUM(O14:S14) -> 336 | U14: =SUM(O14:S14)-0 -> 336
