Workbook

Sheet Register
A1: NEWQUAY & PAR AC JUNIOR SCHOOLS INTER AREA CROSS COUNTRY 2026
A3: Please complete the following but leave the no. Column blank
A4: No | B4: Do Not Touch cells below! | C4: School | D4: forename | E4: Surname | G4: year | H4: B/G | I4: position
A5: 1 | B5: =D5&" "&E5&" "&F5&""&G5&""&H5&"" -> Luna Brown Y4G | C5: Gorran | D5: Luna | E5: Brown | F5: Y | G5: 4 | H5: G
A6: 2 | B6: =D6&" "&E6&" "&F6&""&G6&""&H6&"" -> Kendall Stott Y4G | C6: Gorran | D6: Kendall | E6: Stott | F6: Y | G6: 4 | H6: G
A7: 3 | B7: =D7&" "&E7&" "&F7&""&G7&""&H7&"" -> Brooklyn Hovell Y4G | C7: Gorran | D7: Brooklyn | E7: Hovell | F7: Y | G7: 4 | H7: G
A8: 4 | B8: =D8&" "&E8&" "&F8&""&G8&""&H8&"" -> Ceciliy Matthews Y4G | C8: Gorran | D8: Ceciliy | E8: Matthews | F8: Y | G8: 4 | H8: G
A9: 5 | B9: =D9&" "&E9&" "&F9&""&G9&""&H9&"" -> Polly Roberts Y4G | C9: Gorran | D9: Polly | E9: Roberts | F9: Y | G9: 4 | H9: G
A10: 6 | B10: =D10&" "&E10&" "&F10&""&G10&""&H10&"" -> Fern C J Y4G | C10: Ladock CE School | D10: Fern | E10: C J | F10: Y | G10: 4 | H10: G
A11: 7 | B11: =D11&" "&E11&" "&F11&""&G11&""&H11&"" -> Alice Barrett Y4G | C11: St Wenn | D11: Alice | E11: Barrett | F11: Y | G11: 4 | H11: G
A12: 8 | B12: =D12&" "&E12&" "&F12&""&G12&""&H12&"" -> Ariana Y4G | C12: Treverbyn | D12: Ariana | F12: Y | G12: 4 | H12: G
A13: 9 | B13: =D13&" "&E13&" "&F13&""&G13&""&H13&"" -> Elodie Harman Y4G | C13: Tywardreath | D13: Elodie | E13: Harman | F13: Y | G13: 4 | H13: G
A14: 10 | B14: =D14&" "&E14&" "&F14&""&G14&""&H14&"" -> Elowen Rees Y4G | C14: Tywardreath | D14: Elowen | E14: Rees | F14: Y | G14: 4 | H14: G
A15: 11 | B15: =D15&" "&E15&" "&F15&""&G15&""&H15&"" -> Lerryn Cayton Y4G | C15: Tywardreath | D15: Lerryn | E15: Cayton | F15: Y | G15: 4 | H15: G
A16: 12 | B16: =D16&" "&E16&" "&F16&""&G16&""&H16&"" -> Poppy L Y4G | C16: Sandy Hill | D16: Poppy | E16: L | F16: Y | G16: 4 | H16: G
A17: 13 | B17: =D17&" "&E17&" "&F17&""&G17&""&H17&"" -> Lori E Y4G | C17: Ladock CE School | D17: Lori | E17: E | F17: Y | G17: 4 | H17: G
A18: 14 | B18: =D18&" "&E18&" "&F18&""&G18&""&H18&"" -> Finley Thomas Y4B | C18: Biscovey | D18: Finley | E18: Thomas | F18: Y | G18: 4 | H18: B
A19: 15 | B19: =D19&" "&E19&" "&F19&""&G19&""&H19&"" -> Daniel Bullock Y4B | C19: Gorran | D19: Daniel | E19: Bullock | F19: Y | G19: 4 | H19: B
A20: 16 | B20: =D20&" "&E20&" "&F20&""&G20&""&H20&"" -> Joshi Werry Y4B | C20: Gorran | D20: Joshi | E20: Werry | F20: Y | G20: 4 | H20: B
A21: 17 | B21: =D21&" "&E21&" "&F21&""&G21&""&H21&"" -> Freddie Sarucan Y4B | C21: Gorran | D21: Freddie | E21: Sarucan | F21: Y | G21: 4 | H21: B
A22: 18 | B22: =D22&" "&E22&" "&F22&""&G22&""&H22&"" -> Lockie Winter Baker Y4B | C22: Gorran | D22: Lockie | E22: Winter Baker | F22: Y | G22: 4 | H22: B
A23: 19 | B23: =D23&" "&E23&" "&F23&""&G23&""&H23&"" -> Bren Chambers Y4B | C23: Gorran | D23: Bren | E23: Chambers | F23: Y | G23: 4 | H23: B
A24: 20 | B24: =D24&" "&E24&" "&F24&""&G24&""&H24&"" -> Jimmy Young Y4B | C24: Gorran | D24: Jimmy | E24: Young | F24: Y | G24: 4 | H24: B
... A27: 23 | B27: =D27&" "&E27&" "&F27&""&G27&""&H27&"" -> Seth Bowden Y4B | C27: St Wenn | D27: Seth | E27: Bowden | F27: Y | G27: 4 | H27: B
A28: 24 | B28: =D28&" "&E28&" "&F28&""&G28&""&H28&"" -> Oaklyn Y4B | C28: Treverbyn | D28: Oaklyn | F28: Y | G28: 4 | H28: B
A29: 25 | B29: =D29&" "&E29&" "&F29&""&G29&""&H29&"" -> Isaac N Y4B | C29: Sandy Hill | D29: Isaac | E29: N | F29: Y | G29: 4 | H29: B
A30: 26 | B30: =D30&" "&E30&" "&F30&""&G30&""&H30&"" -> Jacob TV Y4B | C30: Sandy Hill | D30: Jacob | E30: TV | F30: Y | G30: 4 | H30: B
A31: 27 | B31: =D31&" "&E31&" "&F31&""&G31&""&H31&"" -> Erin Russell-Siddall Y5G | C31: Biscovey | D31: Erin | E31: Russell-Siddall | F31: Y | G31: 5 | H31: G
A32: 28 | B32: =D32&" "&E32&" "&F32&""&G32&""&H32&"" -> Ophelia Willcocks Y5G | C32: Gorran | D32: Ophelia | E32: Willcocks | F32: Y | G32: 5 | H32: G
A33: 29 | B33: =D33&" "&E33&" "&F33&""&G33&""&H33&"" -> Bea Wilder Y5G | C33: Gorran | D33: Bea | E33: Wilder | F33: Y | G33: 5 | H33: G
A34: 30 | B34: =D34&" "&E34&" "&F34&""&G34&""&H34&"" -> Demelza Vian Y5G | C34: Gorran | D34: Demelza | E34: Vian | F34: Y | G34: 5 | H34: G
A35: 31 | B35: =D35&" "&E35&" "&F35&""&G35&""&H35&"" -> Orla New Y5G | C35: Gorran | D35: Orla | E35: New | F35: Y | G35: 5 | H35: G
A36: 32 | B36: =D36&" "&E36&" "&F36&""&G36&""&H36&"" -> Isabelle Bishop Y5G | C36: Probus | D36: Isabelle | E36: Bishop | F36: Y | G36: 5 | H36: G
A37: 33 | B37: =D37&" "&E37&" "&F37&""&G37&""&H37&"" -> Layla Callaghan Y5G | C37: Probus | D37: Layla | E37: Callaghan | F37: Y | G37: 5 | H37: G
A38: 34 | B38: =D38&" "&E38&" "&F38&""&G38&""&H38&"" -> Bella Daniel Y5G | C38: St Petroc's, Bodmin | D38: Bella | E38: Daniel | F38: Y | G38: 5 | H38: G
A39: 35 | B39: =D39&" "&E39&" "&F39&""&G39&""&H39&"" -> Edith Amy Y5G | C39: St Petroc's, Bodmin | D39: Edith | E39: Amy | F39: Y | G39: 5 | H39: G
A40: 36 | B40: =D40&" "&E40&" "&F40&""&G40&""&H40&"" -> Fenella Thorne Y5G | C40: St Wenn | D40: Fenella | E40: Thorne | F40: Y | G40: 5 | H40: G
... A69: 65 | B69: =D69&" "&E69&" "&F69&""&G69&""&H69&"" -> Marcy Bushell Y6G | C69: St Wenn | D69: Marcy | E69: Bushell | F69: Y | G69: 6 | H69: G
A70: 66 | B70: =D70&" "&E70&" "&F70&""&G70&""&H70&"" -> Millie Y6G | C70: Treverbyn | D70: Millie | F70: Y | G70: 6 | H70: G
A71: 67 | B71: =D71&" "&E71&" "&F71&""&G71&""&H71&"" -> ellen s Y6G | C71: Tywardreath | D71: ellen | E71: s | F71: Y | G71: 6 | H71: G
...

Sheet Y4G
A1: NEWQUAY & PAR AC JUNIOR SCHOOLS INTER AREA CROSS COUNTRY 2026
A2: 30 March 2026
A3: Results for Year 4 Girls
A5: Pos | B5: No | C5: forename | D5: School | E5: time
A6: 1 | B6: 201 | C6: =IF(B6=0,0,VLOOKUP(B6,Register!$A$1:$B$1634,2,FALSE)) -> Millie Obrien Y4G | D6: =IF(B6=0,0,VLOOKUP(C6,Register!$B$1:$C$1634,2,FALSE)) -> Bishop Cornish | E6: 5.08
A7: 2 | B7: 314 | C7: =IF(B7=0,0,VLOOKUP(B7,Register!$A$1:$B$1634,2,FALSE)) -> Olive Charlesworth Y4G | D7: =IF(B7=0,0,VLOOKUP(C7,Register!$B$1:$C$1634,2,FALSE)) -> St Mawgan | E7: 5.17
A8: 3 | B8: 344 | C8: =IF(B8=0,0,VLOOKUP(B8,Register!$A$1:$B$1634,2,FALSE)) -> Marli Fulkner Y4G | D8: =IF(B8=0,0,VLOOKUP(C8,Register!$B$1:$C$1634,2,FALSE)) -> Newquay Junior | E8: 5.23
A9: 4 | B9: 202 | C9: =IF(B9=0,0,VLOOKUP(B9,Register!$A$1:$B$1634,2,FALSE)) -> Amelia Mullard Y4G | D9: =IF(B9=0,0,VLOOKUP(C9,Register!$B$1:$C$1634,2,FALSE)) -> Stoke Climsland | E9: 5.27
A10: 5 | B10: 353 | C10: =IF(B10=0,0,VLOOKUP(B10,Register!$A$1:$B$1634,2,FALSE)) -> Nell W Y4G | D10: =IF(B10=0,0,VLOOKUP(C10,Register!$B$1:$C$1634,2,FALSE)) -> Perranporth | E10: 5.27
A11: 6 | B11: 325 | C11: =IF(B11=0,0,VLOOKUP(B11,Register!$A$1:$B$1634,2,FALSE)) -> Isabelle Clackson Y4G | D11: =IF(B11=0,0,VLOOKUP(C11,Register!$B$1:$C$1634,2,FALSE)) -> The Bishops | E11: 5.28
A12: 7 | B12: 205 | C12: =IF(B12=0,0,VLOOKUP(B12,Register!$A$1:$B$1634,2,FALSE)) -> Senara Handford Y4G | D12: =IF(B12=0,0,VLOOKUP(C12,Register!$B$1:$C$1634,2,FALSE)) -> Stoke Climsland | E12: 5.3
A13: 8 | B13: 203 | C13: =IF(B13=0,0,VLOOKUP(B13,Register!$A$1:$B$1634,2,FALSE)) -> Lottie Gorman Y4G | D13: =IF(B13=0,0,VLOOKUP(C13,Register!$B$1:$C$1634,2,FALSE)) -> Stoke Climsland | E13: 5.36
A14: 9 | B14: 340 | C14: =IF(B14=0,0,VLOOKUP(B14,Register!$A$1:$B$1634,2,FALSE)) -> Fearne Gibson Y4G | D14: =IF(B14=0,0,VLOOKUP(C14,Register!$B$1:$C$1634,2,FALSE)) -> Newquay Junior | E14: 5.38
A15: 10 | B15: 338 | C15: =IF(B15=0,0,VLOOKUP(B15,Register!$A$1:$B$1634,2,FALSE)) -> Arlen Smith Y4G | D15: =IF(B15=0,0,VLOOKUP(C15,Register!$B$1:$C$1634,2,FALSE)) -> Newquay Junior | E15: 5.4
A16: 11 | B16: 204 | C16: =IF(B16=0,0,VLOOKUP(B16,Register!$A$1:$B$1634,2,FALSE)) -> Ella Peat Y4G | D16: =IF(B16=0,0,VLOOKUP(C16,Register!$B$1:$C$1634,2,FALSE)) -> Duloe | E16: 5.43
A17: 12 | B17: 213 | C17: =IF(B17=0,0,VLOOKUP(B17,Register!$A$1:$B$1634,2,FALSE)) -> Marnie Y4G | D17: =IF(B17=0,0,VLOOKUP(C17,Register!$B$1:$C$1634,2,FALSE)) -> Bude juniors | E17: 5.45
... A50: 45 | B50: 472 | C50: =IF(B50=0,0,VLOOKUP(B50,Register!$A$1:$B$1634,2,FALSE)) -> Elsie Y4G | D50: =IF(B50=0,0,VLOOKUP(C50,Register!$B$1:$C$1634,2,FALSE)) -> St Issey | E50: 7.06
A51: 46 | C51: Rose A | D51: Nansledan | E51: 7.1
A52: 47 | B52: 465 | C52: =IF(B52=0,0,VLOOKUP(B52,Register!$A$1:$B$1634,2,FALSE)) -> Matilda Y4G | D52: =IF(B52=0,0,VLOOKUP(C52,Register!$B$1:$C$1634,2,FALSE)) -> St Merryn | E52: 7.13
A53: 48 | B53: 474 | C53: =IF(B53=0,0,VLOOKUP(B53,Register!$A$1:$B$1634,2,FALSE)) -> Bonnie Y4G | D53: =IF(B53=0,0,VLOOKUP(C53,Register!$B$1:$C$1634,2,FALSE)) -> St Breock | E53: 7.15
A54: 49 | C54: Maya L | D54: St Merryn | E54: 7.17
A55: 50 | B55: 475 | C55: =IF(B55=0,0,VLOOKUP(B55,Register!$A$1:$B$1634,2,FALSE)) -> Elowen Y4G | D55: =IF(B55=0,0,VLOOKUP(C55,Register!$B$1:$C$1634,2,FALSE)) -> St Breock | E55: 7.22
A56: 51 | B56: 11 | C56: =IF(B56=0,0,VLOOKUP(B56,Register!$A$1:$B$1634,2,FALSE)) -> Lerryn Cayton Y4G | D56: =IF(B56=0,0,VLOOKUP(C56,Register!$B$1:$C$1634,2,FALSE)) -> Tywardreath | E56: 7.39
A57: 52 | B57: 10 | C57: =IF(B57=0,0,VLOOKUP(B57,Register!$A$1:$B$1634,2,FALSE)) -> Elowen Rees Y4G | D57: =IF(B57=0,0,VLOOKUP(C57,Register!$B$1:$C$1634,2,FALSE)) -> Tywardreath | E57: 7.39
A58: 53 | B58: 114 | C58: =IF(B58=0,0,VLOOKUP(B58,Register!$A$1:$B$1634,2,FALSE)) -> Hannah Y4G | D58: =IF(B58=0,0,VLOOKUP(C58,Register!$B$1:$C$1634,2,FALSE)) -> Carclaze | E58: 7.43
A59: 54 | B59: 9 | C59: =IF(B59=0,0,VLOOKUP(B59,Register!$A$1:$B$1634,2,FALSE)) -> Elodie Harman Y4G | D59: =IF(B59=0,0,VLOOKUP(C59,Register!$B$1:$C$1634,2,FALSE)) -> Tywardreath | E59: 7.47
A60: 55 | B60: 3 | C60: =IF(B60=0,0,VLOOKUP(B60,Register!$A$1:$B$1634,2,FALSE)) -> Brooklyn Hovell Y4G | D60: =IF(B60=0,0,VLOOKUP(C60,Register!$B$1:$C$1634,2,FALSE)) -> Gorran | E60: 7.55
A61: 56 | B61: 1 | C61: =IF(B61=0,0,VLOOKUP(B61,Register!$A$1:$B$1634,2,FALSE)) -> Luna Brown Y4G | D61: =IF(B61=0,0,VLOOKUP(C61,Register!$B$1:$C$1634,2,FALSE)) -> Gorran | E61: 8.01
A62: 57 | C62: =IF(B62=0,0,VLOOKUP(B62,Register!$A$1:$B$1634,2,FALSE)) -> 0 | D62: =IF(B62=0,0,VLOOKUP(C62,Register!$B$1:$C$1634,2,FALSE)) -> 0
A63: 58 | C63: =IF(B63=0,0,VLOOKUP(B63,Register!$A$1:$B$1634,2,FALSE)) -> 0 | D63: =IF(B63=0,0,VLOOKUP(C63,Register!$B$1:$C$1634,2,FALSE)) -> 0
A64: 59 | C64: =IF(B64=0,0,VLOOKUP(B64,Register!$A$1:$B$1634,2,FALSE)) -> 0 | D64: =IF(B64=0,0,VLOOKUP(C64,Register!$B$1:$C$1634,2,FALSE)) -> 0
A65: 60 | C65: =IF(B65=0,0,VLOOKUP(B65,Register!$A$1:$B$1634,2,FALSE)) -> 0 | D65: =IF(B65=0,0,VLOOKUP(C65,Register!$B$1:$C$1634,2,FALSE)) -> 0
A66: 61 | C66: =IF(B66=0,0,VLOOKUP(B66,Register!$A$1:$B$1634,2,FALSE)) -> 0 | D66: =IF(B66=0,0,VLOOKUP(C66,Register!$B$1:$C$1634,2,FALSE)) -> 0
A67: 62 | C67: =IF(B67=0,0,VLOOKUP(B67,Register!$A$1:$B$1634,2,FALSE)) -> 0 | D67: =IF(B67=0,0,VLOOKUP(C67,Register!$B$1:$C$1634,2,FALSE)) -> 0
A68: 63 | C68: =IF(B68=0,0,VLOOKUP(B68,Register!$A$1:$B$1634,2,FALSE)) -> 0 | D68: =IF(B68=0,0,VLOOKUP(C68,Register!$B$1:$C$1634,2,FALSE)) -> 0
A69: 64 | C69: =IF(B69=0,0,VLOOKUP(B69,Register!$A$1:$B$1634,2,FALSE)) -> 0 | D69: =IF(B69=0,0,VLOOKUP(C69,Register!$B$1:$C$1634,2,FALSE)) -> 0
A70: 65 | C70: =IF(B70=0,0,VLOOKUP(B70,Register!$A$1:$B$1634,2,FALSE)) -> 0 | D70: =IF(B70=0,0,VLOOKUP(C70,Register!$B$1:$C$1634,2,FALSE)) -> 0
A71: 66 | C71: =IF(B71=0,0,VLOOKUP(B71,Register!$A$1:$B$1634,2,FALSE)) -> 0 | D71: =IF(B71=0,0,VLOOKUP(C71,Register!$B$1:$C$1634,2,FALSE)) -> 0
A72: 67 | C72: =IF(B72=0,0,VLOOKUP(B72,Register!$A$1:$B$1634,2,FALSE)) -> 0 | D72: =IF(B72=0,0,VLOOKUP(C72,Register!$B$1:$C$1634,2,FALSE)) -> 0
A73: 68 | C73: =IF(B73=0,0,VLOOKUP(B73,Register!$A$1:$B$1634,2,FALSE)) -> 0 | D73: =IF(B73=0,0,VLOOKUP(C73,Register!$B$1:$C$1634,2,FALSE)) -> 0
...

Sheet Y4B
A1: NEWQUAY & PAR AC JUNIOR SCHOOLS INTER AREA CROSS COUNTRY 2026
A2: 30 March 2026
A3: Results for Year 4 Boys
A5: Pos | B5: No | C5: forename | D5: School | E5: time
A6: 1 | B6: 229 | C6: =IF(B6=0,0,VLOOKUP(B6,Register!$A$1:$B$1634,2,FALSE)) -> Harry Y4B | D6: =IF(B6=0,0,VLOOKUP(C6,Register!$B$1:$C$1634,2,FALSE)) -> Bude juniors | E6: 4.57
A7: 2 | B7: 357 | C7: =IF(B7=0,0,VLOOKUP(B7,Register!$A$1:$B$1634,2,FALSE)) -> Max Langton Y4B | D7: =IF(B7=0,0,VLOOKUP(C7,Register!$B$1:$C$1634,2,FALSE)) -> St Columb Major | E7: 5.03
A8: 3 | B8: 216 | C8: =IF(B8=0,0,VLOOKUP(B8,Register!$A$1:$B$1634,2,FALSE)) -> Jack Saunderson Y4B | D8: =IF(B8=0,0,VLOOKUP(C8,Register!$B$1:$C$1634,2,FALSE)) -> Antony | E8: 5.08
A9: 4 | B9: 455 | C9: =IF(B9=0,0,VLOOKUP(B9,Register!$A$1:$B$1634,2,FALSE)) -> Albi Y4B | D9: =IF(B9=0,0,VLOOKUP(C9,Register!$B$1:$C$1634,2,FALSE)) -> St Merryn | E9: 5.12
A10: 5 | B10: 456 | C10: =IF(B10=0,0,VLOOKUP(B10,Register!$A$1:$B$1634,2,FALSE)) -> Louis Y4B | D10: =IF(B10=0,0,VLOOKUP(C10,Register!$B$1:$C$1634,2,FALSE)) -> Tintagel | E10: 5.14
A11: 6 | B11: 321 | C11: =IF(B11=0,0,VLOOKUP(B11,Register!$A$1:$B$1634,2,FALSE)) -> Theo Ringrose Y4B | D11: =IF(B11=0,0,VLOOKUP(C11,Register!$B$1:$C$1634,2,FALSE)) -> Cubert School | E11: 5.17
A12: 7 | B12: 323 | C12: =IF(B12=0,0,VLOOKUP(B12,Register!$A$1:$B$1634,2,FALSE)) -> Roo Hooper Y4B | D12: =IF(B12=0,0,VLOOKUP(C12,Register!$B$1:$C$1634,2,FALSE)) -> Cubert School | E12: 5.18
A13: 8 | B13: 458 | C13: =IF(B13=0,0,VLOOKUP(B13,Register!$A$1:$B$1634,2,FALSE)) -> Mac Y4B | D13: =IF(B13=0,0,VLOOKUP(C13,Register!$B$1:$C$1634,2,FALSE)) -> Padstow | E13: 5.19
A14: 9 | B14: 224 | C14: =IF(B14=0,0,VLOOKUP(B14,Register!$A$1:$B$1634,2,FALSE)) -> Eric Y4B | D14: =IF(B14=0,0,VLOOKUP(C14,Register!$B$1:$C$1634,2,FALSE)) -> Tintagel | E14: 5.21
A15: 10 | B15: 348 | C15: =IF(B15=0,0,VLOOKUP(B15,Register!$A$1:$B$1634,2,FALSE)) -> Albert Parker Y4B | D15: =IF(B15=0,0,VLOOKUP(C15,Register!$B$1:$C$1634,2,FALSE)) -> Newquay Junior | E15: 5.21
A16: 11 | B16: 220 | C16: =IF(B16=0,0,VLOOKUP(B16,Register!$A$1:$B$1634,2,FALSE)) -> Dempsey Ingleby Y4B | D16: =IF(B16=0,0,VLOOKUP(C16,Register!$B$1:$C$1634,2,FALSE)) -> Bishop Cornish | E16: 5.23
A17: 12 | C17: Sam L | D17: St Cleer | E17: 5.23
A18: 13 | B18: 218 | C18: =IF(B18=0,0,VLOOKUP(B18,Register!$A$1:$B$1634,2,FALSE)) -> Nico Flood Y4B | D18: =IF(B18=0,0,VLOOKUP(C18,Register!$B$1:$C$1634,2,FALSE)) -> Carbeile | E18: 5.28
A19: 14 | B19: 345 | C19: =IF(B19=0,0,VLOOKUP(B19,Register!$A$1:$B$1634,2,FALSE)) -> Boo Woodward Y4B | D19: =IF(B19=0,0,VLOOKUP(C19,Register!$B$1:$C$1634,2,FALSE)) -> Newquay Junior | E19: 5.3
A20: 15 | B20: 354 | C20: =IF(B20=0,0,VLOOKUP(B20,Register!$A$1:$B$1634,2,FALSE)) -> Jude Lane Y4B | D20: =IF(B20=0,0,VLOOKUP(C20,Register!$B$1:$C$1634,2,FALSE)) -> Perranporth | E20: 5.32
A21: 16 | B21: 347 | C21: =IF(B21=0,0,VLOOKUP(B21,Register!$A$1:$B$1634,2,FALSE)) -> Sonny Sherston Baker Y4B | D21: =IF(B21=0,0,VLOOKUP(C21,Register!$B$1:$C$1634,2,FALSE)) -> Newquay Junior | E21: 5.32
A22: 17 | B22: 226 | C22: =IF(B22=0,0,VLOOKUP(B22,Register!$A$1:$B$1634,2,FALSE)) -> Benjamin Davies Y4B | D22: =IF(B22=0,0,VLOOKUP(C22,Register!$B$1:$C$1634,2,FALSE)) -> Duloe | E22: 5.33
A23: 18 | B23: 221 | C23: =IF(B23=0,0,VLOOKUP(B23,Register!$A$1:$B$1634,2,FALSE)) -> Leo George Y4B | D23: =IF(B23=0,0,VLOOKUP(C23,Register!$B$1:$C$1634,2,FALSE)) -> Dobwalls | E23: 5.34
A24: 19 | B24: 324 | C24: =IF(B24=0,0,VLOOKUP(B24,Register!$A$1:$B$1634,2,FALSE)) -> Marley Jennings Y4B | D24: =IF(B24=0,0,VLOOKUP(C24,Register!$B$1:$C$1634,2,FALSE)) -> Cubert School | E24: 5.35
A25: 20 | B25: 25 | C25: =IF(B25=0,0,VLOOKUP(B25,Register!$A$1:$B$1634,2,FALSE)) -> Isaac N Y4B | D25: =IF(B25=0,0,VLOOKUP(C25,Register!$B$1:$C$1634,2,FALSE)) -> Sandy Hill | E25: 5.35
A26: 21 | B26: 350 | C26: =IF(B26=0,0,VLOOKUP(B26,Register!$A$1:$B$1634,2,FALSE)) -> Leo Ashworth Y4B | D26: =IF(B26=0,0,VLOOKUP(C26,Register!$B$1:$C$1634,2,FALSE)) -> Newquay Junior | E26: 5.35
A27: 22 | B27: 358 | C27: =IF(B27=0,0,VLOOKUP(B27,Register!$A$1:$B$1634,2,FALSE)) -> Kit Roberts Y4B | D27: =IF(B27=0,0,VLOOKUP(C27,Register!$B$1:$C$1634,2,FALSE)) -> St Columb Major | E27: 5.37
A28: 23 | B28: 14 | C28: =IF(B28=0,0,VLOOKUP(B28,Register!$A$1:$B$1634,2,FALSE)) -> Finley Thomas Y4B | D28: =IF(B28=0,0,VLOOKUP(C28,Register!$B$1:$C$1634,2,FALSE)) -> Biscovey | E28: 5.37
A29: 24 | B29: 330 | C29: =IF(B29=0,0,VLOOKUP(B29,Register!$A$1:$B$1634,2,FALSE)) -> Bohdi Henwood Y4B | D29: =IF(B29=0,0,VLOOKUP(C29,Register!$B$1:$C$1634,2,FALSE)) -> Nansledan | E29: 5.39
... A70: 65 | B70: 21 | C70: =IF(B70=0,0,VLOOKUP(B70,Register!$A$1:$B$1634,2,FALSE)) -> Jasper Teague Y4B | D70: =IF(B70=0,0,VLOOKUP(C70,Register!$B$1:$C$1634,2,FALSE)) -> Gorran | E70: 9.1
A71: 66 | C71: =IF(B71=0,0,VLOOKUP(B71,Register!$A$1:$B$1634,2,FALSE)) -> 0 | D71: =IF(B71=0,0,VLOOKUP(C71,Register!$B$1:$C$1634,2,FALSE)) -> 0
A72: 67 | C72: =IF(B72=0,0,VLOOKUP(B72,Register!$A$1:$B$1634,2,FALSE)) -> 0 | D72: =IF(B72=0,0,VLOOKUP(C72,Register!$B$1:$C$1634,2,FALSE)) -> 0
A73: 68 | C73: =IF(B73=0,0,VLOOKUP(B73,Register!$A$1:$B$1634,2,FALSE)) -> 0 | D73: =IF(B73=0,0,VLOOKUP(C73,Register!$B$1:$C$1634,2,FALSE)) -> 0
A74: 69 | C74: =IF(B74=0,0,VLOOKUP(B74,Register!$A$1:$B$1634,2,FALSE)) -> 0 | D74: =IF(B74=0,0,VLOOKUP(C74,Register!$B$1:$C$1634,2,FALSE)) -> 0
A75: 70 | C75: =IF(B75=0,0,VLOOKUP(B75,Register!$A$1:$B$1634,2,FALSE)) -> 0 | D75: =IF(B75=0,0,VLOOKUP(C75,Register!$B$1:$C$1634,2,FALSE)) -> 0
A76: 71 | C76: =IF(B76=0,0,VLOOKUP(B76,Register!$A$1:$B$1634,2,FALSE)) -> 0 | D76: =IF(B76=0,0,VLOOKUP(C76,Register!$B$1:$C$1634,2,FALSE)) -> 0
A77: 72 | C77: =IF(B77=0,0,VLOOKUP(B77,Register!$A$1:$B$1634,2,FALSE)) -> 0 | D77: =IF(B77=0,0,VLOOKUP(C77,Register!$B$1:$C$1634,2,FALSE)) -> 0
A78: 73 | C78: =IF(B78=0,0,VLOOKUP(B78,Register!$A$1:$B$1634,2,FALSE)) -> 0 | D78: =IF(B78=0,0,VLOOKUP(C78,Register!$B$1:$C$1634,2,FALSE)) -> 0
A79: 74 | C79: =IF(B79=0,0,VLOOKUP(B79,Register!$A$1:$B$1634,2,FALSE)) -> 0 | D79: =IF(B79=0,0,VLOOKUP(C79,Register!$B$1:$C$1634,2,FALSE)) -> 0
A80: 75 | C80: =IF(B80=0,0,VLOOKUP(B80,Register!$A$1:$B$1634,2,FALSE)) -> 0 | D80: =IF(B80=0,0,VLOOKUP(C80,Register!$B$1:$C$1634,2,FALSE)) -> 0
A81: 76 | C81: =IF(B81=0,0,VLOOKUP(B81,Register!$A$1:$B$1634,2,FALSE)) -> 0 | D81: =IF(B81=0,0,VLOOKUP(C81,Register!$B$1:$C$1634,2,FALSE)) -> 0
...

Sheet Y5G
A1: NEWQUAY & PAR AC JUNIOR SCHOOLS INTER AREA CROSS COUNTRY 2026
A2: 30 March 2026
A3: Results for Year 5 Girls
A5: Pos | B5: No | C5: forename | D5: School | E5: time
A6: 1 | B6: 487 | C6: =IF(B6=0,0,VLOOKUP(B6,Register!$A$1:$B$1634,2,FALSE)) -> Freya Y5G | D6: =IF(B6=0,0,VLOOKUP(C6,Register!$B$1:$C$1634,2,FALSE)) -> St Breock | E6: 6.35
A7: 2 | B7: 488 | C7: =IF(B7=0,0,VLOOKUP(B7,Register!$A$1:$B$1634,2,FALSE)) -> Maple Y5G | D7: =IF(B7=0,0,VLOOKUP(C7,Register!$B$1:$C$1634,2,FALSE)) -> St Minver | E7: 6.51
A8: 3 | B8: 397 | C8: =IF(B8=0,0,VLOOKUP(B8,Register!$A$1:$B$1634,2,FALSE)) -> Emily Evers Y5G | D8: =IF(B8=0,0,VLOOKUP(C8,Register!$B$1:$C$1634,2,FALSE)) -> Newquay Junior | E8: 7
A9: 4 | B9: 369 | C9: =IF(B9=0,0,VLOOKUP(B9,Register!$A$1:$B$1634,2,FALSE)) -> Hariet Dalley Y5G | D9: =IF(B9=0,0,VLOOKUP(C9,Register!$B$1:$C$1634,2,FALSE)) -> St Mawgan | E9: 7.03
A10: 5 | B10: 232 | C10: =IF(B10=0,0,VLOOKUP(B10,Register!$A$1:$B$1634,2,FALSE)) -> Faye Nottle Y5G | D10: =IF(B10=0,0,VLOOKUP(C10,Register!$B$1:$C$1634,2,FALSE)) -> Upton Cross | E10: 7.08
A11: 6 | B11: 360 | C11: =IF(B11=0,0,VLOOKUP(B11,Register!$A$1:$B$1634,2,FALSE)) -> Bella Briley Y5G | D11: =IF(B11=0,0,VLOOKUP(C11,Register!$B$1:$C$1634,2,FALSE)) -> St Columb Minor | E11: 7.08
A12: 7 | B12: 31 | C12: =IF(B12=0,0,VLOOKUP(B12,Register!$A$1:$B$1634,2,FALSE)) -> Orla New Y5G | D12: =IF(B12=0,0,VLOOKUP(C12,Register!$B$1:$C$1634,2,FALSE)) -> Gorran | E12: 7.11
A13: 8 | B13: 28 | C13: =IF(B13=0,0,VLOOKUP(B13,Register!$A$1:$B$1634,2,FALSE)) -> Ophelia Willcocks Y5G | D13: =IF(B13=0,0,VLOOKUP(C13,Register!$B$1:$C$1634,2,FALSE)) -> Gorran | E13: 7.17
A14: 9 | B14: 122 | C14: =IF(B14=0,0,VLOOKUP(B14,Register!$A$1:$B$1634,2,FALSE)) -> Charlotte B Y5G | D14: =IF(B14=0,0,VLOOKUP(C14,Register!$B$1:$C$1634,2,FALSE)) -> St Mewan | E14: 7.22
A15: 10 | B15: 32 | C15: =IF(B15=0,0,VLOOKUP(B15,Register!$A$1:$B$1634,2,FALSE)) -> Isabelle Bishop Y5G | D15: =IF(B15=0,0,VLOOKUP(C15,Register!$B$1:$C$1634,2,FALSE)) -> Probus | E15: 7.23
A16: 11 | B16: 233 | C16: =IF(B16=0,0,VLOOKUP(B16,Register!$A$1:$B$1634,2,FALSE)) -> Flora Turnbell Y5G | D16: =IF(B16=0,0,VLOOKUP(C16,Register!$B$1:$C$1634,2,FALSE)) -> Polperro | E16: 7.23
A17: 12 | B17: 244 | C17: =IF(B17=0,0,VLOOKUP(B17,Register!$A$1:$B$1634,2,FALSE)) -> Evie Y5G | D17: =IF(B17=0,0,VLOOKUP(C17,Register!$B$1:$C$1634,2,FALSE)) -> Marhamchurch | E17: 7.24
... A34: 29 | B34: 491 | C34: =IF(B34=0,0,VLOOKUP(B34,Register!$A$1:$B$1634,2,FALSE)) -> Juno Y5G | D34: =IF(B34=0,0,VLOOKUP(C34,Register!$B$1:$C$1634,2,FALSE)) -> St Kew | E34: 8.02
A35: 30 | C35: Ruby | D35: Pondhu | E35: 8.02
A36: 31 | B36: 39 | C36: =IF(B36=0,0,VLOOKUP(B36,Register!$A$1:$B$1634,2,FALSE)) -> tegan b Y5G | D36: =IF(B36=0,0,VLOOKUP(C36,Register!$B$1:$C$1634,2,FALSE)) -> Tywardreath | E36: 8.05
A37: 32 | B37: 396 | C37: =IF(B37=0,0,VLOOKUP(B37,Register!$A$1:$B$1634,2,FALSE)) -> Amy Davis Y5G | D37: =IF(B37=0,0,VLOOKUP(C37,Register!$B$1:$C$1634,2,FALSE)) -> Newquay Junior | E37: 8.05
A38: 33 | B38: 405 | C38: =IF(B38=0,0,VLOOKUP(B38,Register!$A$1:$B$1634,2,FALSE)) -> Eliza Y5G | D38: =IF(B38=0,0,VLOOKUP(C38,Register!$B$1:$C$1634,2,FALSE)) -> Perranporth | E38: 8.07
A39: 34 | B39: 40 | C39: =IF(B39=0,0,VLOOKUP(B39,Register!$A$1:$B$1634,2,FALSE)) -> hallie j Y5G | D39: =IF(B39=0,0,VLOOKUP(C39,Register!$B$1:$C$1634,2,FALSE)) -> Tywardreath | E39: 8.09
A40: 35 | B40: 492 | C40: =IF(B40=0,0,VLOOKUP(B40,Register!$A$1:$B$1634,2,FALSE)) -> Indi Y5G | D40: =IF(B40=0,0,VLOOKUP(C40,Register!$B$1:$C$1634,2,FALSE)) -> St Merryn | E40: 8.13
A41: 36 | B41: 373 | C41: =IF(B41=0,0,VLOOKUP(B41,Register!$A$1:$B$1634,2,FALSE)) -> Maddie Old Y5G | D41: =IF(B41=0,0,VLOOKUP(C41,Register!$B$1:$C$1634,2,FALSE)) -> Cubert School | E41: 8.14
A42: 37 | B42: 41 | C42: =IF(B42=0,0,VLOOKUP(B42,Register!$A$1:$B$1634,2,FALSE)) -> elowen s Y5G | D42: =IF(B42=0,0,VLOOKUP(C42,Register!$B$1:$C$1634,2,FALSE)) -> Tywardreath | E42: 8.15
A43: 38 | B43: 412 | C43: =IF(B43=0,0,VLOOKUP(B43,Register!$A$1:$B$1634,2,FALSE)) -> Lottie Lingard Y5G | D43: =IF(B43=0,0,VLOOKUP(C43,Register!$B$1:$C$1634,2,FALSE)) -> St Columb Major | E43: 8.19
A44: 39 | B44: 238 | C44: =IF(B44=0,0,VLOOKUP(B44,Register!$A$1:$B$1634,2,FALSE)) -> Ellie Gorman Y5G | D44: =IF(B44=0,0,VLOOKUP(C44,Register!$B$1:$C$1634,2,FALSE)) -> Stoke Climsland | E44: 8.21
A45: 40 | B45: 374 | C45: =IF(B45=0,0,VLOOKUP(B45,Register!$A$1:$B$1634,2,FALSE)) -> Flora Ringrose Y5G | D45: =IF(B45=0,0,VLOOKUP(C45,Register!$B$1:$C$1634,2,FALSE)) -> Cubert School | E45: 8.21
A46: 41 | B46: 371 | C46: =IF(B46=0,0,VLOOKUP(B46,Register!$A$1:$B$1634,2,FALSE)) -> Iona Beale Y5G | D46: =IF(B46=0,0,VLOOKUP(C46,Register!$B$1:$C$1634,2,FALSE)) -> St Mawgan | E46: 8.22
A47: 42 | B47: 242 | C47: =IF(B47=0,0,VLOOKUP(B47,Register!$A$1:$B$1634,2,FALSE)) -> Isla R Y5G | D47: =IF(B47=0,0,VLOOKUP(C47,Register!$B$1:$C$1634,2,FALSE)) -> lewannick | E47: 8.23
... A59: 54 | B59: 126 | C59: =IF(B59=0,0,VLOOKUP(B59,Register!$A$1:$B$1634,2,FALSE)) -> Olivia R Y5G | D59: =IF(B59=0,0,VLOOKUP(C59,Register!$B$1:$C$1634,2,FALSE)) -> Pondhu | E59: 9.57
A60: 55 | C60: =IF(B60=0,0,VLOOKUP(B60,Register!$A$1:$B$1634,2,FALSE)) -> 0 | D60: =IF(B60=0,0,VLOOKUP(C60,Register!$B$1:$C$1634,2,FALSE)) -> 0
A61: 56 | C61: =IF(B61=0,0,VLOOKUP(B61,Register!$A$1:$B$1634,2,FALSE)) -> 0 | D61: =IF(B61=0,0,VLOOKUP(C61,Register!$B$1:$C$1634,2,FALSE)) -> 0
A62: 57 | C62: =IF(B62=0,0,VLOOKUP(B62,Register!$A$1:$B$1634,2,FALSE)) -> 0 | D62: =IF(B62=0,0,VLOOKUP(C62,Register!$B$1:$C$1634,2,FALSE)) -> 0
A63: 58 | C63: =IF(B63=0,0,VLOOKUP(B63,Register!$A$1:$B$1634,2,FALSE)) -> 0 | D63: =IF(B63=0,0,VLOOKUP(C63,Register!$B$1:$C$1634,2,FALSE)) -> 0
A64: 59 | C64: =IF(B64=0,0,VLOOKUP(B64,Register!$A$1:$B$1634,2,FALSE)) -> 0 | D64: =IF(B64=0,0,VLOOKUP(C64,Register!$B$1:$C$1634,2,FALSE)) -> 0
A65: 60 | C65: =IF(B65=0,0,VLOOKUP(B65,Register!$A$1:$B$1634,2,FALSE)) -> 0 | D65: =IF(B65=0,0,VLOOKUP(C65,Register!$B$1:$C$1634,2,FALSE)) -> 0
A66: 61 | C66: =IF(B66=0,0,VLOOKUP(B66,Register!$A$1:$B$1634,2,FALSE)) -> 0 | D66: =IF(B66=0,0,VLOOKUP(C66,Register!$B$1:$C$1634,2,FALSE)) -> 0
A67: 62 | C67: =IF(B67=0,0,VLOOKUP(B67,Register!$A$1:$B$1634,2,FALSE)) -> 0 | D67: =IF(B67=0,0,VLOOKUP(C67,Register!$B$1:$C$1634,2,FALSE)) -> 0
A68: 63 | C68: =IF(B68=0,0,VLOOKUP(B68,Register!$A$1:$B$1634,2,FALSE)) -> 0 | D68: =IF(B68=0,0,VLOOKUP(C68,Register!$B$1:$C$1634,2,FALSE)) -> 0
...

Sheet Y5B
A1: NEWQUAY & PAR AC JUNIOR SCHOOLS INTER AREA CROSS COUNTRY 2026
A2: 30 March 2026
A3: Results for Year 5 Boys
A5: Pos | B5: No | C5: forename | D5: School | E5: time
A6: 1 | B6: 53 | C6: =IF(B6=0,0,VLOOKUP(B6,Register!$A$1:$B$1634,2,FALSE)) -> Oscar Riches Y5B | D6: =IF(B6=0,0,VLOOKUP(C6,Register!$B$1:$C$1634,2,FALSE)) -> St Petroc's, Bodmin | E6: 6.07
A7: 2 | B7: 255 | C7: =IF(B7=0,0,VLOOKUP(B7,Register!$A$1:$B$1634,2,FALSE)) -> Albie Y5B | D7: =IF(B7=0,0,VLOOKUP(C7,Register!$B$1:$C$1634,2,FALSE)) -> St Teath | E7: 6.1
A8: 3 | B8: 375 | C8: =IF(B8=0,0,VLOOKUP(B8,Register!$A$1:$B$1634,2,FALSE)) -> Noah Tildesley Y5B | D8: =IF(B8=0,0,VLOOKUP(C8,Register!$B$1:$C$1634,2,FALSE)) -> Cubert School | E8: 6.15
A9: 4 | B9: 46 | C9: =IF(B9=0,0,VLOOKUP(B9,Register!$A$1:$B$1634,2,FALSE)) -> George M Y5B | D9: =IF(B9=0,0,VLOOKUP(C9,Register!$B$1:$C$1634,2,FALSE)) -> Ladock CE School | E9: 6.15
A10: 5 | B10: 56 | C10: =IF(B10=0,0,VLOOKUP(B10,Register!$A$1:$B$1634,2,FALSE)) -> Jacob B Y5B | D10: =IF(B10=0,0,VLOOKUP(C10,Register!$B$1:$C$1634,2,FALSE)) -> Sandy Hill | E10: 6.25
A11: 6 | B11: 248 | C11: =IF(B11=0,0,VLOOKUP(B11,Register!$A$1:$B$1634,2,FALSE)) -> Cameron Edwards Y5B | D11: =IF(B11=0,0,VLOOKUP(C11,Register!$B$1:$C$1634,2,FALSE)) -> Burraton | E11: 6.25
A12: 7 | B12: 381 | C12: =IF(B12=0,0,VLOOKUP(B12,Register!$A$1:$B$1634,2,FALSE)) -> Javier Marks Y5B | D12: =IF(B12=0,0,VLOOKUP(C12,Register!$B$1:$C$1634,2,FALSE)) -> The Bishops | E12: 6.25
A13: 8 | B13: 43 | C13: =IF(B13=0,0,VLOOKUP(B13,Register!$A$1:$B$1634,2,FALSE)) -> Chaice Eaton Y5B | D13: =IF(B13=0,0,VLOOKUP(C13,Register!$B$1:$C$1634,2,FALSE)) -> Biscovey | E13: 6.28
A14: 9 | B14: 249 | C14: =IF(B14=0,0,VLOOKUP(B14,Register!$A$1:$B$1634,2,FALSE)) -> Tom Davey Y5B | D14: =IF(B14=0,0,VLOOKUP(C14,Register!$B$1:$C$1634,2,FALSE)) -> Brunel | E14: 6.3
A15: 10 | B15: 407 | C15: =IF(B15=0,0,VLOOKUP(B15,Register!$A$1:$B$1634,2,FALSE)) -> Rory Lane Y5B | D15: =IF(B15=0,0,VLOOKUP(C15,Register!$B$1:$C$1634,2,FALSE)) -> Perranporth | E15: 6.31
A16: 11 | B16: 47 | C16: =IF(B16=0,0,VLOOKUP(B16,Register!$A$1:$B$1634,2,FALSE)) -> Finley D Y5B | D16: =IF(B16=0,0,VLOOKUP(C16,Register!$B$1:$C$1634,2,FALSE)) -> Ladock CE School | E16: 6.37
A17: 12 | B17: 57 | C17: =IF(B17=0,0,VLOOKUP(B17,Register!$A$1:$B$1634,2,FALSE)) -> Casyden Durnin Y5B | D17: =IF(B17=0,0,VLOOKUP(C17,Register!$B$1:$C$1634,2,FALSE)) -> St Stephen in Brannell | E17: 6.4
... A48: 43 | B48: 55 | C48: =IF(B48=0,0,VLOOKUP(B48,Register!$A$1:$B$1634,2,FALSE)) -> teddy l Y5B | D48: =IF(B48=0,0,VLOOKUP(C48,Register!$B$1:$C$1634,2,FALSE)) -> Tywardreath | E48: 7.24
A49: 44 | C49: Jackson | D49: Mawgan in pydar | E49: 7.3
A50: 45 | B50: 118 | C50: =IF(B50=0,0,VLOOKUP(B50,Register!$A$1:$B$1634,2,FALSE)) -> Arthur M Y5B | D50: =IF(B50=0,0,VLOOKUP(C50,Register!$B$1:$C$1634,2,FALSE)) -> St Mewan | E50: 7.31
A51: 46 | B51: 45 | C51: =IF(B51=0,0,VLOOKUP(B51,Register!$A$1:$B$1634,2,FALSE)) -> Charlie Cooper Y5B | D51: =IF(B51=0,0,VLOOKUP(C51,Register!$B$1:$C$1634,2,FALSE)) -> Biscovey | E51: 7.4
A52: 47 | B52: 406 | C52: =IF(B52=0,0,VLOOKUP(B52,Register!$A$1:$B$1634,2,FALSE)) -> Harry Webster Y5B | D52: =IF(B52=0,0,VLOOKUP(C52,Register!$B$1:$C$1634,2,FALSE)) -> Perranporth | E52: 7.41
A53: 48 | B53: 364 | C53: =IF(B53=0,0,VLOOKUP(B53,Register!$A$1:$B$1634,2,FALSE)) -> Tristan Downing Y5B | D53: =IF(B53=0,0,VLOOKUP(C53,Register!$B$1:$C$1634,2,FALSE)) -> St Columb Minor | E53: 7.42
A54: 49 | B54: 58 | C54: =IF(B54=0,0,VLOOKUP(B54,Register!$A$1:$B$1634,2,FALSE)) -> Elias Cann Y5B | D54: =IF(B54=0,0,VLOOKUP(C54,Register!$B$1:$C$1634,2,FALSE)) -> St Stephen in Brannell | E54: 7.47
A55: 50 | B55: 121 | C55: =IF(B55=0,0,VLOOKUP(B55,Register!$A$1:$B$1634,2,FALSE)) -> Piran W Y5B | D55: =IF(B55=0,0,VLOOKUP(C55,Register!$B$1:$C$1634,2,FALSE)) -> Mevagissey | E55: 7.48
A56: 51 | B56: 483 | C56: =IF(B56=0,0,VLOOKUP(B56,Register!$A$1:$B$1634,2,FALSE)) -> Ellis Y5B | D56: =IF(B56=0,0,VLOOKUP(C56,Register!$B$1:$C$1634,2,FALSE)) -> Wadebridge | E56: 7.49
A57: 52 | B57: 485 | C57: =IF(B57=0,0,VLOOKUP(B57,Register!$A$1:$B$1634,2,FALSE)) -> Stanley Y5B | D57: =IF(B57=0,0,VLOOKUP(C57,Register!$B$1:$C$1634,2,FALSE)) -> Wadebridge | E57: 7.49
A58: 53 | B58: 377 | C58: =IF(B58=0,0,VLOOKUP(B58,Register!$A$1:$B$1634,2,FALSE)) -> Jessie Price Y5B | D58: =IF(B58=0,0,VLOOKUP(C58,Register!$B$1:$C$1634,2,FALSE)) -> Cubert School | E58: 7.49
A59: 54 | B59: 120 | C59: =IF(B59=0,0,VLOOKUP(B59,Register!$A$1:$B$1634,2,FALSE)) -> Iya M Y5B | D59: =IF(B59=0,0,VLOOKUP(C59,Register!$B$1:$C$1634,2,FALSE)) -> Luxulyan | E59: 8.04
A60: 55 | B60: 417 | C60: =IF(B60=0,0,VLOOKUP(B60,Register!$A$1:$B$1634,2,FALSE)) -> Will Y5B | D60: =IF(B60=0,0,VLOOKUP(C60,Register!$B$1:$C$1634,2,FALSE)) -> St Columb Major | E60: 8.36
A61: 56 | B61: 486 | C61: =IF(B61=0,0,VLOOKUP(B61,Register!$A$1:$B$1634,2,FALSE)) -> Rex Y5B | D61: =IF(B61=0,0,VLOOKUP(C61,Register!$B$1:$C$1634,2,FALSE)) -> St Breock | E61: 9.09
A62: 57 | C62: No Recorded - disk missing! | D62: =IF(B62=0,0,VLOOKUP(C62,Register!$B$1:$C$1634,2,FALSE)) -> 0 | E62: 9.11
A63: 58 | C63: =IF(B63=0,0,VLOOKUP(B63,Register!$A$1:$B$1634,2,FALSE)) -> 0 | D63: =IF(B63=0,0,VLOOKUP(C63,Register!$B$1:$C$1634,2,FALSE)) -> 0
A64: 59 | C64: =IF(B64=0,0,VLOOKUP(B64,Register!$A$1:$B$1634,2,FALSE)) -> 0 | D64: =IF(B64=0,0,VLOOKUP(C64,Register!$B$1:$C$1634,2,FALSE)) -> 0
A65: 60 | C65: =IF(B65=0,0,VLOOKUP(B65,Register!$A$1:$B$1634,2,FALSE)) -> 0 | D65: =IF(B65=0,0,VLOOKUP(C65,Register!$B$1:$C$1634,2,FALSE)) -> 0
A66: 61 | C66: =IF(B66=0,0,VLOOKUP(B66,Register!$A$1:$B$1634,2,FALSE)) -> 0 | D66: =IF(B66=0,0,VLOOKUP(C66,Register!$B$1:$C$1634,2,FALSE)) -> 0
A67: 62 | C67: =IF(B67=0,0,VLOOKUP(B67,Register!$A$1:$B$1634,2,FALSE)) -> 0 | D67: =IF(B67=0,0,VLOOKUP(C67,Register!$B$1:$C$1634,2,FALSE)) -> 0
A68: 63 | C68: =IF(B68=0,0,VLOOKUP(B68,Register!$A$1:$B$1634,2,FALSE)) -> 0 | D68: =IF(B68=0,0,VLOOKUP(C68,Register!$B$1:$C$1634,2,FALSE)) -> 0
A69: 64 | C69: =IF(B69=0,0,VLOOKUP(B69,Register!$A$1:$B$1634,2,FALSE)) -> 0 | D69: =IF(B69=0,0,VLOOKUP(C69,Register!$B$1:$C$1634,2,FALSE)) -> 0
A70: 65 | C70: =IF(B70=0,0,VLOOKUP(B70,Register!$A$1:$B$1634,2,FALSE)) -> 0 | D70: =IF(B70=0,0,VLOOKUP(C70,Register!$B$1:$C$1634,2,FALSE)) -> 0
A71: 66 | C71: =IF(B71=0,0,VLOOKUP(B71,Register!$A$1:$B$1634,2,FALSE)) -> 0 | D71: =IF(B71=0,0,VLOOKUP(C71,Register!$B$1:$C$1634,2,FALSE)) -> 0
...

Sheet Y6G
A1: NEWQUAY & PAR AC JUNIOR SCHOOLS INTER AREA CROSS COUNTRY 2026
A2: 30 March 2026
A3: Results for Year 6 Girls
A5: Pos | B5: No | C5: forename | D5: School | E5: time
A6: 1 | B6: 420 | C6: =IF(B6=0,0,VLOOKUP(B6,Register!$A$1:$B$1634,2,FALSE)) -> Holly Stubbs Y6G | D6: =IF(B6=0,0,VLOOKUP(C6,Register!$B$1:$C$1634,2,FALSE)) -> St Columb Minor | E6: 8.35
A7: 2 | B7: 263 | C7: =IF(B7=0,0,VLOOKUP(B7,Register!$A$1:$B$1634,2,FALSE)) -> Emilia Kennedy Y6G | D7: =IF(B7=0,0,VLOOKUP(C7,Register!$B$1:$C$1634,2,FALSE)) -> pensilva | E7: 8.39
A8: 3 | B8: 506 | C8: =IF(B8=0,0,VLOOKUP(B8,Register!$A$1:$B$1634,2,FALSE)) -> Isla Y6G | D8: =IF(B8=0,0,VLOOKUP(C8,Register!$B$1:$C$1634,2,FALSE)) -> St Minver | E8: 8.42
A9: 4 | B9: 452 | C9: =IF(B9=0,0,VLOOKUP(B9,Register!$A$1:$B$1634,2,FALSE)) -> Willow Roberts Y6G | D9: =IF(B9=0,0,VLOOKUP(C9,Register!$B$1:$C$1634,2,FALSE)) -> St Columb Major | E9: 8.48
A10: 5 | B10: 64 | C10: =IF(B10=0,0,VLOOKUP(B10,Register!$A$1:$B$1634,2,FALSE)) -> Isabel Rowe Y6G | D10: =IF(B10=0,0,VLOOKUP(C10,Register!$B$1:$C$1634,2,FALSE)) -> St Petroc's, Bodmin | E10: 8.58
A11: 6 | B11: 140 | C11: =IF(B11=0,0,VLOOKUP(B11,Register!$A$1:$B$1634,2,FALSE)) -> Molly C Y6G | D11: =IF(B11=0,0,VLOOKUP(C11,Register!$B$1:$C$1634,2,FALSE)) -> St Mewan | E11: 9.05
A12: 7 | B12: 387 | C12: =IF(B12=0,0,VLOOKUP(B12,Register!$A$1:$B$1634,2,FALSE)) -> Delicia Rowaland Y6G | D12: =IF(B12=0,0,VLOOKUP(C12,Register!$B$1:$C$1634,2,FALSE)) -> Newquay Junior | E12: 9.06
A13: 8 | B13: 264 | C13: =IF(B13=0,0,VLOOKUP(B13,Register!$A$1:$B$1634,2,FALSE)) -> Shara Ingleby Y6G | D13: =IF(B13=0,0,VLOOKUP(C13,Register!$B$1:$C$1634,2,FALSE)) -> bishop cornish | E13: 9.08
A14: 9 | B14: 266 | C14: =IF(B14=0,0,VLOOKUP(B14,Register!$A$1:$B$1634,2,FALSE)) -> Evelyn Thomson Y6G | D14: =IF(B14=0,0,VLOOKUP(C14,Register!$B$1:$C$1634,2,FALSE)) -> Looe | E14: 9.1
A15: 10 | B15: 59 | C15: =IF(B15=0,0,VLOOKUP(B15,Register!$A$1:$B$1634,2,FALSE)) -> Sienna Hannaford Y6G | D15: =IF(B15=0,0,VLOOKUP(C15,Register!$B$1:$C$1634,2,FALSE)) -> Biscovey | E15: 9.16
A16: 11 | B16: 507 | C16: =IF(B16=0,0,VLOOKUP(B16,Register!$A$1:$B$1634,2,FALSE)) -> Summer Y6G | D16: =IF(B16=0,0,VLOOKUP(C16,Register!$B$1:$C$1634,2,FALSE)) -> St Breock | E16: 9.16
A17: 12 | B17: 267 | C17: =IF(B17=0,0,VLOOKUP(B17,Register!$A$1:$B$1634,2,FALSE)) -> Ivy Saunderson Y6G | D17: =IF(B17=0,0,VLOOKUP(C17,Register!$B$1:$C$1634,2,FALSE)) -> Antony | E17: 9.16
A18: 13 | C18: Lettice | D18: St Mewan | E18: 9.23
A19: 14 | B19: 393 | C19: =IF(B19=0,0,VLOOKUP(B19,Register!$A$1:$B$1634,2,FALSE)) -> Martha Karpinski Y6G | D19: =IF(B19=0,0,VLOOKUP(C19,Register!$B$1:$C$1634,2,FALSE)) -> Newquay Junior | E19: 9.24
A20: 15 | B20: 67 | C20: =IF(B20=0,0,VLOOKUP(B20,Register!$A$1:$B$1634,2,FALSE)) -> ellen s Y6G | D20: =IF(B20=0,0,VLOOKUP(C20,Register!$B$1:$C$1634,2,FALSE)) -> Tywardreath | E20: 9.26
A21: 16 | B21: 270 | C21: =IF(B21=0,0,VLOOKUP(B21,Register!$A$1:$B$1634,2,FALSE)) -> Skylar - Rose Hughes Y6G | D21: =IF(B21=0,0,VLOOKUP(C21,Register!$B$1:$C$1634,2,FALSE)) -> Otterham | E21: 9.29
A22: 17 | B22: 275 | C22: =IF(B22=0,0,VLOOKUP(B22,Register!$A$1:$B$1634,2,FALSE)) -> Eva Y6G | D22: =IF(B22=0,0,VLOOKUP(C22,Register!$B$1:$C$1634,2,FALSE)) -> Bude juniors | E22: 9.35
A23: 18 | C23: Ivy H | D23: Stratton | E23: 9.38
A24: 19 | B24: 430 | C24: =IF(B24=0,0,VLOOKUP(B24,Register!$A$1:$B$1634,2,FALSE)) -> Lilly Jennings Y6G | D24: =IF(B24=0,0,VLOOKUP(C24,Register!$B$1:$C$1634,2,FALSE)) -> Cubert | E24: 9.41
A25: 20 | B25: 268 | C25: =IF(B25=0,0,VLOOKUP(B25,Register!$A$1:$B$1634,2,FALSE)) -> Alisa Prykhodchenko Y6G | D25: =IF(B25=0,0,VLOOKUP(C25,Register!$B$1:$C$1634,2,FALSE)) -> Burraton | E25: 9.42
A26: 21 | B26: 389 | C26: =IF(B26=0,0,VLOOKUP(B26,Register!$A$1:$B$1634,2,FALSE)) -> Jessica Kenny Y6G | D26: =IF(B26=0,0,VLOOKUP(C26,Register!$B$1:$C$1634,2,FALSE)) -> Newquay Junior | E26: 9.43
A27: 22 | B27: 392 | C27: =IF(B27=0,0,VLOOKUP(B27,Register!$A$1:$B$1634,2,FALSE)) -> Alura Griffin Y6G | D27: =IF(B27=0,0,VLOOKUP(C27,Register!$B$1:$C$1634,2,FALSE)) -> Newquay Junior | E27: 9.53
A28: 23 | B28: 509 | C28: =IF(B28=0,0,VLOOKUP(B28,Register!$A$1:$B$1634,2,FALSE)) -> Lily Y6G | D28: =IF(B28=0,0,VLOOKUP(C28,Register!$B$1:$C$1634,2,FALSE)) -> St Breock | E28: 9.58
A29: 24 | B29: 69 | C29: =IF(B29=0,0,VLOOKUP(B29,Register!$A$1:$B$1634,2,FALSE)) -> betsy b Y6G | D29: =IF(B29=0,0,VLOOKUP(C29,Register!$B$1:$C$1634,2,FALSE)) -> Tywardreath | E29: 9.59
A30: 25 | B30: 61 | C30: =IF(B30=0,0,VLOOKUP(B30,Register!$A$1:$B$1634,2,FALSE)) -> Chloe MacKovy Y6G | D30: =IF(B30=0,0,VLOOKUP(C30,Register!$B$1:$C$1634,2,FALSE)) -> Gorran | E30: 10.09
A31: 26 | B31: 510 | C31: =IF(B31=0,0,VLOOKUP(B31,Register!$A$1:$B$1634,2,FALSE)) -> Harriet Y6G | D31: =IF(B31=0,0,VLOOKUP(C31,Register!$B$1:$C$1634,2,FALSE)) -> St Minver | E31: 10.09
A32: 27 | B32: 269 | C32: =IF(B32=0,0,VLOOKUP(B32,Register!$A$1:$B$1634,2,FALSE)) -> Zenner Lee Y6G | D32: =IF(B32=0,0,VLOOKUP(C32,Register!$B$1:$C$1634,2,FALSE)) -> Millbrook | E32: 10.1
A33: 28 | B33: 141 | C33: =IF(B33=0,0,VLOOKUP(B33,Register!$A$1:$B$1634,2,FALSE)) -> Poppy H Y6G | D33: =IF(B33=0,0,VLOOKUP(C33,Register!$B$1:$C$1634,2,FALSE)) -> St Mewan | E33: 10.13
A34: 29 | B34: 71 | C34: =IF(B34=0,0,VLOOKUP(B34,Register!$A$1:$B$1634,2,FALSE)) -> Lola H Y6G | D34: =IF(B34=0,0,VLOOKUP(C34,Register!$B$1:$C$1634,2,FALSE)) -> Sandy Hill | E34: 10.16
A35: 30 | C35: Evelyn | D35: Mawgan in pydar | E35: 10.17
A36: 31 | B36: 140 | C36: =IF(B36=0,0,VLOOKUP(B36,Register!$A$1:$B$1634,2,FALSE)) -> Molly C Y6G | D36: =IF(B36=0,0,VLOOKUP(C36,Register!$B$1:$C$1634,2,FALSE)) -> St Mewan | E36: 10.18
A37: 32 | B37: 386 | C37: =IF(B37=0,0,VLOOKUP(B37,Register!$A$1:$B$1634,2,FALSE)) -> Daisy Dewar Y6G | D37: =IF(B37=0,0,VLOOKUP(C37,Register!$B$1:$C$1634,2,FALSE)) -> Newquay Junior | E37: 10.18
A38: 33 | B38: 441 | C38: =IF(B38=0,0,VLOOKUP(B38,Register!$A$1:$B$1634,2,FALSE)) -> Maribel Teagle Y6G | D38: =IF(B38=0,0,VLOOKUP(C38,Register!$B$1:$C$1634,2,FALSE)) -> Perranporth | E38: 10.22
A39: 34 | B39: 388 | C39: =IF(B39=0,0,VLOOKUP(B39,Register!$A$1:$B$1634,2,FALSE)) -> Aoife Ashworth Y6G | D39: =IF(B39=0,0,VLOOKUP(C39,Register!$B$1:$C$1634,2,FALSE)) -> Newquay Junior | E39: 10.24
A40: 35 | B40: 139 | C40: =IF(B40=0,0,VLOOKUP(B40,Register!$A$1:$B$1634,2,FALSE)) -> Otillie R Y6G | D40: =IF(B40=0,0,VLOOKUP(C40,Register!$B$1:$C$1634,2,FALSE)) -> St Mewan | E40: 10.32
A41: 36 | B41: 442 | C41: =IF(B41=0,0,VLOOKUP(B41,Register!$A$1:$B$1634,2,FALSE)) -> Maya Wade Y6G | D41: =IF(B41=0,0,VLOOKUP(C41,Register!$B$1:$C$1634,2,FALSE)) -> Perranporth | E41: 10.35
...

Sheet Y6B
A1: NEWQUAY & PAR AC JUNIOR SCHOOLS INTER AREA CROSS COUNTRY 2026
A2: 30 March 2026
A3: Results for Year 6 Boys
A5: Pos | B5: No | C5: forename | D5: School | E5: time
A6: 1 | B6: 496 | C6: =IF(B6=0,0,VLOOKUP(B6,Register!$A$1:$B$1634,2,FALSE)) -> Theo Y6B | D6: =IF(B6=0,0,VLOOKUP(C6,Register!$B$1:$C$1634,2,FALSE)) -> St Minver | E6: 8.24
A7: 2 | B7: 278 | C7: =IF(B7=0,0,VLOOKUP(B7,Register!$A$1:$B$1634,2,FALSE)) -> Connor Francombe Y6B | D7: =IF(B7=0,0,VLOOKUP(C7,Register!$B$1:$C$1634,2,FALSE)) -> lewannick | E7: 8.31
A8: 3 | B8: 422 | C8: =IF(B8=0,0,VLOOKUP(B8,Register!$A$1:$B$1634,2,FALSE)) -> Fyn Elliot Y6B | D8: =IF(B8=0,0,VLOOKUP(C8,Register!$B$1:$C$1634,2,FALSE)) -> St Columb Minor | E8: 8.38
A9: 4 | B9: 277 | C9: =IF(B9=0,0,VLOOKUP(B9,Register!$A$1:$B$1634,2,FALSE)) -> Jacob Sweeney Y6B | D9: =IF(B9=0,0,VLOOKUP(C9,Register!$B$1:$C$1634,2,FALSE)) -> bishop cornish | E9: 8.42
A10: 5 | B10: 279 | C10: =IF(B10=0,0,VLOOKUP(B10,Register!$A$1:$B$1634,2,FALSE)) -> Tayten Hamson Y6B | D10: =IF(B10=0,0,VLOOKUP(C10,Register!$B$1:$C$1634,2,FALSE)) -> liskeard hillfort | E10: 8.47
A11: 6 | B11: 282 | C11: =IF(B11=0,0,VLOOKUP(B11,Register!$A$1:$B$1634,2,FALSE)) -> Cooper Keen Y6B | D11: =IF(B11=0,0,VLOOKUP(C11,Register!$B$1:$C$1634,2,FALSE)) -> Antony | E11: 8.47
A12: 7 | B12: 283 | C12: =IF(B12=0,0,VLOOKUP(B12,Register!$A$1:$B$1634,2,FALSE)) -> Baranby Stacey Y6B | D12: =IF(B12=0,0,VLOOKUP(C12,Register!$B$1:$C$1634,2,FALSE)) -> lewannick | E12: 8.5
A13: 8 | B13: 284 | C13: =IF(B13=0,0,VLOOKUP(B13,Register!$A$1:$B$1634,2,FALSE)) -> Teddy Lawrence Y6B | D13: =IF(B13=0,0,VLOOKUP(C13,Register!$B$1:$C$1634,2,FALSE)) -> Burraton | E13: 8.51
A14: 9 | B14: 280 | C14: =IF(B14=0,0,VLOOKUP(B14,Register!$A$1:$B$1634,2,FALSE)) -> Edward George Y6B | D14: =IF(B14=0,0,VLOOKUP(C14,Register!$B$1:$C$1634,2,FALSE)) -> carbeile | E14: 8.53
A15: 10 | B15: 502 | C15: =IF(B15=0,0,VLOOKUP(B15,Register!$A$1:$B$1634,2,FALSE)) -> Ben Y6B | D15: =IF(B15=0,0,VLOOKUP(C15,Register!$B$1:$C$1634,2,FALSE)) -> Padstow | E15: 8.56
A16: 11 | B16: 436 | C16: =IF(B16=0,0,VLOOKUP(B16,Register!$A$1:$B$1634,2,FALSE)) -> Oli Wilson Y6B | D16: =IF(B16=0,0,VLOOKUP(C16,Register!$B$1:$C$1634,2,FALSE)) -> Newquay Junior | E16: 9.02
A17: 12 | B17: 427 | C17: =IF(B17=0,0,VLOOKUP(B17,Register!$A$1:$B$1634,2,FALSE)) -> Freddie Scott Y6B | D17: =IF(B17=0,0,VLOOKUP(C17,Register!$B$1:$C$1634,2,FALSE)) -> St Columb Minor | E17: 9.06
A18: 13 | B18: 289 | C18: =IF(B18=0,0,VLOOKUP(B18,Register!$A$1:$B$1634,2,FALSE)) -> Henry Y6B | D18: =IF(B18=0,0,VLOOKUP(C18,Register!$B$1:$C$1634,2,FALSE)) -> Bude juniors | E18: 9.07
A19: 14 | C19: Casper | D19: Cubert | E19: 9.08
A20: 15 | B20: 437 | C20: =IF(B20=0,0,VLOOKUP(B20,Register!$A$1:$B$1634,2,FALSE)) -> Charlie Rai Y6B | D20: =IF(B20=0,0,VLOOKUP(C20,Register!$B$1:$C$1634,2,FALSE)) -> Newquay Junior | E20: 9.08
A21: 16 | B21: 281 | C21: =IF(B21=0,0,VLOOKUP(B21,Register!$A$1:$B$1634,2,FALSE)) -> Harvey Cornish Y6B | D21: =IF(B21=0,0,VLOOKUP(C21,Register!$B$1:$C$1634,2,FALSE)) -> carbeile | E21: 9.1
A22: 17 | B22: 444 | C22: =IF(B22=0,0,VLOOKUP(B22,Register!$A$1:$B$1634,2,FALSE)) -> Arthur Bennett Y6B | D22: =IF(B22=0,0,VLOOKUP(C22,Register!$B$1:$C$1634,2,FALSE)) -> Perranporth | E22: 9.11
A23: 18 | B23: 426 | C23: =IF(B23=0,0,VLOOKUP(B23,Register!$A$1:$B$1634,2,FALSE)) -> Raef Balwin-Amiss Y6B | D23: =IF(B23=0,0,VLOOKUP(C23,Register!$B$1:$C$1634,2,FALSE)) -> St Columb Minor | E23: 9.12
A24: 19 | B24: 287 | C24: =IF(B24=0,0,VLOOKUP(B24,Register!$A$1:$B$1634,2,FALSE)) -> Alfie P Y6B | D24: =IF(B24=0,0,VLOOKUP(C24,Register!$B$1:$C$1634,2,FALSE)) -> lewannick | E24: 9.14
A25: 20 | B25: 424 | C25: =IF(B25=0,0,VLOOKUP(B25,Register!$A$1:$B$1634,2,FALSE)) -> Zac Elliot Y6B | D25: =IF(B25=0,0,VLOOKUP(C25,Register!$B$1:$C$1634,2,FALSE)) -> St Columb Minor | E25: 9.14
A26: 21 | B26: 440 | C26: =IF(B26=0,0,VLOOKUP(B26,Register!$A$1:$B$1634,2,FALSE)) -> Leo Guest Y6B | D26: =IF(B26=0,0,VLOOKUP(C26,Register!$B$1:$C$1634,2,FALSE)) -> Newquay Junior | E26: 9.14
A27: 22 | B27: 499 | C27: =IF(B27=0,0,VLOOKUP(B27,Register!$A$1:$B$1634,2,FALSE)) -> Ted Y6B | D27: =IF(B27=0,0,VLOOKUP(C27,Register!$B$1:$C$1634,2,FALSE)) -> St Breock | E27: 9.17
A28: 23 | C28: Max | D28: Stratton | E28: 9.18
A29: 24 | B29: 425 | C29: =IF(B29=0,0,VLOOKUP(B29,Register!$A$1:$B$1634,2,FALSE)) -> Farzan Faizy Y6B | D29: =IF(B29=0,0,VLOOKUP(C29,Register!$B$1:$C$1634,2,FALSE)) -> St Columb Minor | E29: 9.21
A30: 25 | B30: 428 | C30: =IF(B30=0,0,VLOOKUP(B30,Register!$A$1:$B$1634,2,FALSE)) -> Ollie H Y6B | D30: =IF(B30=0,0,VLOOKUP(C30,Register!$B$1:$C$1634,2,FALSE)) -> Summercout | E30: 9.21
A31: 26 | B31: 131 | C31: =IF(B31=0,0,VLOOKUP(B31,Register!$A$1:$B$1634,2,FALSE)) -> Teddy M Y6B | D31: =IF(B31=0,0,VLOOKUP(C31,Register!$B$1:$C$1634,2,FALSE)) -> Mount Charles | E31: 9.21
A32: 27 | B32: 498 | C32: =IF(B32=0,0,VLOOKUP(B32,Register!$A$1:$B$1634,2,FALSE)) -> Jowan Y6B | D32: =IF(B32=0,0,VLOOKUP(C32,Register!$B$1:$C$1634,2,FALSE)) -> St Kew | E32: 9.21
A33: 28 | B33: 501 | C33: =IF(B33=0,0,VLOOKUP(B33,Register!$A$1:$B$1634,2,FALSE)) -> Callum Y6B | D33: =IF(B33=0,0,VLOOKUP(C33,Register!$B$1:$C$1634,2,FALSE)) -> Wadebridge | E33: 9.23
A34: 29 | B34: 136 | C34: =IF(B34=0,0,VLOOKUP(B34,Register!$A$1:$B$1634,2,FALSE)) -> Hugo E Y6B | D34: =IF(B34=0,0,VLOOKUP(C34,Register!$B$1:$C$1634,2,FALSE)) -> St Mewan | E34: 9.23
A35: 30 | B35: 85 | C35: =IF(B35=0,0,VLOOKUP(B35,Register!$A$1:$B$1634,2,FALSE)) -> Jack Y6B | D35: =IF(B35=0,0,VLOOKUP(C35,Register!$B$1:$C$1634,2,FALSE)) -> Treverbyn | E35: 9.27
A36: 31 | B36: 453 | C36: =IF(B36=0,0,VLOOKUP(B36,Register!$A$1:$B$1634,2,FALSE)) -> Fionn Spurrell Y6B | D36: =IF(B36=0,0,VLOOKUP(C36,Register!$B$1:$C$1634,2,FALSE)) -> St Columb Major | E36: 9.27
A37: 32 | B37: 447 | C37: =IF(B37=0,0,VLOOKUP(B37,Register!$A$1:$B$1634,2,FALSE)) -> Josh Mitchell Y6B | D37: =IF(B37=0,0,VLOOKUP(C37,Register!$B$1:$C$1634,2,FALSE)) -> St Newlyn East | E37: 9.29
A38: 33 | C38: Morgan | D38: Mawgan in pydar | E38: 9.29
A39: 34 | B39: 92 | C39: =IF(B39=0,0,VLOOKUP(B39,Register!$A$1:$B$1634,2,FALSE)) -> Cory McCaffrey Y6B | D39: =IF(B39=0,0,VLOOKUP(C39,Register!$B$1:$C$1634,2,FALSE)) -> St Stephen in Brannell | E39: 9.29
A40: 35 | B40: 135 | C40: =IF(B40=0,0,VLOOKUP(B40,Register!$A$1:$B$1634,2,FALSE)) -> Toby Y6B | D40: =IF(B40=0,0,VLOOKUP(C40,Register!$B$1:$C$1634,2,FALSE)) -> Mevagissey | E40: 9.3
A41: 36 | B41: 76 | C41: =IF(B41=0,0,VLOOKUP(B41,Register!$A$1:$B$1634,2,FALSE)) -> Seth Pickles Y6B | D41: =IF(B41=0,0,VLOOKUP(C41,Register!$B$1:$C$1634,2,FALSE)) -> Biscovey | E41: 9.34
...
